Back to Workflows build report for BioC 3.22

This page was generated on 2025-11-04 16:30 -0500 (Tue, 04 Nov 2025).

HostnameOSArch (*)R versionInstalled pkgs
nebbiolo2Linux (Ubuntu 24.04.3 LTS)x86_644.5.1 Patched (2025-08-23 r88802) -- "Great Square Root" 4902
lconwaymacOS 12.7.6 Montereyx86_644.5.1 Patched (2025-09-10 r88807) -- "Great Square Root" 4692
Click on any hostname to see more info about the system (e.g. compilers)      (*) as reported by 'uname -p', except on Windows and Mac OS X

Package 6/29HostnameOS / ArchINSTALLBUILD
csawUsersGuide 1.26.0  (landing page)
Aaron Lun
Snapshot Date: 2025-11-04 12:45 -0500 (Tue, 04 Nov 2025)
git_url: https://git.bioconductor.org/packages/csawUsersGuide
git_branch: RELEASE_3_22
git_last_commit: 5827d1b
git_last_commit_date: 2025-10-29 09:47:19 -0500 (Wed, 29 Oct 2025)
nebbiolo2Linux (Ubuntu 24.04.3 LTS) / x86_64  OK    OK  YES
lconwaymacOS 12.7.6 Monterey / x86_64  OK    OK  


BUILD results for csawUsersGuide on nebbiolo2

To the developers/maintainers of the csawUsersGuide package:
- Use the following Renviron settings to reproduce errors and warnings.
- If 'R CMD check' started to fail recently on the Linux builder(s) over a missing dependency, add the missing dependency to 'Suggests:' in your DESCRIPTION file. See Renviron.bioc for more information.

raw results


Summary

Package: csawUsersGuide
Version: 1.26.0
Command: /home/biocbuild/bbs-3.22-bioc/R/bin/R CMD build --keep-empty-dirs --no-resave-data csawUsersGuide
StartedAt: 2025-11-04 13:04:57 -0500 (Tue, 04 Nov 2025)
EndedAt: 2025-11-04 13:05:02 -0500 (Tue, 04 Nov 2025)
EllapsedTime: 5.0 seconds
RetCode: 0
Status:   OK  
PackageFile: csawUsersGuide_1.26.0.tar.gz
PackageFileSize: 35.64 KiB

Command output

##############################################################################
##############################################################################
###
### Running command:
###
###   /home/biocbuild/bbs-3.22-bioc/R/bin/R CMD build --keep-empty-dirs --no-resave-data csawUsersGuide
###
##############################################################################
##############################################################################


* checking for file ‘csawUsersGuide/DESCRIPTION’ ... OK
* preparing ‘csawUsersGuide’:
* checking DESCRIPTION meta-information ... OK
* installing the package to build vignettes
* creating vignettes ... OK
* checking for LF line-endings in source and make files and shell scripts
* checking for empty or unneeded directories
* creating default NAMESPACE file
* building ‘csawUsersGuide_1.26.0.tar.gz’