Back to Workflows build report for BioC 3.22

This page was generated on 2025-11-04 16:30 -0500 (Tue, 04 Nov 2025).

HostnameOSArch (*)R versionInstalled pkgs
nebbiolo2Linux (Ubuntu 24.04.3 LTS)x86_644.5.1 Patched (2025-08-23 r88802) -- "Great Square Root" 4902
lconwaymacOS 12.7.6 Montereyx86_644.5.1 Patched (2025-09-10 r88807) -- "Great Square Root" 4692
Click on any hostname to see more info about the system (e.g. compilers)      (*) as reported by 'uname -p', except on Windows and Mac OS X

Package 19/29HostnameOS / ArchINSTALLBUILD
RNAseq123 1.34.0  (landing page)
Matthew Ritchie
Snapshot Date: 2025-11-04 12:45 -0500 (Tue, 04 Nov 2025)
git_url: https://git.bioconductor.org/packages/RNAseq123
git_branch: RELEASE_3_22
git_last_commit: 00fed9e
git_last_commit_date: 2025-10-29 09:46:55 -0500 (Wed, 29 Oct 2025)
nebbiolo2Linux (Ubuntu 24.04.3 LTS) / x86_64  OK    OK  YES
lconwaymacOS 12.7.6 Monterey / x86_64  OK    OK  


INSTALL results for RNAseq123 on nebbiolo2

To the developers/maintainers of the RNAseq123 package:
- Use the following Renviron settings to reproduce errors and warnings.
- If 'R CMD check' started to fail recently on the Linux builder(s) over a missing dependency, add the missing dependency to 'Suggests:' in your DESCRIPTION file. See Renviron.bioc for more information.

raw results


Summary

Package: RNAseq123
Version: 1.34.0
Command: /home/biocbuild/bbs-3.22-bioc/R/bin/R CMD INSTALL RNAseq123
StartedAt: 2025-11-04 13:01:12 -0500 (Tue, 04 Nov 2025)
EndedAt: 2025-11-04 13:01:42 -0500 (Tue, 04 Nov 2025)
EllapsedTime: 29.5 seconds
RetCode: 0
Status:   OK  

Command output

##############################################################################
##############################################################################
###
### Running command:
###
###   /home/biocbuild/bbs-3.22-bioc/R/bin/R CMD INSTALL RNAseq123
###
##############################################################################
##############################################################################


* installing to library ‘/home/biocbuild/bbs-3.22-bioc/R/site-library’
* installing *source* package ‘RNAseq123’ ...
** this is package ‘RNAseq123’ version ‘1.34.0’
** using staged installation
** inst
** help
No man pages found in package  ‘RNAseq123’ 
*** installing help indices
** building package indices
** installing vignettes
** testing if installed package can be loaded from temporary location
** testing if installed package can be loaded from final location
** testing if installed package keeps a record of temporary installation path
* DONE (RNAseq123)