Back to Build/check report for BioC 3.20 experimental data
ABCDEFGHIJKLMNOPQR[S]TUVWXYZ

This page was generated on 2025-02-06 15:42 -0500 (Thu, 06 Feb 2025).

HostnameOSArch (*)R versionInstalled pkgs
nebbiolo2Linux (Ubuntu 24.04.1 LTS)x86_644.4.2 (2024-10-31) -- "Pile of Leaves" 4753
Click on any hostname to see more info about the system (e.g. compilers)      (*) as reported by 'uname -p', except on Windows and Mac OS X

Package 356/431HostnameOS / ArchINSTALLBUILDCHECK
scRNAseq 2.20.0  (landing page)
Aaron Lun
Snapshot Date: 2025-02-06 07:30 -0500 (Thu, 06 Feb 2025)
git_url: https://git.bioconductor.org/packages/scRNAseq
git_branch: RELEASE_3_20
git_last_commit: 40e3e5b
git_last_commit_date: 2024-10-29 09:46:12 -0500 (Tue, 29 Oct 2024)
nebbiolo2Linux (Ubuntu 24.04.1 LTS) / x86_64  OK    OK    OK  UNNEEDED, same version is already published


CHECK results for scRNAseq on nebbiolo2

To the developers/maintainers of the scRNAseq package:
- Use the following Renviron settings to reproduce errors and warnings.
- If 'R CMD check' started to fail recently on the Linux builder(s) over a missing dependency, add the missing dependency to 'Suggests:' in your DESCRIPTION file. See Renviron.bioc for more information.

raw results


Summary

Package: scRNAseq
Version: 2.20.0
Command: /home/biocbuild/bbs-3.20-bioc/R/bin/R CMD check --install=check:scRNAseq.install-out.txt --library=/home/biocbuild/bbs-3.20-bioc/R/site-library --timings scRNAseq_2.20.0.tar.gz
StartedAt: 2025-02-06 12:36:54 -0500 (Thu, 06 Feb 2025)
EndedAt: 2025-02-06 12:50:54 -0500 (Thu, 06 Feb 2025)
EllapsedTime: 840.1 seconds
RetCode: 0
Status:   OK  
CheckDir: scRNAseq.Rcheck
Warnings: 0

Command output

##############################################################################
##############################################################################
###
### Running command:
###
###   /home/biocbuild/bbs-3.20-bioc/R/bin/R CMD check --install=check:scRNAseq.install-out.txt --library=/home/biocbuild/bbs-3.20-bioc/R/site-library --timings scRNAseq_2.20.0.tar.gz
###
##############################################################################
##############################################################################


* using log directory ‘/home/biocbuild/bbs-3.20-data-experiment/meat/scRNAseq.Rcheck’
* using R version 4.4.2 (2024-10-31)
* using platform: x86_64-pc-linux-gnu
* R was compiled by
    gcc (Ubuntu 13.2.0-23ubuntu4) 13.2.0
    GNU Fortran (Ubuntu 13.2.0-23ubuntu4) 13.2.0
* running under: Ubuntu 24.04.1 LTS
* using session charset: UTF-8
* checking for file ‘scRNAseq/DESCRIPTION’ ... OK
* this is package ‘scRNAseq’ version ‘2.20.0’
* package encoding: UTF-8
* checking package namespace information ... OK
* checking package dependencies ... OK
* checking if this is a source package ... OK
* checking if there is a namespace ... OK
* checking for hidden files and directories ... NOTE
Found the following hidden files and directories:
  .BBSoptions
These were most likely included in error. See section ‘Package
structure’ in the ‘Writing R Extensions’ manual.
* checking for portable file names ... OK
* checking for sufficient/correct file permissions ... OK
* checking whether package ‘scRNAseq’ can be installed ... OK
* checking installed package size ... OK
* checking package directory ... OK
* checking ‘build’ directory ... OK
* checking DESCRIPTION meta-information ... OK
* checking top-level files ... OK
* checking for left-over files ... OK
* checking index information ... OK
* checking package subdirectories ... OK
* checking code files for non-ASCII characters ... OK
* checking R files for syntax errors ... OK
* checking whether the package can be loaded ... OK
* checking whether the package can be loaded with stated dependencies ... OK
* checking whether the package can be unloaded cleanly ... OK
* checking whether the namespace can be loaded with stated dependencies ... OK
* checking whether the namespace can be unloaded cleanly ... OK
* checking loading without being on the library search path ... OK
* checking dependencies in R code ... OK
* checking S3 generic/method consistency ... OK
* checking replacement functions ... OK
* checking foreign function calls ... OK
* checking R code for possible problems ... OK
* checking Rd files ... OK
* checking Rd metadata ... OK
* checking Rd cross-references ... OK
* checking for missing documentation entries ... OK
* checking for code/documentation mismatches ... OK
* checking Rd \usage sections ... OK
* checking Rd contents ... OK
* checking for unstated dependencies in examples ... OK
* checking files in ‘vignettes’ ... OK
* checking examples ... OK
Examples with CPU (user + system) or elapsed time > 5s
                           user system elapsed
BhaduriOrganoidData      23.224  8.271  31.873
HeOrganAtlasData         12.534  8.687  21.400
BacherTCellData          16.293  4.296  21.098
ZeiselNervousData        13.062  4.711  18.221
JessaBrainData            9.500  4.316  14.206
ErnstSpermatogenesisData  9.636  2.816  12.806
StoeckiusHashingData      8.144  0.935   9.894
ZhaoImmuneLiverData       5.164  2.267   7.656
BachMammaryData           6.762  0.565   8.640
AztekinTailData           6.407  0.661   7.102
GiladiHSCData             4.673  2.278   7.053
LunSpikeInData            5.593  0.268   6.337
ZilionisLungData          4.045  0.971   5.142
* checking for unstated dependencies in ‘tests’ ... OK
* checking tests ...
  Running ‘testthat.R’
 OK
* checking for unstated dependencies in vignettes ... OK
* checking package vignettes ... OK
* checking re-building of vignette outputs ... OK
* checking PDF version of manual ... OK
* DONE

Status: 1 NOTE
See
  ‘/home/biocbuild/bbs-3.20-data-experiment/meat/scRNAseq.Rcheck/00check.log’
for details.


Installation output

scRNAseq.Rcheck/00install.out

##############################################################################
##############################################################################
###
### Running command:
###
###   /home/biocbuild/bbs-3.20-bioc/R/bin/R CMD INSTALL scRNAseq
###
##############################################################################
##############################################################################


* installing to library ‘/home/biocbuild/bbs-3.20-bioc/R/site-library’
* installing *source* package ‘scRNAseq’ ...
** using staged installation
** R
** inst
** byte-compile and prepare package for lazy loading
** help
*** installing help indices
** building package indices
** installing vignettes
** testing if installed package can be loaded from temporary location
** testing if installed package can be loaded from final location
** testing if installed package keeps a record of temporary installation path
* DONE (scRNAseq)

Tests output

scRNAseq.Rcheck/tests/testthat.Rout


R version 4.4.2 (2024-10-31) -- "Pile of Leaves"
Copyright (C) 2024 The R Foundation for Statistical Computing
Platform: x86_64-pc-linux-gnu

R is free software and comes with ABSOLUTELY NO WARRANTY.
You are welcome to redistribute it under certain conditions.
Type 'license()' or 'licence()' for distribution details.

R is a collaborative project with many contributors.
Type 'contributors()' for more information and
'citation()' on how to cite R or R packages in publications.

Type 'demo()' for some demos, 'help()' for on-line help, or
'help.start()' for an HTML browser interface to help.
Type 'q()' to quit R.

> library(testthat)
> library(scRNAseq)
Loading required package: SingleCellExperiment
Loading required package: SummarizedExperiment
Loading required package: MatrixGenerics
Loading required package: matrixStats

Attaching package: 'MatrixGenerics'

The following objects are masked from 'package:matrixStats':

    colAlls, colAnyNAs, colAnys, colAvgsPerRowSet, colCollapse,
    colCounts, colCummaxs, colCummins, colCumprods, colCumsums,
    colDiffs, colIQRDiffs, colIQRs, colLogSumExps, colMadDiffs,
    colMads, colMaxs, colMeans2, colMedians, colMins, colOrderStats,
    colProds, colQuantiles, colRanges, colRanks, colSdDiffs, colSds,
    colSums2, colTabulates, colVarDiffs, colVars, colWeightedMads,
    colWeightedMeans, colWeightedMedians, colWeightedSds,
    colWeightedVars, rowAlls, rowAnyNAs, rowAnys, rowAvgsPerColSet,
    rowCollapse, rowCounts, rowCummaxs, rowCummins, rowCumprods,
    rowCumsums, rowDiffs, rowIQRDiffs, rowIQRs, rowLogSumExps,
    rowMadDiffs, rowMads, rowMaxs, rowMeans2, rowMedians, rowMins,
    rowOrderStats, rowProds, rowQuantiles, rowRanges, rowRanks,
    rowSdDiffs, rowSds, rowSums2, rowTabulates, rowVarDiffs, rowVars,
    rowWeightedMads, rowWeightedMeans, rowWeightedMedians,
    rowWeightedSds, rowWeightedVars

Loading required package: GenomicRanges
Loading required package: stats4
Loading required package: BiocGenerics

Attaching package: 'BiocGenerics'

The following objects are masked from 'package:stats':

    IQR, mad, sd, var, xtabs

The following objects are masked from 'package:base':

    Filter, Find, Map, Position, Reduce, anyDuplicated, aperm, append,
    as.data.frame, basename, cbind, colnames, dirname, do.call,
    duplicated, eval, evalq, get, grep, grepl, intersect, is.unsorted,
    lapply, mapply, match, mget, order, paste, pmax, pmax.int, pmin,
    pmin.int, rank, rbind, rownames, sapply, saveRDS, setdiff, table,
    tapply, union, unique, unsplit, which.max, which.min

Loading required package: S4Vectors

Attaching package: 'S4Vectors'

The following object is masked from 'package:utils':

    findMatches

The following objects are masked from 'package:base':

    I, expand.grid, unname

Loading required package: IRanges
Loading required package: GenomeInfoDb
Loading required package: Biobase
Welcome to Bioconductor

    Vignettes contain introductory material; view with
    'browseVignettes()'. To cite Bioconductor, see
    'citation("Biobase")', and for packages 'citation("pkgname")'.


Attaching package: 'Biobase'

The following object is masked from 'package:MatrixGenerics':

    rowMedians

The following objects are masked from 'package:matrixStats':

    anyMissing, rowMedians

> test_check("scRNAseq")
[ FAIL 0 | WARN 35 | SKIP 1 | PASS 176 ]

══ Skipped tests (1) ═══════════════════════════════════════════════════════════
• is.null(gh_token) is TRUE (1): 'test-uploadDirectory.R:59:5'

[ FAIL 0 | WARN 35 | SKIP 1 | PASS 176 ]
Warning message:
call dbDisconnect() when finished working with a connection 
> 
> proc.time()
   user  system elapsed 
270.565  26.969 316.117 

Example timings

scRNAseq.Rcheck/scRNAseq-Ex.timings

nameusersystemelapsed
AztekinTailData6.4070.6617.102
BachMammaryData6.7620.5658.640
BacherTCellData16.293 4.29621.098
BaronPancreasData0.9690.1031.089
BhaduriOrganoidData23.224 8.27131.873
BuettnerESCData2.9350.2593.506
BunisHSPCData0.9500.3921.362
CampbellBrainData1.7730.9162.725
ChenBrainData0.9170.4081.520
DarmanisBrainData0.2360.0200.261
ERCCSpikeInConcentrations0.0190.0000.022
ErnstSpermatogenesisData 9.636 2.81612.806
FletcherOlfactoryData0.7490.2320.991
GiladiHSCData4.6732.2787.053
GrunHSCData0.2120.0490.266
GrunPancreasData0.4840.1010.592
HeOrganAtlasData12.534 8.68721.400
HermannSpermatogenesisData0.8190.3791.210
HuCortexData0.4860.1650.660
JessaBrainData 9.500 4.31614.206
KolodziejczykESCData3.1050.2373.631
KotliarovPBMCData2.4740.5613.247
LaMannoBrainData2.5990.5793.207
LawlorPancreasData0.7940.0630.893
LedergorMyelomaData1.3490.0771.472
LengESCData0.4800.0460.566
LunSpikeInData5.5930.2686.337
MacoskoRetinaData1.5550.3692.014
MairPBMCData0.4440.0140.471
MarquesBrainData0.7570.0710.841
MessmerESCData3.5680.2184.067
MuraroPancreasData0.8460.0320.889
NestorowaHSCData3.9090.3474.505
NowakowskiCortexData1.4070.0571.475
PaulHSCData2.7460.2523.011
PollenGliaData0.2200.0150.238
ReprocessedData1.9540.1172.138
RichardTCellData2.7540.1363.121
RomanovBrainData0.4660.0120.487
SegerstolpePancreasData1.0920.2471.355
ShekharRetinaData2.0130.4622.564
StoeckiusHashingData8.1440.9359.894
TasicBrainData1.6800.3142.216
UsoskinBrainData0.6240.0800.716
WuKidneyData0.3500.0450.405
XinPancreasData1.1560.2021.367
ZeiselBrainData1.5090.1951.718
ZeiselNervousData13.062 4.71118.221
ZhaoImmuneLiverData5.1642.2677.656
ZhongPrefrontalData0.5810.0770.667
ZilionisLungData4.0450.9715.142
countErccMolecules0.0330.0000.033
fetchDataset0.4090.0040.413
listDatasets0.0090.0000.010
listVersions0.0780.0000.951
polishDataset0.1390.0010.139
saveDataset0.9770.0260.875
searchDatasets1.3040.0141.504
surveyDatasets0.9530.0000.954