Back to Build/check report for BioC 3.20 experimental data
ABCDEFGHIJKL[M]NOPQRSTUVWXYZ

This page was generated on 2025-02-11 15:42 -0500 (Tue, 11 Feb 2025).

HostnameOSArch (*)R versionInstalled pkgs
nebbiolo2Linux (Ubuntu 24.04.1 LTS)x86_644.4.2 (2024-10-31) -- "Pile of Leaves" 4767
Click on any hostname to see more info about the system (e.g. compilers)      (*) as reported by 'uname -p', except on Windows and Mac OS X

Package 249/431HostnameOS / ArchINSTALLBUILDCHECK
miRNATarget 1.44.0  (landing page)
Y-h. Taguchi
Snapshot Date: 2025-02-11 07:30 -0500 (Tue, 11 Feb 2025)
git_url: https://git.bioconductor.org/packages/miRNATarget
git_branch: RELEASE_3_20
git_last_commit: ad8709a
git_last_commit_date: 2024-10-29 09:29:36 -0500 (Tue, 29 Oct 2024)
nebbiolo2Linux (Ubuntu 24.04.1 LTS) / x86_64  OK    OK    OK  UNNEEDED, same version is already published


CHECK results for miRNATarget on nebbiolo2

To the developers/maintainers of the miRNATarget package:
- Use the following Renviron settings to reproduce errors and warnings.
- If 'R CMD check' started to fail recently on the Linux builder(s) over a missing dependency, add the missing dependency to 'Suggests:' in your DESCRIPTION file. See Renviron.bioc for more information.

raw results


Summary

Package: miRNATarget
Version: 1.44.0
Command: /home/biocbuild/bbs-3.20-bioc/R/bin/R CMD check --install=check:miRNATarget.install-out.txt --library=/home/biocbuild/bbs-3.20-bioc/R/site-library --timings miRNATarget_1.44.0.tar.gz
StartedAt: 2025-02-11 12:23:08 -0500 (Tue, 11 Feb 2025)
EndedAt: 2025-02-11 12:24:29 -0500 (Tue, 11 Feb 2025)
EllapsedTime: 81.3 seconds
RetCode: 0
Status:   OK  
CheckDir: miRNATarget.Rcheck
Warnings: 0

Command output

##############################################################################
##############################################################################
###
### Running command:
###
###   /home/biocbuild/bbs-3.20-bioc/R/bin/R CMD check --install=check:miRNATarget.install-out.txt --library=/home/biocbuild/bbs-3.20-bioc/R/site-library --timings miRNATarget_1.44.0.tar.gz
###
##############################################################################
##############################################################################


* using log directory ‘/home/biocbuild/bbs-3.20-data-experiment/meat/miRNATarget.Rcheck’
* using R version 4.4.2 (2024-10-31)
* using platform: x86_64-pc-linux-gnu
* R was compiled by
    gcc (Ubuntu 13.2.0-23ubuntu4) 13.2.0
    GNU Fortran (Ubuntu 13.2.0-23ubuntu4) 13.2.0
* running under: Ubuntu 24.04.1 LTS
* using session charset: UTF-8
* checking for file ‘miRNATarget/DESCRIPTION’ ... OK
* this is package ‘miRNATarget’ version ‘1.44.0’
* checking package namespace information ... OK
* checking package dependencies ... OK
* checking if this is a source package ... OK
* checking if there is a namespace ... OK
* checking for hidden files and directories ... NOTE
Found the following hidden files and directories:
  vignettes/.goutputstream-8N717W
These were most likely included in error. See section ‘Package
structure’ in the ‘Writing R Extensions’ manual.
* checking for portable file names ... OK
* checking for sufficient/correct file permissions ... OK
* checking whether package ‘miRNATarget’ can be installed ... OK
* checking installed package size ... NOTE
  installed size is 59.6Mb
  sub-directories of 1Mb or more:
    data  59.3Mb
* checking package directory ... OK
* checking ‘build’ directory ... OK
* checking DESCRIPTION meta-information ... NOTE
Malformed Description field: should contain one or more complete sentences.
* checking top-level files ... OK
* checking for left-over files ... OK
* checking index information ... OK
* checking package subdirectories ... OK
* checking whether the package can be loaded ... OK
* checking whether the package can be loaded with stated dependencies ... OK
* checking whether the package can be unloaded cleanly ... OK
* checking whether the namespace can be loaded with stated dependencies ... OK
* checking whether the namespace can be unloaded cleanly ... OK
* checking loading without being on the library search path ... OK
* checking Rd files ... OK
* checking Rd metadata ... OK
* checking Rd cross-references ... OK
* checking for missing documentation entries ... OK
* checking for code/documentation mismatches ... OK
* checking Rd \usage sections ... OK
* checking Rd contents ... OK
* checking for unstated dependencies in examples ... OK
* checking contents of ‘data’ directory ... OK
* checking data for non-ASCII characters ... OK
* checking data for ASCII and uncompressed saves ... OK
* checking files in ‘vignettes’ ... OK
* checking examples ... OK
* checking for unstated dependencies in vignettes ... OK
* checking package vignettes ... OK
* checking re-building of vignette outputs ... OK
* checking PDF version of manual ... OK
* DONE

Status: 3 NOTEs
See
  ‘/home/biocbuild/bbs-3.20-data-experiment/meat/miRNATarget.Rcheck/00check.log’
for details.


Installation output

miRNATarget.Rcheck/00install.out

##############################################################################
##############################################################################
###
### Running command:
###
###   /home/biocbuild/bbs-3.20-bioc/R/bin/R CMD INSTALL miRNATarget
###
##############################################################################
##############################################################################


* installing to library ‘/home/biocbuild/bbs-3.20-bioc/R/site-library’
* installing *source* package ‘miRNATarget’ ...
** using staged installation
** data
** help
*** installing help indices
** building package indices
** installing vignettes
** testing if installed package can be loaded from temporary location
** testing if installed package can be loaded from final location
** testing if installed package keeps a record of temporary installation path
* DONE (miRNATarget)

Tests output


Example timings

miRNATarget.Rcheck/miRNATarget-Ex.timings

nameusersystemelapsed
HS_conv_id0.0120.0010.015
HS_refseq_to_affy_hc_g1100.0040.0000.004
HS_refseq_to_affy_hg_focus0.0170.0000.017
HS_refseq_to_affy_hg_u133_plus_20.0590.0000.059
HS_refseq_to_affy_hg_u133a0.0340.0010.036
HS_refseq_to_affy_hg_u133a_20.0360.0000.036
HS_refseq_to_affy_hg_u133b0.0170.0000.017
HS_refseq_to_affy_hg_u95a0.0210.0010.023
HS_refseq_to_affy_hg_u95av20.0200.0010.021
HS_refseq_to_affy_hg_u95b0.0140.0000.014
HS_refseq_to_affy_hg_u95c0.0090.0010.011
HS_refseq_to_affy_hg_u95d0.0060.0000.006
HS_refseq_to_affy_hg_u95e0.0090.0000.010
HS_refseq_to_affy_huex_1_0_st_v20.7460.0250.772
HS_refseq_to_affy_hugene_1_0_st_v10.1100.0020.112
HS_refseq_to_affy_hugenefl0.0110.0010.013
HS_refseq_to_affy_u133_x3p0.0620.0020.064
HS_refseq_to_agilent_cgh_44b0.0110.0000.012
HS_refseq_to_agilent_wholegenome0.0710.0040.075
HS_refseq_to_canonical_transcript_stable_id0.0580.0070.065
HS_refseq_to_ccds0.0320.0010.034
HS_refseq_to_codelink0.0330.0000.034
HS_refseq_to_efg_agilent_sureprint_g3_ge_8x60k0.0010.0010.002
HS_refseq_to_efg_agilent_wholegenome_4x44k_v10.0000.0000.002
HS_refseq_to_efg_agilent_wholegenome_4x44k_v20.0000.0000.001
HS_refseq_to_embl0.6360.0210.659
HS_refseq_to_ensembl_exon_id0.0010.0010.002
HS_refseq_to_ensembl_gene_id0.1480.0000.149
HS_refseq_to_ensembl_peptide_id0.0430.0000.043
HS_refseq_to_ensembl_transcript_id0.0510.0010.053
HS_refseq_to_entrezgene0.0490.0000.049
HS_refseq_to_hgnc_id0.0470.0000.047
HS_refseq_to_hgnc_symbol0.1090.0010.111
HS_refseq_to_hgnc_transcript_name0.0460.0000.046
HS_refseq_to_illumina_humanht_120.0450.0010.047
HS_refseq_to_illumina_humanwg_6_v10.0400.0030.041
HS_refseq_to_illumina_humanwg_6_v20.0350.0010.036
HS_refseq_to_illumina_humanwg_6_v30.0410.0020.043
HS_refseq_to_interpro0.1130.0000.113
HS_refseq_to_ipi0.1040.0030.109
HS_refseq_to_merops0.0040.0000.004
HS_refseq_to_pdb0.1190.0010.121
HS_refseq_to_pfam0.0620.0000.062
HS_refseq_to_phalanx_onearray0.0370.0010.037
HS_refseq_to_protein_id0.9160.0350.952
HS_refseq_to_refseq_dna0.0520.0010.054
HS_refseq_to_refseq_genomic0.0000.0000.001
HS_refseq_to_refseq_peptide0.0850.0010.085
HS_refseq_to_rfam0.0020.0000.002
HS_refseq_to_rfam_gene_name0.0000.0000.001
HS_refseq_to_rfam_transcript_name000
HS_refseq_to_smart0.0330.0000.032
HS_refseq_to_tigrfam0.0050.0000.005
HS_refseq_to_ucsc0.0460.0000.046
HS_refseq_to_unigene0.060.000.06
HS_refseq_to_uniprot_genename0.0400.0010.041
HS_refseq_to_uniprot_genename_transcript_name0.0010.0000.002
HS_refseq_to_uniprot_sptrembl0.0020.0000.001
HS_refseq_to_uniprot_swissprot0.0010.0000.001
HS_refseq_to_uniprot_swissprot_accession0.0010.0000.001
HS_refseq_to_wikigene_id0.0010.0000.001
HS_refseq_to_wikigene_name0.0440.0010.044
MM_conv_id0.0030.0000.002
MM_refseq_to_affy_mg_u74a0.0150.0010.015
MM_refseq_to_affy_mg_u74av20.0120.0000.013
MM_refseq_to_affy_mg_u74b0.0110.0010.011
MM_refseq_to_affy_mg_u74bv20.0100.0000.011
MM_refseq_to_affy_mg_u74c0.0040.0000.004
MM_refseq_to_affy_mg_u74cv20.0050.0000.006
MM_refseq_to_affy_moe430a0.0280.0030.031
MM_refseq_to_affy_moe430b0.0090.0050.015
MM_refseq_to_affy_moex_1_0_st_v10.3510.0140.365
MM_refseq_to_affy_mogene_1_0_st_v10.0360.0010.036
MM_refseq_to_affy_mouse430_20.0390.0000.039
MM_refseq_to_affy_mouse430a_20.0280.0000.027
MM_refseq_to_affy_mu11ksuba0.010.000.01
MM_refseq_to_affy_mu11ksubb0.0060.0000.007
MM_refseq_to_agilent_wholegenome0.0530.0040.057
MM_refseq_to_canonical_transcript_stable_id0.0540.0010.056
MM_refseq_to_ccds0.0250.0020.028
MM_refseq_to_codelink0.0280.0020.030
MM_refseq_to_efg_agilent_sureprint_g3_ge_8x60k0.0010.0000.001
MM_refseq_to_efg_agilent_wholegenome_4x44k_v10.0010.0000.001
MM_refseq_to_efg_agilent_wholegenome_4x44k_v20.0010.0000.001
MM_refseq_to_embl0.2740.0070.280
MM_refseq_to_ensembl_exon_id0.0020.0000.001
MM_refseq_to_ensembl_gene_id0.1380.0000.138
MM_refseq_to_ensembl_peptide_id0.0310.0000.033
MM_refseq_to_ensembl_transcript_id0.0360.0000.036
MM_refseq_to_entrezgene0.0290.0010.032
MM_refseq_to_fantom0.0910.0000.091
MM_refseq_to_illumina_mousewg_6_v10.0450.0010.046
MM_refseq_to_illumina_mousewg_6_v20.0440.0000.046
MM_refseq_to_interpro0.0920.0020.094
MM_refseq_to_ipi0.0000.0000.001
MM_refseq_to_merops0.0020.0010.004
MM_refseq_to_mgi_id0.0350.0000.035
MM_refseq_to_mgi_symbol0.0350.0000.036
MM_refseq_to_mgi_transcript_name0.0370.0000.038
MM_refseq_to_pdb0.0080.0010.009
MM_refseq_to_pfam0.0540.0010.055
MM_refseq_to_phalanx_onearray0.0340.0000.034
MM_refseq_to_protein_id0.2610.0020.262
MM_refseq_to_refseq_dna0.0440.0010.045
MM_refseq_to_refseq_peptide0.0690.0030.073
MM_refseq_to_rfam0.0010.0000.001
MM_refseq_to_rfam_gene_name0.0000.0000.001
MM_refseq_to_rfam_transcript_name0.0010.0000.001
MM_refseq_to_smart0.0270.0000.028
MM_refseq_to_tigrfam0.0030.0010.004
MM_refseq_to_ucsc0.0360.0030.039
MM_refseq_to_unigene0.0480.0000.049
MM_refseq_to_uniprot_genename0.0320.0030.035
MM_refseq_to_uniprot_genename_transcript_name0.0000.0000.001
MM_refseq_to_uniprot_sptrembl0.0010.0000.001
MM_refseq_to_uniprot_swissprot0.0010.0000.001
MM_refseq_to_uniprot_swissprot_accession0.0000.0000.001
MM_refseq_to_wikigene_id0.0010.0000.001
MM_refseq_to_wikigene_name0.0320.0000.032
TBL21.1400.0991.240
TBL2_HS1.2420.1871.428
TBL2_MM0.7060.0970.802
conv_id0.0010.0010.002
id_conv0.0270.0010.028