Back to Build/check report for BioC 3.21 experimental data
ABCDEF[G]HIJKLMNOPQRSTUVWXYZ

This page was generated on 2025-10-07 15:01 -0400 (Tue, 07 Oct 2025).

HostnameOSArch (*)R versionInstalled pkgs
nebbiolo1Linux (Ubuntu 24.04.3 LTS)x86_644.5.1 (2025-06-13) -- "Great Square Root" 4832
Click on any hostname to see more info about the system (e.g. compilers)      (*) as reported by 'uname -p', except on Windows and Mac OS X

Package 147/432HostnameOS / ArchINSTALLBUILDCHECK
geneLenDataBase 1.44.0  (landing page)
Federico Marini
Snapshot Date: 2025-10-07 07:30 -0400 (Tue, 07 Oct 2025)
git_url: https://git.bioconductor.org/packages/geneLenDataBase
git_branch: RELEASE_3_21
git_last_commit: ad5f383
git_last_commit_date: 2025-04-15 09:16:59 -0400 (Tue, 15 Apr 2025)
nebbiolo1Linux (Ubuntu 24.04.3 LTS) / x86_64  OK    OK    OK  UNNEEDED, same version is already published


CHECK results for geneLenDataBase on nebbiolo1

To the developers/maintainers of the geneLenDataBase package:
- Use the following Renviron settings to reproduce errors and warnings.
- If 'R CMD check' started to fail recently on the Linux builder(s) over a missing dependency, add the missing dependency to 'Suggests:' in your DESCRIPTION file. See Renviron.bioc for more information.

raw results


Summary

Package: geneLenDataBase
Version: 1.44.0
Command: /home/biocbuild/bbs-3.21-bioc/R/bin/R CMD check --install=check:geneLenDataBase.install-out.txt --library=/home/biocbuild/bbs-3.21-bioc/R/site-library --timings geneLenDataBase_1.44.0.tar.gz
StartedAt: 2025-10-07 12:20:33 -0400 (Tue, 07 Oct 2025)
EndedAt: 2025-10-07 12:29:41 -0400 (Tue, 07 Oct 2025)
EllapsedTime: 547.4 seconds
RetCode: 0
Status:   OK  
CheckDir: geneLenDataBase.Rcheck
Warnings: 0

Command output

##############################################################################
##############################################################################
###
### Running command:
###
###   /home/biocbuild/bbs-3.21-bioc/R/bin/R CMD check --install=check:geneLenDataBase.install-out.txt --library=/home/biocbuild/bbs-3.21-bioc/R/site-library --timings geneLenDataBase_1.44.0.tar.gz
###
##############################################################################
##############################################################################


* using log directory ‘/home/biocbuild/bbs-3.21-data-experiment/meat/geneLenDataBase.Rcheck’
* using R version 4.5.1 (2025-06-13)
* using platform: x86_64-pc-linux-gnu
* R was compiled by
    gcc (Ubuntu 13.3.0-6ubuntu2~24.04) 13.3.0
    GNU Fortran (Ubuntu 13.3.0-6ubuntu2~24.04) 13.3.0
* running under: Ubuntu 24.04.3 LTS
* using session charset: UTF-8
* checking for file ‘geneLenDataBase/DESCRIPTION’ ... OK
* this is package ‘geneLenDataBase’ version ‘1.44.0’
* package encoding: UTF-8
* checking package namespace information ... OK
* checking package dependencies ... OK
* checking if this is a source package ... OK
* checking if there is a namespace ... OK
* checking for hidden files and directories ... OK
* checking for portable file names ... OK
* checking for sufficient/correct file permissions ... OK
* checking whether package ‘geneLenDataBase’ can be installed ... OK
* checking installed package size ... INFO
  installed size is 100.0Mb
  sub-directories of 1Mb or more:
    data  99.5Mb
* checking package directory ... OK
* checking DESCRIPTION meta-information ... OK
* checking top-level files ... OK
* checking for left-over files ... OK
* checking index information ... OK
* checking package subdirectories ... OK
* checking code files for non-ASCII characters ... OK
* checking R files for syntax errors ... OK
* checking whether the package can be loaded ... OK
* checking whether the package can be loaded with stated dependencies ... OK
* checking whether the package can be unloaded cleanly ... OK
* checking whether the namespace can be loaded with stated dependencies ... OK
* checking whether the namespace can be unloaded cleanly ... OK
* checking loading without being on the library search path ... OK
* checking dependencies in R code ... NOTE
Unexported object imported by a ':::' call: ‘txdbmaker:::.UCSC_TXNAME2GENEID_MAPDEFS’
  See the note in ?`:::` about the use of this operator.
* checking S3 generic/method consistency ... OK
* checking replacement functions ... OK
* checking foreign function calls ... OK
* checking R code for possible problems ... OK
* checking Rd files ... OK
* checking Rd metadata ... OK
* checking Rd cross-references ... OK
* checking for missing documentation entries ... OK
* checking for code/documentation mismatches ... OK
* checking Rd \usage sections ... OK
* checking Rd contents ... OK
* checking for unstated dependencies in examples ... OK
* checking contents of ‘data’ directory ... OK
* checking data for non-ASCII characters ... OK
* checking data for ASCII and uncompressed saves ... OK
* checking examples ... OK
Examples with CPU (user + system) or elapsed time > 5s
                  user system elapsed
supportedGeneIDs 3.336  0.287   5.981
* checking PDF version of manual ... OK
* DONE

Status: 1 NOTE
See
  ‘/home/biocbuild/bbs-3.21-data-experiment/meat/geneLenDataBase.Rcheck/00check.log’
for details.


Installation output

geneLenDataBase.Rcheck/00install.out

##############################################################################
##############################################################################
###
### Running command:
###
###   /home/biocbuild/bbs-3.21-bioc/R/bin/R CMD INSTALL geneLenDataBase
###
##############################################################################
##############################################################################


* installing to library ‘/home/biocbuild/bbs-3.21-bioc/R/site-library’
* installing *source* package ‘geneLenDataBase’ ...
** this is package ‘geneLenDataBase’ version ‘1.44.0’
** using staged installation
** R
** data
** byte-compile and prepare package for lazy loading
** help
*** installing help indices
** building package indices
** testing if installed package can be loaded from temporary location
** testing if installed package can be loaded from final location
** testing if installed package keeps a record of temporary installation path
* DONE (geneLenDataBase)

Tests output


Example timings

geneLenDataBase.Rcheck/geneLenDataBase-Ex.timings

nameusersystemelapsed
anoCar1.ensGene.LENGTH0.0700.0070.077
anoCar1.genscan.LENGTH0.0430.0030.046
anoCar1.xenoRefGene.LENGTH1.5170.0051.522
anoGam1.ensGene.LENGTH0.0590.0000.059
anoGam1.geneid.LENGTH0.0410.0000.043
anoGam1.genscan.LENGTH0.0380.0010.040
apiMel1.genscan.LENGTH0.0340.0010.035
apiMel2.ensGene.LENGTH0.0810.0050.087
apiMel2.geneid.LENGTH0.0420.0010.045
apiMel2.genscan.LENGTH0.0310.0030.034
aplCal1.xenoRefGene.LENGTH0.4350.0040.438
bosTau2.geneSymbol.LENGTH0.0420.0000.042
bosTau2.geneid.LENGTH0.3010.0090.310
bosTau2.genscan.LENGTH0.0840.0100.094
bosTau2.refGene.LENGTH0.0390.0020.042
bosTau2.sgpGene.LENGTH0.1040.0010.105
bosTau3.ensGene.LENGTH0.1050.0040.109
bosTau3.geneSymbol.LENGTH0.0350.0030.037
bosTau3.geneid.LENGTH0.1150.0050.120
bosTau3.genscan.LENGTH0.0710.0020.074
bosTau3.refGene.LENGTH0.0340.0000.033
bosTau3.sgpGene.LENGTH0.0900.0020.091
bosTau4.ensGene.LENGTH0.0960.0060.101
bosTau4.geneSymbol.LENGTH0.0360.0000.035
bosTau4.genscan.LENGTH0.0670.0000.067
bosTau4.nscanGene.LENGTH0.0300.0010.031
bosTau4.refGene.LENGTH0.0310.0020.033
braFlo1.xenoRefGene.LENGTH0.4140.0030.417
caeJap1.xenoRefGene.LENGTH0.4050.0070.411
caePb1.xenoRefGene.LENGTH0.4880.0020.490
caePb2.xenoRefGene.LENGTH0.4720.0030.474
caeRem2.xenoRefGene.LENGTH0.4350.0110.445
caeRem3.xenoRefGene.LENGTH0.3680.0040.372
calJac1.genscan.LENGTH0.0850.0010.086
calJac1.nscanGene.LENGTH0.1100.0010.112
calJac1.xenoRefGene.LENGTH0.7090.0030.713
canFam1.ensGene.LENGTH0.1070.0010.108
canFam1.geneSymbol.LENGTH0.0050.0010.005
canFam1.genscan.LENGTH0.0610.0010.062
canFam1.nscanGene.LENGTH0.0610.0010.062
canFam1.refGene.LENGTH0.0040.0010.005
canFam1.xenoRefGene.LENGTH0.5730.0060.579
canFam2.ensGene.LENGTH0.0960.0000.096
canFam2.geneSymbol.LENGTH0.0030.0030.005
canFam2.genscan.LENGTH0.0560.0000.056
canFam2.nscanGene.LENGTH0.1360.0020.138
canFam2.refGene.LENGTH0.0050.0000.006
canFam2.xenoRefGene.LENGTH0.5730.0000.574
cavPor3.ensGene.LENGTH0.0900.0000.089
cavPor3.genscan.LENGTH0.1030.0020.105
cavPor3.nscanGene.LENGTH0.0720.0010.073
cavPor3.xenoRefGene.LENGTH0.6020.0060.608
cb1.xenoRefGene.LENGTH0.4130.0030.416
cb3.xenoRefGene.LENGTH0.3410.0020.343
ce2.geneSymbol.LENGTH0.0720.0030.074
ce2.geneid.LENGTH0.0600.0010.061
ce2.refGene.LENGTH0.0660.0030.069
ce4.geneSymbol.LENGTH0.0680.0040.072
ce4.refGene.LENGTH0.0620.0010.063
ce4.xenoRefGene.LENGTH0.0870.0030.089
ce6.ensGene.LENGTH0.0980.0010.099
ce6.geneSymbol.LENGTH0.0710.0010.072
ce6.refGene.LENGTH0.0650.0010.066
ce6.xenoRefGene.LENGTH0.0850.0020.086
ci1.geneSymbol.LENGTH0.0050.0010.006
ci1.refGene.LENGTH0.0040.0000.005
ci1.xenoRefGene.LENGTH0.1850.0030.187
ci2.ensGene.LENGTH0.1760.0120.188
ci2.geneSymbol.LENGTH0.0050.0000.005
ci2.refGene.LENGTH0.0040.0010.004
ci2.xenoRefGene.LENGTH0.2620.0040.265
danRer3.ensGene.LENGTH0.1010.0020.102
danRer3.geneSymbol.LENGTH0.0540.0010.054
danRer3.refGene.LENGTH0.0490.0010.050
danRer4.ensGene.LENGTH0.1130.0000.114
danRer4.geneSymbol.LENGTH0.0520.0020.053
danRer4.genscan.LENGTH0.0580.0020.060
danRer4.nscanGene.LENGTH0.0910.0000.091
danRer4.refGene.LENGTH0.0500.0010.051
danRer5.ensGene.LENGTH0.1270.0010.129
danRer5.geneSymbol.LENGTH0.0470.0030.051
danRer5.refGene.LENGTH0.0440.0020.046
danRer5.vegaGene.LENGTH0.0490.0000.049
danRer5.vegaPseudoGene.LENGTH0.0020.0010.002
danRer6.ensGene.LENGTH0.1190.0010.120
danRer6.geneSymbol.LENGTH0.0520.0000.053
danRer6.refGene.LENGTH0.0470.0000.047
danRer6.xenoRefGene.LENGTH0.5350.0020.538
dm1.geneSymbol.LENGTH0.0620.0030.065
dm1.genscan.LENGTH0.0250.0000.026
dm1.refGene.LENGTH0.0590.0010.060
dm2.geneSymbol.LENGTH0.0640.0010.065
dm2.geneid.LENGTH0.0400.0010.040
dm2.genscan.LENGTH0.0240.0010.025
dm2.nscanGene.LENGTH0.0480.0020.050
dm2.refGene.LENGTH0.0550.0030.058
dm3.geneSymbol.LENGTH0.0680.0020.070
dm3.nscanPasaGene.LENGTH0.0510.0010.052
dm3.refGene.LENGTH0.0640.0010.065
downloadLengthFromUCSC0.0010.0000.000
dp2.genscan.LENGTH0.0320.0000.032
dp2.xenoRefGene.LENGTH0.1950.0020.198
dp3.geneid.LENGTH0.0400.0010.041
dp3.genscan.LENGTH0.0260.0000.026
dp3.xenoRefGene.LENGTH0.1060.0010.108
droAna1.geneid.LENGTH0.0700.0010.070
droAna1.genscan.LENGTH0.0220.0000.022
droAna1.xenoRefGene.LENGTH0.1940.0010.196
droAna2.genscan.LENGTH0.0490.0010.050
droAna2.xenoRefGene.LENGTH0.2770.0000.277
droEre1.genscan.LENGTH0.0290.0010.030
droEre1.xenoRefGene.LENGTH0.3370.0040.341
droGri1.genscan.LENGTH0.0380.0000.038
droGri1.xenoRefGene.LENGTH0.2420.0020.244
droMoj1.geneid.LENGTH0.2280.0050.233
droMoj1.genscan.LENGTH0.0520.0020.054
droMoj1.xenoRefGene.LENGTH0.2000.0020.202
droMoj2.genscan.LENGTH0.0340.0010.035
droMoj2.xenoRefGene.LENGTH0.2440.0030.247
droPer1.genscan.LENGTH0.0360.0010.037
droPer1.xenoRefGene.LENGTH0.2490.0010.250
droSec1.genscan.LENGTH0.0270.0010.028
droSec1.xenoRefGene.LENGTH0.2500.0010.251
droSim1.geneid.LENGTH0.0350.0020.037
droSim1.genscan.LENGTH0.0240.0000.024
droSim1.xenoRefGene.LENGTH0.2230.0020.226
droVir1.geneid.LENGTH0.1640.0020.166
droVir1.genscan.LENGTH0.0410.0010.042
droVir1.xenoRefGene.LENGTH0.2340.0100.244
droVir2.genscan.LENGTH0.0320.0020.035
droVir2.xenoRefGene.LENGTH0.2600.0010.261
droYak1.geneid.LENGTH0.0440.0010.044
droYak1.genscan.LENGTH0.0310.0010.031
droYak1.xenoRefGene.LENGTH0.2110.0000.211
droYak2.genscan.LENGTH0.0260.0010.027
droYak2.xenoRefGene.LENGTH0.2510.0010.252
equCab1.geneSymbol.LENGTH0.0040.0010.005
equCab1.geneid.LENGTH0.0840.0000.084
equCab1.nscanGene.LENGTH0.0390.0000.039
equCab1.refGene.LENGTH0.0040.0010.005
equCab1.sgpGene.LENGTH0.0670.0010.068
equCab2.ensGene.LENGTH0.1020.0010.103
equCab2.geneSymbol.LENGTH0.0070.0000.007
equCab2.nscanGene.LENGTH0.0480.0030.051
equCab2.refGene.LENGTH0.0050.0010.006
equCab2.xenoRefGene.LENGTH0.8120.0040.816
felCat3.ensGene.LENGTH0.1030.0020.105
felCat3.geneSymbol.LENGTH0.0040.0000.004
felCat3.geneid.LENGTH0.4940.0010.495
felCat3.genscan.LENGTH0.1130.0050.118
felCat3.nscanGene.LENGTH1.0140.1571.171
felCat3.refGene.LENGTH0.0030.0010.004
felCat3.sgpGene.LENGTH0.1350.0000.135
felCat3.xenoRefGene.LENGTH1.0090.0081.018
fr1.ensGene.LENGTH0.0700.0000.071
fr1.genscan.LENGTH0.0510.0010.052
fr2.ensGene.LENGTH0.1250.0020.126
galGal2.ensGene.LENGTH0.0550.0010.056
galGal2.geneSymbol.LENGTH0.0140.0010.016
galGal2.geneid.LENGTH0.0350.0000.037
galGal2.genscan.LENGTH0.0480.0000.048
galGal2.refGene.LENGTH0.0140.0010.014
galGal2.sgpGene.LENGTH0.0400.0010.042
galGal3.ensGene.LENGTH0.0690.0010.070
galGal3.geneSymbol.LENGTH0.0140.0010.015
galGal3.genscan.LENGTH0.0460.0000.046
galGal3.nscanGene.LENGTH0.0640.0030.067
galGal3.refGene.LENGTH0.0140.0000.014
galGal3.xenoRefGene.LENGTH0.4510.0030.453
gasAcu1.ensGene.LENGTH0.0930.0020.096
gasAcu1.nscanGene.LENGTH0.0950.0000.095
hg16.acembly.LENGTH0.3890.0050.395
hg16.ensGene.LENGTH0.0750.0010.076
hg16.exoniphy.LENGTH0.2530.0040.257
hg16.geneSymbol.LENGTH0.1130.0020.117
hg16.geneid.LENGTH0.0500.0000.051
hg16.genscan.LENGTH0.0680.0010.069
hg16.knownGene.LENGTH0.1180.0000.119
hg16.refGene.LENGTH0.0960.0010.096
hg16.sgpGene.LENGTH0.0530.0020.055
hg17.acembly.LENGTH0.4370.0040.442
hg17.acescan.LENGTH0.0110.0000.010
hg17.ccdsGene.LENGTH0.0240.0010.025
hg17.ensGene.LENGTH0.1080.0020.109
hg17.exoniphy.LENGTH0.3840.0040.388
hg17.geneSymbol.LENGTH0.1070.0030.110
hg17.geneid.LENGTH0.0720.0010.073
hg17.genscan.LENGTH0.0560.0010.056
hg17.knownGene.LENGTH0.1080.0000.107
hg17.refGene.LENGTH0.0980.0020.100
hg17.sgpGene.LENGTH0.0710.0010.072
hg17.vegaGene.LENGTH1.0200.0021.022
hg17.vegaPseudoGene.LENGTH0.0160.0000.016
hg17.xenoRefGene.LENGTH0.1720.0020.174
hg18.acembly.LENGTH0.4290.0000.429
hg18.acescan.LENGTH0.0080.0010.009
hg18.ccdsGene.LENGTH0.0270.0050.032
hg18.ensGene.LENGTH0.1670.0020.169
hg18.exoniphy.LENGTH0.4170.0020.419
hg18.geneSymbol.LENGTH0.0980.0010.099
hg18.geneid.LENGTH0.0740.0010.074
hg18.genscan.LENGTH0.0580.0020.060
hg18.knownGene.LENGTH0.1480.0020.150
hg18.knownGeneOld3.LENGTH0.0650.0010.066
hg18.refGene.LENGTH0.0890.0010.090
hg18.sgpGene.LENGTH0.0720.0000.072
hg18.sibGene.LENGTH0.3370.0040.340
hg18.xenoRefGene.LENGTH0.3720.0000.373
hg19.ccdsGene.LENGTH0.0410.0000.041
hg19.ensGene.LENGTH0.3070.0020.309
hg19.exoniphy.LENGTH0.4660.0000.467
hg19.geneSymbol.LENGTH0.0980.0010.099
hg19.knownGene.LENGTH0.1720.0000.173
hg19.nscanGene.LENGTH0.1580.0010.159
hg19.refGene.LENGTH0.1000.0020.101
hg19.xenoRefGene.LENGTH0.3920.0020.394
loxAfr3.xenoRefGene.LENGTH0.8340.0040.838
mm7.ensGene.LENGTH0.1230.0010.124
mm7.geneSymbol.LENGTH0.0910.0020.093
mm7.geneid.LENGTH0.0770.0010.078
mm7.genscan.LENGTH0.2750.0020.277
mm7.knownGene.LENGTH0.0960.0020.098
mm7.refGene.LENGTH0.0820.0000.083
mm7.sgpGene.LENGTH0.0790.0010.080
mm7.xenoRefGene.LENGTH0.3200.0010.322
mm8.ccdsGene.LENGTH0.0210.0010.022
mm8.ensGene.LENGTH0.0780.0010.079
mm8.geneSymbol.LENGTH0.0890.0000.090
mm8.geneid.LENGTH0.0720.0010.073
mm8.genscan.LENGTH0.0590.0000.060
mm8.knownGene.LENGTH0.0890.0010.091
mm8.nscanGene.LENGTH0.060.000.06
mm8.refGene.LENGTH0.0810.0000.081
mm8.sgpGene.LENGTH0.0700.0010.071
mm8.sibGene.LENGTH0.4550.0100.465
mm8.xenoRefGene.LENGTH0.3480.0010.349
mm9.acembly.LENGTH0.3100.0000.311
mm9.ccdsGene.LENGTH0.0270.0020.029
mm9.ensGene.LENGTH0.1450.0010.146
mm9.exoniphy.LENGTH0.4270.0020.429
mm9.geneSymbol.LENGTH0.0860.0010.087
mm9.geneid.LENGTH0.0840.0000.084
mm9.genscan.LENGTH0.0620.0000.062
mm9.knownGene.LENGTH0.2280.0010.230
mm9.nscanGene.LENGTH0.0600.0010.062
mm9.refGene.LENGTH0.0870.0000.087
mm9.sgpGene.LENGTH0.0790.0020.080
mm9.xenoRefGene.LENGTH0.3440.0000.344
monDom1.genscan.LENGTH0.060.000.06
monDom4.ensGene.LENGTH0.070.000.07
monDom4.geneSymbol.LENGTH0.0010.0020.003
monDom4.genscan.LENGTH0.0490.0010.050
monDom4.nscanGene.LENGTH0.0510.0000.051
monDom4.refGene.LENGTH0.0030.0000.004
monDom4.xenoRefGene.LENGTH0.3380.0010.340
monDom5.ensGene.LENGTH0.1040.0030.108
monDom5.geneSymbol.LENGTH0.0030.0000.003
monDom5.genscan.LENGTH0.0520.0000.052
monDom5.nscanGene.LENGTH0.1060.0000.106
monDom5.refGene.LENGTH0.0040.0000.004
monDom5.xenoRefGene.LENGTH0.5910.0020.592
ornAna1.ensGene.LENGTH0.0930.0110.103
ornAna1.geneSymbol.LENGTH0.0030.0000.003
ornAna1.refGene.LENGTH0.0020.0000.002
ornAna1.xenoRefGene.LENGTH0.5420.0030.545
oryLat2.ensGene.LENGTH0.0760.0010.077
oryLat2.geneSymbol.LENGTH0.0030.0010.004
oryLat2.refGene.LENGTH0.0040.0000.004
oryLat2.xenoRefGene.LENGTH0.5150.0030.518
panTro1.ensGene.LENGTH0.5420.0060.548
panTro1.geneid.LENGTH0.0450.0010.046
panTro1.genscan.LENGTH0.0580.0010.059
panTro1.xenoRefGene.LENGTH0.1080.0010.109
panTro2.ensGene.LENGTH0.1080.0000.109
panTro2.geneSymbol.LENGTH0.0960.0020.097
panTro2.genscan.LENGTH0.0590.0010.060
panTro2.nscanGene.LENGTH0.0600.0000.061
panTro2.refGene.LENGTH0.0960.0000.097
panTro2.xenoRefGene.LENGTH0.4870.0020.489
petMar1.xenoRefGene.LENGTH0.2520.0020.254
ponAbe2.ensGene.LENGTH0.0780.0030.081
ponAbe2.geneSymbol.LENGTH0.0110.0010.012
ponAbe2.genscan.LENGTH0.0600.0000.061
ponAbe2.nscanGene.LENGTH0.0590.0010.060
ponAbe2.refGene.LENGTH0.0120.0000.012
ponAbe2.xenoRefGene.LENGTH0.6040.0020.606
priPac1.xenoRefGene.LENGTH0.3330.0020.335
rheMac2.ensGene.LENGTH0.1250.0010.126
rheMac2.geneSymbol.LENGTH0.0030.0020.005
rheMac2.geneid.LENGTH0.0680.0010.069
rheMac2.nscanGene.LENGTH0.0580.0010.060
rheMac2.refGene.LENGTH0.0050.0000.005
rheMac2.sgpGene.LENGTH0.0670.0020.070
rheMac2.xenoRefGene.LENGTH0.4480.0030.451
rn3.ensGene.LENGTH0.0930.0030.096
rn3.geneSymbol.LENGTH0.0500.0010.051
rn3.geneid.LENGTH0.0500.0010.051
rn3.genscan.LENGTH0.0640.0000.064
rn3.knownGene.LENGTH0.0220.0010.023
rn3.nscanGene.LENGTH0.2460.0050.251
rn3.refGene.LENGTH0.0480.0020.050
rn3.sgpGene.LENGTH0.0560.0000.056
rn3.xenoRefGene.LENGTH0.5150.0040.519
rn4.ensGene.LENGTH0.1340.0010.135
rn4.geneSymbol.LENGTH0.0490.0010.050
rn4.geneid.LENGTH0.0840.0010.085
rn4.genscan.LENGTH0.0620.0010.063
rn4.knownGene.LENGTH0.0230.0000.024
rn4.nscanGene.LENGTH0.0510.0010.052
rn4.refGene.LENGTH0.0480.0010.049
rn4.sgpGene.LENGTH0.0810.0000.082
rn4.xenoRefGene.LENGTH0.3570.0010.359
sacCer1.ensGene.LENGTH0.0170.0010.018
sacCer2.ensGene.LENGTH0.0160.0010.017
strPur1.geneSymbol.LENGTH0.0030.0010.005
strPur1.genscan.LENGTH0.0620.0000.063
strPur1.refGene.LENGTH0.0030.0010.004
strPur1.xenoRefGene.LENGTH0.4470.0030.450
strPur2.geneSymbol.LENGTH0.0030.0010.004
strPur2.genscan.LENGTH0.1010.0020.104
strPur2.refGene.LENGTH0.0040.0000.004
strPur2.xenoRefGene.LENGTH0.6150.0020.617
supportedGeneIDs3.3360.2875.981
supportedGenomes0.2120.0091.063
taeGut1.ensGene.LENGTH0.0570.0030.059
taeGut1.geneSymbol.LENGTH0.0020.0010.003
taeGut1.genscan.LENGTH0.0290.0010.030
taeGut1.nscanGene.LENGTH0.0230.0010.024
taeGut1.refGene.LENGTH0.0030.0000.003
taeGut1.xenoRefGene.LENGTH0.40.00.4
tetNig1.ensGene.LENGTH0.0800.0010.081
tetNig1.geneid.LENGTH0.0610.0000.061
tetNig1.genscan.LENGTH0.0470.0010.048
tetNig1.nscanGene.LENGTH0.0640.0000.064
tetNig2.ensGene.LENGTH0.0630.0020.064
unfactor0.0030.0030.006
xenTro1.genscan.LENGTH0.0720.0030.074
xenTro2.ensGene.LENGTH0.0850.0010.086
xenTro2.geneSymbol.LENGTH0.030.000.03
xenTro2.genscan.LENGTH0.0680.0010.069
xenTro2.refGene.LENGTH0.0280.0000.028