Back to Build/check report for BioC 3.20 experimental data
AB[C]DEFGHIJKLMNOPQRSTUVWXYZ

This page was generated on 2025-02-11 15:42 -0500 (Tue, 11 Feb 2025).

HostnameOSArch (*)R versionInstalled pkgs
nebbiolo2Linux (Ubuntu 24.04.1 LTS)x86_644.4.2 (2024-10-31) -- "Pile of Leaves" 4767
Click on any hostname to see more info about the system (e.g. compilers)      (*) as reported by 'uname -p', except on Windows and Mac OS X

Package 85/431HostnameOS / ArchINSTALLBUILDCHECK
curatedPCaData 1.2.0  (landing page)
Teemu Daniel Laajala
Snapshot Date: 2025-02-11 07:30 -0500 (Tue, 11 Feb 2025)
git_url: https://git.bioconductor.org/packages/curatedPCaData
git_branch: RELEASE_3_20
git_last_commit: 8cd7682
git_last_commit_date: 2024-10-29 09:55:11 -0500 (Tue, 29 Oct 2024)
nebbiolo2Linux (Ubuntu 24.04.1 LTS) / x86_64  OK    OK    OK  UNNEEDED, same version is already published


CHECK results for curatedPCaData on nebbiolo2

To the developers/maintainers of the curatedPCaData package:
- Use the following Renviron settings to reproduce errors and warnings.
- If 'R CMD check' started to fail recently on the Linux builder(s) over a missing dependency, add the missing dependency to 'Suggests:' in your DESCRIPTION file. See Renviron.bioc for more information.

raw results


Summary

Package: curatedPCaData
Version: 1.2.0
Command: /home/biocbuild/bbs-3.20-bioc/R/bin/R CMD check --install=check:curatedPCaData.install-out.txt --library=/home/biocbuild/bbs-3.20-bioc/R/site-library --timings curatedPCaData_1.2.0.tar.gz
StartedAt: 2025-02-11 11:55:10 -0500 (Tue, 11 Feb 2025)
EndedAt: 2025-02-11 12:18:40 -0500 (Tue, 11 Feb 2025)
EllapsedTime: 1410.4 seconds
RetCode: 0
Status:   OK  
CheckDir: curatedPCaData.Rcheck
Warnings: 0

Command output

##############################################################################
##############################################################################
###
### Running command:
###
###   /home/biocbuild/bbs-3.20-bioc/R/bin/R CMD check --install=check:curatedPCaData.install-out.txt --library=/home/biocbuild/bbs-3.20-bioc/R/site-library --timings curatedPCaData_1.2.0.tar.gz
###
##############################################################################
##############################################################################


* using log directory ‘/home/biocbuild/bbs-3.20-data-experiment/meat/curatedPCaData.Rcheck’
* using R version 4.4.2 (2024-10-31)
* using platform: x86_64-pc-linux-gnu
* R was compiled by
    gcc (Ubuntu 13.2.0-23ubuntu4) 13.2.0
    GNU Fortran (Ubuntu 13.2.0-23ubuntu4) 13.2.0
* running under: Ubuntu 24.04.1 LTS
* using session charset: UTF-8
* checking for file ‘curatedPCaData/DESCRIPTION’ ... OK
* this is package ‘curatedPCaData’ version ‘1.2.0’
* package encoding: UTF-8
* checking package namespace information ... OK
* checking package dependencies ... OK
* checking if this is a source package ... OK
* checking if there is a namespace ... OK
* checking for hidden files and directories ... OK
* checking for portable file names ... OK
* checking for sufficient/correct file permissions ... OK
* checking whether package ‘curatedPCaData’ can be installed ... OK
* checking installed package size ... OK
* checking package directory ... OK
* checking ‘build’ directory ... OK
* checking DESCRIPTION meta-information ... OK
* checking top-level files ... OK
* checking for left-over files ... OK
* checking index information ... OK
* checking package subdirectories ... OK
* checking code files for non-ASCII characters ... OK
* checking R files for syntax errors ... OK
* checking whether the package can be loaded ... OK
* checking whether the package can be loaded with stated dependencies ... OK
* checking whether the package can be unloaded cleanly ... OK
* checking whether the namespace can be loaded with stated dependencies ... OK
* checking whether the namespace can be unloaded cleanly ... OK
* checking loading without being on the library search path ... OK
* checking dependencies in R code ... OK
* checking S3 generic/method consistency ... OK
* checking replacement functions ... OK
* checking foreign function calls ... OK
* checking R code for possible problems ... OK
* checking Rd files ... OK
* checking Rd metadata ... OK
* checking Rd cross-references ... OK
* checking for missing documentation entries ... OK
* checking for code/documentation mismatches ... OK
* checking Rd \usage sections ... OK
* checking Rd contents ... OK
* checking for unstated dependencies in examples ... OK
* checking contents of ‘data’ directory ... OK
* checking data for non-ASCII characters ... OK
* checking data for ASCII and uncompressed saves ... OK
* checking R/sysdata.rda ... OK
* checking files in ‘vignettes’ ... OK
* checking examples ... OK
Examples with CPU (user + system) or elapsed time > 5s
                                   user system elapsed
getPCaSummaryStudies            204.934  6.620 233.257
getPCaSummarySamples             28.730  1.293  32.542
getPCaSummaryTable               25.741  0.766  29.749
getPCaSummarySurv                25.712  0.694  29.194
curatedPCaDatasets_abida         16.887  0.489  18.540
curatedPCaDatasets_taylor        16.609  0.374  18.531
getPCa                           14.959  0.392  16.582
curatedPCaDatasets_ren           14.495  0.369  15.947
curatedPCaDatasets_tcga          14.285  0.471  15.946
curatedPCaDatasets_barbieri      13.782  0.432  15.518
curatedPCaDatasets_sun           12.986  0.313  14.998
curatedPCaDatasets_friedrich     12.258  0.517  13.864
curatedPCaDatasets_weiner        12.184  0.426  13.660
curatedPCaDatasets_kunderfranco  11.524  0.293  12.778
curatedPCaDatasets_icgcca        11.330  0.399  12.671
curatedPCaDatasets_igc           11.455  0.269  13.897
curatedPCaDatasets_kim           11.343  0.301  12.688
curatedPCaDatasets_chandran      11.038  0.511  12.489
curatedPCaDatasets_wallace       10.805  0.299  12.118
curatedPCaDatasets_wang          10.712  0.250  12.047
curatedPCaDatasets_true           9.126  0.295  10.349
curatedPCaDatasets_barwick        8.536  0.234   9.594
curatedPCaDatasets_baca           4.561  0.135   5.176
* checking for unstated dependencies in ‘tests’ ... OK
* checking tests ...
  Running ‘native_tests.R’
 OK
* checking for unstated dependencies in vignettes ... OK
* checking package vignettes ... OK
* checking re-building of vignette outputs ... OK
* checking PDF version of manual ... OK
* DONE

Status: OK


Installation output

curatedPCaData.Rcheck/00install.out

##############################################################################
##############################################################################
###
### Running command:
###
###   /home/biocbuild/bbs-3.20-bioc/R/bin/R CMD INSTALL curatedPCaData
###
##############################################################################
##############################################################################


* installing to library ‘/home/biocbuild/bbs-3.20-bioc/R/site-library’
* installing *source* package ‘curatedPCaData’ ...
** using staged installation
** R
** data
** inst
** byte-compile and prepare package for lazy loading
** help
*** installing help indices
*** copying figures
** building package indices
** installing vignettes
** testing if installed package can be loaded from temporary location
** testing if installed package can be loaded from final location
** testing if installed package keeps a record of temporary installation path
* DONE (curatedPCaData)

Tests output

curatedPCaData.Rcheck/tests/native_tests.Rout


R version 4.4.2 (2024-10-31) -- "Pile of Leaves"
Copyright (C) 2024 The R Foundation for Statistical Computing
Platform: x86_64-pc-linux-gnu

R is free software and comes with ABSOLUTELY NO WARRANTY.
You are welcome to redistribute it under certain conditions.
Type 'license()' or 'licence()' for distribution details.

R is a collaborative project with many contributors.
Type 'contributors()' for more information and
'citation()' on how to cite R or R packages in publications.

Type 'demo()' for some demos, 'help()' for on-line help, or
'help.start()' for an HTML browser interface to help.
Type 'q()' to quit R.

> ###
> #
> # Native 'R CMD check' tests run on the 'curatedPCaData'-package
> # Any exceptions will count as a failure for 'R CMD check' run (notably, does 
> # not require 'RUnit' or 'testthat' packages for testing)
> #
> ###
> 
> ##
> # Testing of getPCa main functionality
> ##
> 
> # Test retrieval of TCGA with all assays
> # Get default fetching of a MAE object based on short id
> methods::is(curatedPCaData::getPCa("tcga"), "MultiAssayExperiment")
see ?curatedPCaData and browseVignettes('curatedPCaData') for documentation
loading from cache
see ?curatedPCaData and browseVignettes('curatedPCaData') for documentation
loading from cache
see ?curatedPCaData and browseVignettes('curatedPCaData') for documentation
loading from cache
see ?curatedPCaData and browseVignettes('curatedPCaData') for documentation
loading from cache
see ?curatedPCaData and browseVignettes('curatedPCaData') for documentation
loading from cache
see ?curatedPCaData and browseVignettes('curatedPCaData') for documentation
loading from cache
see ?curatedPCaData and browseVignettes('curatedPCaData') for documentation
loading from cache
see ?curatedPCaData and browseVignettes('curatedPCaData') for documentation
loading from cache
see ?curatedPCaData and browseVignettes('curatedPCaData') for documentation
loading from cache
see ?curatedPCaData and browseVignettes('curatedPCaData') for documentation
loading from cache
see ?curatedPCaData and browseVignettes('curatedPCaData') for documentation
loading from cache
see ?curatedPCaData and browseVignettes('curatedPCaData') for documentation
loading from cache
Constructing the MultiAssayExperiment object from retrieved 
        components.
[1] TRUE
> 
> # Test retrieval of Taylor with a pre-specified subset of assays
> # Get fetching of an assay subset
> methods::is(curatedPCaData::getPCa("taylor", assays = c("gex.rma", "cibersort", 
+     "scores")), "MultiAssayExperiment")
see ?curatedPCaData and browseVignettes('curatedPCaData') for documentation
loading from cache
see ?curatedPCaData and browseVignettes('curatedPCaData') for documentation
loading from cache
see ?curatedPCaData and browseVignettes('curatedPCaData') for documentation
loading from cache
see ?curatedPCaData and browseVignettes('curatedPCaData') for documentation
loading from cache
see ?curatedPCaData and browseVignettes('curatedPCaData') for documentation
loading from cache
Constructing the MultiAssayExperiment object from retrieved 
        components.
harmonizing input:
  removing 1350 sampleMap rows not in names(experiments)
  removing 68 colData rownames not in sampleMap 'primary'
[1] TRUE
> 
> # Test a data fetch that should result in an error
> # Test that an error is produced correctly for a study that does not exist
> methods::is(try({curatedPCaData::getPCa("studyname_misspelled", assays = 
+     c("foo", "bar"))}, silent=TRUE), "try-error")
[1] TRUE
> 
> # Test fetching of an assay that does not exist
> # Test that an error is produced correctly for assays that do not exist
> methods::is(try({curatedPCaData::getPCa("tcga", assays = "typo")}, 
+     silent=TRUE), "try-error")
[1] TRUE
> 
> # Test sample subtype subsetting during getPCa
> # Get only primary samples from TCGA
> all(curatedPCaData::getPCa("tcga", sampletypes = "primary")$sample_type == 
+     "primary")
see ?curatedPCaData and browseVignettes('curatedPCaData') for documentation
loading from cache
see ?curatedPCaData and browseVignettes('curatedPCaData') for documentation
loading from cache
see ?curatedPCaData and browseVignettes('curatedPCaData') for documentation
loading from cache
see ?curatedPCaData and browseVignettes('curatedPCaData') for documentation
loading from cache
see ?curatedPCaData and browseVignettes('curatedPCaData') for documentation
loading from cache
see ?curatedPCaData and browseVignettes('curatedPCaData') for documentation
loading from cache
see ?curatedPCaData and browseVignettes('curatedPCaData') for documentation
loading from cache
see ?curatedPCaData and browseVignettes('curatedPCaData') for documentation
loading from cache
see ?curatedPCaData and browseVignettes('curatedPCaData') for documentation
loading from cache
see ?curatedPCaData and browseVignettes('curatedPCaData') for documentation
loading from cache
see ?curatedPCaData and browseVignettes('curatedPCaData') for documentation
loading from cache
see ?curatedPCaData and browseVignettes('curatedPCaData') for documentation
loading from cache
Constructing the MultiAssayExperiment object from retrieved 
        components.
[1] TRUE
> # Test omitting metastatic samples from Chandran et al.
> all(curatedPCaData::getPCa("chandran", sampletypes = c("primary", "normal")
+     )$sample_type %in% c("primary", "normal"))
see ?curatedPCaData and browseVignettes('curatedPCaData') for documentation
loading from cache
see ?curatedPCaData and browseVignettes('curatedPCaData') for documentation
loading from cache
see ?curatedPCaData and browseVignettes('curatedPCaData') for documentation
loading from cache
see ?curatedPCaData and browseVignettes('curatedPCaData') for documentation
loading from cache
see ?curatedPCaData and browseVignettes('curatedPCaData') for documentation
loading from cache
see ?curatedPCaData and browseVignettes('curatedPCaData') for documentation
loading from cache
see ?curatedPCaData and browseVignettes('curatedPCaData') for documentation
loading from cache
see ?curatedPCaData and browseVignettes('curatedPCaData') for documentation
loading from cache
see ?curatedPCaData and browseVignettes('curatedPCaData') for documentation
loading from cache
see ?curatedPCaData and browseVignettes('curatedPCaData') for documentation
loading from cache
Constructing the MultiAssayExperiment object from retrieved 
        components.
[1] TRUE
> 
> ##
> # Testing of supporting summary functions etc
> ##
> 
> # Test fetching of study short ids and that the 19 studies originally available 
> # in Laajala et al. 2013 are retrieved correctly
> # Tested function: curatedPCaData::getPCaStudies
> studies <- curatedPCaData::getPCaStudies()
> all(c("abida", "baca", "barbieri", "barwick", "chandran", "friedrich", 
+     "hieronymus", "icgcca", "igc", "kim", "kunderfranco", "ren", "sun", 
+     "taylor", "tcga", "true", "wallace", "wang", "weiner") %in% studies)
[1] TRUE
> 
> # Fetch MAE objects for further use
> maes <- lapply(studies, FUN=\(id) { curatedPCaData::getPCa(id) })
see ?curatedPCaData and browseVignettes('curatedPCaData') for documentation
loading from cache
see ?curatedPCaData and browseVignettes('curatedPCaData') for documentation
loading from cache
see ?curatedPCaData and browseVignettes('curatedPCaData') for documentation
loading from cache
see ?curatedPCaData and browseVignettes('curatedPCaData') for documentation
loading from cache
see ?curatedPCaData and browseVignettes('curatedPCaData') for documentation
loading from cache
see ?curatedPCaData and browseVignettes('curatedPCaData') for documentation
loading from cache
see ?curatedPCaData and browseVignettes('curatedPCaData') for documentation
loading from cache
see ?curatedPCaData and browseVignettes('curatedPCaData') for documentation
loading from cache
see ?curatedPCaData and browseVignettes('curatedPCaData') for documentation
loading from cache
see ?curatedPCaData and browseVignettes('curatedPCaData') for documentation
loading from cache
see ?curatedPCaData and browseVignettes('curatedPCaData') for documentation
loading from cache
see ?curatedPCaData and browseVignettes('curatedPCaData') for documentation
loading from cache
Constructing the MultiAssayExperiment object from retrieved 
        components.
see ?curatedPCaData and browseVignettes('curatedPCaData') for documentation
loading from cache
see ?curatedPCaData and browseVignettes('curatedPCaData') for documentation
loading from cache
see ?curatedPCaData and browseVignettes('curatedPCaData') for documentation
loading from cache
see ?curatedPCaData and browseVignettes('curatedPCaData') for documentation
loading from cache
Constructing the MultiAssayExperiment object from retrieved 
        components.
see ?curatedPCaData and browseVignettes('curatedPCaData') for documentation
loading from cache
see ?curatedPCaData and browseVignettes('curatedPCaData') for documentation
loading from cache
see ?curatedPCaData and browseVignettes('curatedPCaData') for documentation
loading from cache
see ?curatedPCaData and browseVignettes('curatedPCaData') for documentation
loading from cache
see ?curatedPCaData and browseVignettes('curatedPCaData') for documentation
loading from cache
see ?curatedPCaData and browseVignettes('curatedPCaData') for documentation
loading from cache
see ?curatedPCaData and browseVignettes('curatedPCaData') for documentation
loading from cache
see ?curatedPCaData and browseVignettes('curatedPCaData') for documentation
loading from cache
see ?curatedPCaData and browseVignettes('curatedPCaData') for documentation
loading from cache
see ?curatedPCaData and browseVignettes('curatedPCaData') for documentation
loading from cache
see ?curatedPCaData and browseVignettes('curatedPCaData') for documentation
loading from cache
see ?curatedPCaData and browseVignettes('curatedPCaData') for documentation
loading from cache
Constructing the MultiAssayExperiment object from retrieved 
        components.
see ?curatedPCaData and browseVignettes('curatedPCaData') for documentation
loading from cache
see ?curatedPCaData and browseVignettes('curatedPCaData') for documentation
loading from cache
see ?curatedPCaData and browseVignettes('curatedPCaData') for documentation
loading from cache
see ?curatedPCaData and browseVignettes('curatedPCaData') for documentation
loading from cache
see ?curatedPCaData and browseVignettes('curatedPCaData') for documentation
loading from cache
see ?curatedPCaData and browseVignettes('curatedPCaData') for documentation
loading from cache
see ?curatedPCaData and browseVignettes('curatedPCaData') for documentation
loading from cache
see ?curatedPCaData and browseVignettes('curatedPCaData') for documentation
loading from cache
Constructing the MultiAssayExperiment object from retrieved 
        components.
see ?curatedPCaData and browseVignettes('curatedPCaData') for documentation
loading from cache
see ?curatedPCaData and browseVignettes('curatedPCaData') for documentation
loading from cache
see ?curatedPCaData and browseVignettes('curatedPCaData') for documentation
loading from cache
see ?curatedPCaData and browseVignettes('curatedPCaData') for documentation
loading from cache
see ?curatedPCaData and browseVignettes('curatedPCaData') for documentation
loading from cache
see ?curatedPCaData and browseVignettes('curatedPCaData') for documentation
loading from cache
see ?curatedPCaData and browseVignettes('curatedPCaData') for documentation
loading from cache
see ?curatedPCaData and browseVignettes('curatedPCaData') for documentation
loading from cache
see ?curatedPCaData and browseVignettes('curatedPCaData') for documentation
loading from cache
see ?curatedPCaData and browseVignettes('curatedPCaData') for documentation
loading from cache
Constructing the MultiAssayExperiment object from retrieved 
        components.
see ?curatedPCaData and browseVignettes('curatedPCaData') for documentation
loading from cache
see ?curatedPCaData and browseVignettes('curatedPCaData') for documentation
loading from cache
see ?curatedPCaData and browseVignettes('curatedPCaData') for documentation
loading from cache
see ?curatedPCaData and browseVignettes('curatedPCaData') for documentation
loading from cache
see ?curatedPCaData and browseVignettes('curatedPCaData') for documentation
loading from cache
see ?curatedPCaData and browseVignettes('curatedPCaData') for documentation
loading from cache
see ?curatedPCaData and browseVignettes('curatedPCaData') for documentation
loading from cache
see ?curatedPCaData and browseVignettes('curatedPCaData') for documentation
loading from cache
see ?curatedPCaData and browseVignettes('curatedPCaData') for documentation
loading from cache
see ?curatedPCaData and browseVignettes('curatedPCaData') for documentation
loading from cache
Constructing the MultiAssayExperiment object from retrieved 
        components.
see ?curatedPCaData and browseVignettes('curatedPCaData') for documentation
loading from cache
see ?curatedPCaData and browseVignettes('curatedPCaData') for documentation
loading from cache
see ?curatedPCaData and browseVignettes('curatedPCaData') for documentation
loading from cache
Constructing the MultiAssayExperiment object from retrieved 
        components.
see ?curatedPCaData and browseVignettes('curatedPCaData') for documentation
loading from cache
see ?curatedPCaData and browseVignettes('curatedPCaData') for documentation
loading from cache
see ?curatedPCaData and browseVignettes('curatedPCaData') for documentation
loading from cache
see ?curatedPCaData and browseVignettes('curatedPCaData') for documentation
loading from cache
see ?curatedPCaData and browseVignettes('curatedPCaData') for documentation
loading from cache
see ?curatedPCaData and browseVignettes('curatedPCaData') for documentation
loading from cache
see ?curatedPCaData and browseVignettes('curatedPCaData') for documentation
loading from cache
see ?curatedPCaData and browseVignettes('curatedPCaData') for documentation
loading from cache
see ?curatedPCaData and browseVignettes('curatedPCaData') for documentation
loading from cache
see ?curatedPCaData and browseVignettes('curatedPCaData') for documentation
loading from cache
Constructing the MultiAssayExperiment object from retrieved 
        components.
see ?curatedPCaData and browseVignettes('curatedPCaData') for documentation
loading from cache
see ?curatedPCaData and browseVignettes('curatedPCaData') for documentation
loading from cache
see ?curatedPCaData and browseVignettes('curatedPCaData') for documentation
loading from cache
see ?curatedPCaData and browseVignettes('curatedPCaData') for documentation
loading from cache
see ?curatedPCaData and browseVignettes('curatedPCaData') for documentation
loading from cache
see ?curatedPCaData and browseVignettes('curatedPCaData') for documentation
loading from cache
see ?curatedPCaData and browseVignettes('curatedPCaData') for documentation
loading from cache
see ?curatedPCaData and browseVignettes('curatedPCaData') for documentation
loading from cache
see ?curatedPCaData and browseVignettes('curatedPCaData') for documentation
loading from cache
see ?curatedPCaData and browseVignettes('curatedPCaData') for documentation
loading from cache
Constructing the MultiAssayExperiment object from retrieved 
        components.
see ?curatedPCaData and browseVignettes('curatedPCaData') for documentation
loading from cache
see ?curatedPCaData and browseVignettes('curatedPCaData') for documentation
loading from cache
see ?curatedPCaData and browseVignettes('curatedPCaData') for documentation
loading from cache
see ?curatedPCaData and browseVignettes('curatedPCaData') for documentation
loading from cache
see ?curatedPCaData and browseVignettes('curatedPCaData') for documentation
loading from cache
see ?curatedPCaData and browseVignettes('curatedPCaData') for documentation
loading from cache
see ?curatedPCaData and browseVignettes('curatedPCaData') for documentation
loading from cache
see ?curatedPCaData and browseVignettes('curatedPCaData') for documentation
loading from cache
see ?curatedPCaData and browseVignettes('curatedPCaData') for documentation
loading from cache
see ?curatedPCaData and browseVignettes('curatedPCaData') for documentation
loading from cache
Constructing the MultiAssayExperiment object from retrieved 
        components.
see ?curatedPCaData and browseVignettes('curatedPCaData') for documentation
loading from cache
see ?curatedPCaData and browseVignettes('curatedPCaData') for documentation
loading from cache
see ?curatedPCaData and browseVignettes('curatedPCaData') for documentation
loading from cache
see ?curatedPCaData and browseVignettes('curatedPCaData') for documentation
loading from cache
see ?curatedPCaData and browseVignettes('curatedPCaData') for documentation
loading from cache
see ?curatedPCaData and browseVignettes('curatedPCaData') for documentation
loading from cache
see ?curatedPCaData and browseVignettes('curatedPCaData') for documentation
loading from cache
see ?curatedPCaData and browseVignettes('curatedPCaData') for documentation
loading from cache
see ?curatedPCaData and browseVignettes('curatedPCaData') for documentation
loading from cache
see ?curatedPCaData and browseVignettes('curatedPCaData') for documentation
loading from cache
Constructing the MultiAssayExperiment object from retrieved 
        components.
see ?curatedPCaData and browseVignettes('curatedPCaData') for documentation
loading from cache
see ?curatedPCaData and browseVignettes('curatedPCaData') for documentation
loading from cache
see ?curatedPCaData and browseVignettes('curatedPCaData') for documentation
loading from cache
see ?curatedPCaData and browseVignettes('curatedPCaData') for documentation
loading from cache
see ?curatedPCaData and browseVignettes('curatedPCaData') for documentation
loading from cache
see ?curatedPCaData and browseVignettes('curatedPCaData') for documentation
loading from cache
see ?curatedPCaData and browseVignettes('curatedPCaData') for documentation
loading from cache
see ?curatedPCaData and browseVignettes('curatedPCaData') for documentation
loading from cache
see ?curatedPCaData and browseVignettes('curatedPCaData') for documentation
loading from cache
see ?curatedPCaData and browseVignettes('curatedPCaData') for documentation
loading from cache
see ?curatedPCaData and browseVignettes('curatedPCaData') for documentation
loading from cache
Constructing the MultiAssayExperiment object from retrieved 
        components.
see ?curatedPCaData and browseVignettes('curatedPCaData') for documentation
loading from cache
see ?curatedPCaData and browseVignettes('curatedPCaData') for documentation
loading from cache
see ?curatedPCaData and browseVignettes('curatedPCaData') for documentation
loading from cache
see ?curatedPCaData and browseVignettes('curatedPCaData') for documentation
loading from cache
see ?curatedPCaData and browseVignettes('curatedPCaData') for documentation
loading from cache
see ?curatedPCaData and browseVignettes('curatedPCaData') for documentation
loading from cache
see ?curatedPCaData and browseVignettes('curatedPCaData') for documentation
loading from cache
see ?curatedPCaData and browseVignettes('curatedPCaData') for documentation
loading from cache
see ?curatedPCaData and browseVignettes('curatedPCaData') for documentation
loading from cache
see ?curatedPCaData and browseVignettes('curatedPCaData') for documentation
loading from cache
Constructing the MultiAssayExperiment object from retrieved 
        components.
see ?curatedPCaData and browseVignettes('curatedPCaData') for documentation
loading from cache
see ?curatedPCaData and browseVignettes('curatedPCaData') for documentation
loading from cache
see ?curatedPCaData and browseVignettes('curatedPCaData') for documentation
loading from cache
see ?curatedPCaData and browseVignettes('curatedPCaData') for documentation
loading from cache
see ?curatedPCaData and browseVignettes('curatedPCaData') for documentation
loading from cache
see ?curatedPCaData and browseVignettes('curatedPCaData') for documentation
loading from cache
see ?curatedPCaData and browseVignettes('curatedPCaData') for documentation
loading from cache
see ?curatedPCaData and browseVignettes('curatedPCaData') for documentation
loading from cache
see ?curatedPCaData and browseVignettes('curatedPCaData') for documentation
loading from cache
see ?curatedPCaData and browseVignettes('curatedPCaData') for documentation
loading from cache
see ?curatedPCaData and browseVignettes('curatedPCaData') for documentation
loading from cache
see ?curatedPCaData and browseVignettes('curatedPCaData') for documentation
loading from cache
see ?curatedPCaData and browseVignettes('curatedPCaData') for documentation
loading from cache
Constructing the MultiAssayExperiment object from retrieved 
        components.
see ?curatedPCaData and browseVignettes('curatedPCaData') for documentation
loading from cache
see ?curatedPCaData and browseVignettes('curatedPCaData') for documentation
loading from cache
see ?curatedPCaData and browseVignettes('curatedPCaData') for documentation
loading from cache
see ?curatedPCaData and browseVignettes('curatedPCaData') for documentation
loading from cache
see ?curatedPCaData and browseVignettes('curatedPCaData') for documentation
loading from cache
see ?curatedPCaData and browseVignettes('curatedPCaData') for documentation
loading from cache
see ?curatedPCaData and browseVignettes('curatedPCaData') for documentation
loading from cache
see ?curatedPCaData and browseVignettes('curatedPCaData') for documentation
loading from cache
see ?curatedPCaData and browseVignettes('curatedPCaData') for documentation
loading from cache
see ?curatedPCaData and browseVignettes('curatedPCaData') for documentation
loading from cache
see ?curatedPCaData and browseVignettes('curatedPCaData') for documentation
loading from cache
see ?curatedPCaData and browseVignettes('curatedPCaData') for documentation
loading from cache
Constructing the MultiAssayExperiment object from retrieved 
        components.
see ?curatedPCaData and browseVignettes('curatedPCaData') for documentation
loading from cache
see ?curatedPCaData and browseVignettes('curatedPCaData') for documentation
loading from cache
see ?curatedPCaData and browseVignettes('curatedPCaData') for documentation
loading from cache
see ?curatedPCaData and browseVignettes('curatedPCaData') for documentation
loading from cache
see ?curatedPCaData and browseVignettes('curatedPCaData') for documentation
loading from cache
see ?curatedPCaData and browseVignettes('curatedPCaData') for documentation
loading from cache
see ?curatedPCaData and browseVignettes('curatedPCaData') for documentation
loading from cache
see ?curatedPCaData and browseVignettes('curatedPCaData') for documentation
loading from cache
see ?curatedPCaData and browseVignettes('curatedPCaData') for documentation
loading from cache
Constructing the MultiAssayExperiment object from retrieved 
        components.
see ?curatedPCaData and browseVignettes('curatedPCaData') for documentation
loading from cache
see ?curatedPCaData and browseVignettes('curatedPCaData') for documentation
loading from cache
see ?curatedPCaData and browseVignettes('curatedPCaData') for documentation
loading from cache
see ?curatedPCaData and browseVignettes('curatedPCaData') for documentation
loading from cache
see ?curatedPCaData and browseVignettes('curatedPCaData') for documentation
loading from cache
see ?curatedPCaData and browseVignettes('curatedPCaData') for documentation
loading from cache
see ?curatedPCaData and browseVignettes('curatedPCaData') for documentation
loading from cache
see ?curatedPCaData and browseVignettes('curatedPCaData') for documentation
loading from cache
see ?curatedPCaData and browseVignettes('curatedPCaData') for documentation
loading from cache
see ?curatedPCaData and browseVignettes('curatedPCaData') for documentation
loading from cache
Constructing the MultiAssayExperiment object from retrieved 
        components.
see ?curatedPCaData and browseVignettes('curatedPCaData') for documentation
loading from cache
see ?curatedPCaData and browseVignettes('curatedPCaData') for documentation
loading from cache
see ?curatedPCaData and browseVignettes('curatedPCaData') for documentation
loading from cache
see ?curatedPCaData and browseVignettes('curatedPCaData') for documentation
loading from cache
see ?curatedPCaData and browseVignettes('curatedPCaData') for documentation
loading from cache
see ?curatedPCaData and browseVignettes('curatedPCaData') for documentation
loading from cache
see ?curatedPCaData and browseVignettes('curatedPCaData') for documentation
loading from cache
see ?curatedPCaData and browseVignettes('curatedPCaData') for documentation
loading from cache
see ?curatedPCaData and browseVignettes('curatedPCaData') for documentation
loading from cache
see ?curatedPCaData and browseVignettes('curatedPCaData') for documentation
loading from cache
Constructing the MultiAssayExperiment object from retrieved 
        components.
see ?curatedPCaData and browseVignettes('curatedPCaData') for documentation
loading from cache
see ?curatedPCaData and browseVignettes('curatedPCaData') for documentation
loading from cache
see ?curatedPCaData and browseVignettes('curatedPCaData') for documentation
loading from cache
see ?curatedPCaData and browseVignettes('curatedPCaData') for documentation
loading from cache
see ?curatedPCaData and browseVignettes('curatedPCaData') for documentation
loading from cache
see ?curatedPCaData and browseVignettes('curatedPCaData') for documentation
loading from cache
see ?curatedPCaData and browseVignettes('curatedPCaData') for documentation
loading from cache
see ?curatedPCaData and browseVignettes('curatedPCaData') for documentation
loading from cache
see ?curatedPCaData and browseVignettes('curatedPCaData') for documentation
loading from cache
see ?curatedPCaData and browseVignettes('curatedPCaData') for documentation
loading from cache
Constructing the MultiAssayExperiment object from retrieved 
        components.
> names(maes) <- studies
> 
> # getPCaSummaryTable should summarize into a character matrix key instances and 
> # percentages for certain values for a given colData metadata variable
> # Tested function: curatedPCaData::getPCaSummaryTable
> inherits(curatedPCaData::getPCaSummaryTable(maes, var.name = "grade_group", 
+     vals=c("<=6", "3+4", "4+3", "7", ">=8")), "matrix")
[1] TRUE
> 
> # getPCaSummaryTable should summarize into a character matrix event counts and 
> # follow-up times for a Surv-like data
> # Tested function: curatedPCaData::getPCaSummarySurv
> inherits(curatedPCaData::getPCaSummarySurv(maes, event.name = 
+     "disease_specific_recurrence_status", 
+     time.name = "days_to_disease_specific_recurrence"), "matrix")
[1] TRUE
> 
> # getPCaSummarySamples should return a list of length 2; first element 
> # containing unique assay names and N counts in each study, and second element 
> # a matrix with GEX/CNA/MUT combinations for overlap
> # Tested function: curatedPCaData::getPCaSummarySamples
> inherits(curatedPCaData::getPCaSummarySamples(maes), "list")
[1] TRUE
> length(curatedPCaData::getPCaSummarySamples(maes)) == 2
[1] TRUE
> 
> # getPCaSummaryStudies should create a verbose character matrix depicting key 
> # characteristics for each study, such as sample counts, platforms, and special 
> # notes to be aware of
> # Tested function: curatedPCaData::getPCaSummaryStudies, 
> # curatedPCaData::getPCaStudies
> inherits(curatedPCaData::getPCaSummaryStudies(maes), "matrix")
[1] TRUE
> 
> 
> proc.time()
   user  system elapsed 
259.143   8.798 293.630 

Example timings

curatedPCaData.Rcheck/curatedPCaData-Ex.timings

nameusersystemelapsed
curatedPCaDatasets_abida16.887 0.48918.540
curatedPCaDatasets_baca4.5610.1355.176
curatedPCaDatasets_barbieri13.782 0.43215.518
curatedPCaDatasets_barwick8.5360.2349.594
curatedPCaDatasets_chandran11.038 0.51112.489
curatedPCaDatasets_friedrich12.258 0.51713.864
curatedPCaDatasets_hieronymus4.0970.1204.608
curatedPCaDatasets_icgcca11.330 0.39912.671
curatedPCaDatasets_igc11.455 0.26913.897
curatedPCaDatasets_kim11.343 0.30112.688
curatedPCaDatasets_kunderfranco11.524 0.29312.778
curatedPCaDatasets_ren14.495 0.36915.947
curatedPCaDatasets_sun12.986 0.31314.998
curatedPCaDatasets_taylor16.609 0.37418.531
curatedPCaDatasets_tcga14.285 0.47115.946
curatedPCaDatasets_true 9.126 0.29510.349
curatedPCaDatasets_wallace10.805 0.29912.118
curatedPCaDatasets_wang10.712 0.25012.047
curatedPCaDatasets_weiner12.184 0.42613.660
getPCa14.959 0.39216.582
getPCaStudies0.0050.0000.005
getPCaSummarySamples28.730 1.29332.542
getPCaSummaryStudies204.934 6.620233.257
getPCaSummarySurv25.712 0.69429.194
getPCaSummaryTable25.741 0.76629.749
template_prad0.0050.0000.006