Back to Build/check report for BioC 3.21 experimental data |
|
This page was generated on 2025-05-22 15:01 -0400 (Thu, 22 May 2025).
Hostname | OS | Arch (*) | R version | Installed pkgs |
---|---|---|---|---|
nebbiolo1 | Linux (Ubuntu 24.04.1 LTS) | x86_64 | 4.5.0 RC (2025-04-04 r88126) -- "How About a Twenty-Six" | 4835 |
Click on any hostname to see more info about the system (e.g. compilers) (*) as reported by 'uname -p', except on Windows and Mac OS X |
Package 377/432 | Hostname | OS / Arch | INSTALL | BUILD | CHECK | ||||||||
SpatialDatasets 1.6.3 (landing page) Ellis Patrick
| nebbiolo1 | Linux (Ubuntu 24.04.1 LTS) / x86_64 | OK | OK | WARNINGS | ![]() | |||||||
To the developers/maintainers of the SpatialDatasets package: - Use the following Renviron settings to reproduce errors and warnings. - If 'R CMD check' started to fail recently on the Linux builder(s) over a missing dependency, add the missing dependency to 'Suggests:' in your DESCRIPTION file. See Renviron.bioc for more information. |
Package: SpatialDatasets |
Version: 1.6.3 |
Command: /home/biocbuild/bbs-3.21-bioc/R/bin/R CMD build --keep-empty-dirs --no-resave-data SpatialDatasets |
StartedAt: 2025-05-22 11:39:50 -0400 (Thu, 22 May 2025) |
EndedAt: 2025-05-22 11:57:56 -0400 (Thu, 22 May 2025) |
EllapsedTime: 1086.1 seconds |
RetCode: 0 |
Status: OK |
PackageFile: SpatialDatasets_1.6.3.tar.gz |
PackageFileSize: 227.8 KiB |
############################################################################## ############################################################################## ### ### Running command: ### ### /home/biocbuild/bbs-3.21-bioc/R/bin/R CMD build --keep-empty-dirs --no-resave-data SpatialDatasets ### ############################################################################## ############################################################################## * checking for file ‘SpatialDatasets/DESCRIPTION’ ... OK * preparing ‘SpatialDatasets’: * checking DESCRIPTION meta-information ... OK Warning: /tmp/RtmpuFm6Px/Rbuild1c79ae77a6148b/SpatialDatasets/man/SpatialDatasets.Rd:52: unexpected section header '\value' Warning: /tmp/RtmpuFm6Px/Rbuild1c79ae77a6148b/SpatialDatasets/man/SpatialDatasets.Rd:55: unexpected section header '\examples' Warning: /tmp/RtmpuFm6Px/Rbuild1c79ae77a6148b/SpatialDatasets/man/SpatialDatasets.Rd:60: unexpected END_OF_INPUT ' ' * installing the package to build vignettes * creating vignettes ... OK * checking for LF line-endings in source and make files and shell scripts * checking for empty or unneeded directories Warning: /tmp/RtmpuFm6Px/Rbuild1c79ae77a6148b/SpatialDatasets/man/SpatialDatasets.Rd:52: unexpected section header '\value' Warning: /tmp/RtmpuFm6Px/Rbuild1c79ae77a6148b/SpatialDatasets/man/SpatialDatasets.Rd:55: unexpected section header '\examples' Warning: /tmp/RtmpuFm6Px/Rbuild1c79ae77a6148b/SpatialDatasets/man/SpatialDatasets.Rd:60: unexpected END_OF_INPUT ' ' * building ‘SpatialDatasets_1.6.3.tar.gz’