Back to Build/check report for BioC 3.20 experimental data
ABCDEFGHIJKLM[N]OPQRSTUVWXYZ

This page was generated on 2025-02-06 15:42 -0500 (Thu, 06 Feb 2025).

HostnameOSArch (*)R versionInstalled pkgs
nebbiolo2Linux (Ubuntu 24.04.1 LTS)x86_644.4.2 (2024-10-31) -- "Pile of Leaves" 4753
Click on any hostname to see more info about the system (e.g. compilers)      (*) as reported by 'uname -p', except on Windows and Mac OS X

Package 272/431HostnameOS / ArchINSTALLBUILDCHECK
NestLink 1.22.0  (landing page)
Lennart Opitz
Snapshot Date: 2025-02-06 07:30 -0500 (Thu, 06 Feb 2025)
git_url: https://git.bioconductor.org/packages/NestLink
git_branch: RELEASE_3_20
git_last_commit: 8d49fac
git_last_commit_date: 2024-10-29 09:49:27 -0500 (Tue, 29 Oct 2024)
nebbiolo2Linux (Ubuntu 24.04.1 LTS) / x86_64  OK    OK    OK  UNNEEDED, same version is already published


CHECK results for NestLink on nebbiolo2

To the developers/maintainers of the NestLink package:
- Use the following Renviron settings to reproduce errors and warnings.
- If 'R CMD check' started to fail recently on the Linux builder(s) over a missing dependency, add the missing dependency to 'Suggests:' in your DESCRIPTION file. See Renviron.bioc for more information.

raw results


Summary

Package: NestLink
Version: 1.22.0
Command: /home/biocbuild/bbs-3.20-bioc/R/bin/R CMD check --install=check:NestLink.install-out.txt --library=/home/biocbuild/bbs-3.20-bioc/R/site-library --timings NestLink_1.22.0.tar.gz
StartedAt: 2025-02-06 12:24:19 -0500 (Thu, 06 Feb 2025)
EndedAt: 2025-02-06 12:35:31 -0500 (Thu, 06 Feb 2025)
EllapsedTime: 671.7 seconds
RetCode: 0
Status:   OK  
CheckDir: NestLink.Rcheck
Warnings: 0

Command output

##############################################################################
##############################################################################
###
### Running command:
###
###   /home/biocbuild/bbs-3.20-bioc/R/bin/R CMD check --install=check:NestLink.install-out.txt --library=/home/biocbuild/bbs-3.20-bioc/R/site-library --timings NestLink_1.22.0.tar.gz
###
##############################################################################
##############################################################################


* using log directory ‘/home/biocbuild/bbs-3.20-data-experiment/meat/NestLink.Rcheck’
* using R version 4.4.2 (2024-10-31)
* using platform: x86_64-pc-linux-gnu
* R was compiled by
    gcc (Ubuntu 13.2.0-23ubuntu4) 13.2.0
    GNU Fortran (Ubuntu 13.2.0-23ubuntu4) 13.2.0
* running under: Ubuntu 24.04.1 LTS
* using session charset: UTF-8
* checking for file ‘NestLink/DESCRIPTION’ ... OK
* checking extension type ... Package
* this is package ‘NestLink’ version ‘1.22.0’
* checking package namespace information ... OK
* checking package dependencies ... NOTE
Depends: includes the non-default packages:
  'AnnotationHub', 'ExperimentHub', 'Biostrings', 'gplots', 'protViz',
  'ShortRead'
Adding so many packages to the search path is excessive and importing
selectively is preferable.
* checking if this is a source package ... OK
* checking if there is a namespace ... OK
* checking for hidden files and directories ... OK
* checking for portable file names ... OK
* checking for sufficient/correct file permissions ... OK
* checking whether package ‘NestLink’ can be installed ... OK
* checking installed package size ... OK
* checking package directory ... OK
* checking ‘build’ directory ... OK
* checking DESCRIPTION meta-information ... NOTE
Authors@R field gives persons with no role:
  Damien Morger <damien.morger@rqmicro.com>
* checking top-level files ... OK
* checking for left-over files ... OK
* checking index information ... OK
* checking package subdirectories ... OK
* checking code files for non-ASCII characters ... OK
* checking R files for syntax errors ... OK
* checking whether the package can be loaded ... OK
* checking whether the package can be loaded with stated dependencies ... OK
* checking whether the package can be unloaded cleanly ... OK
* checking whether the namespace can be loaded with stated dependencies ... OK
* checking whether the namespace can be unloaded cleanly ... OK
* checking loading without being on the library search path ... OK
* checking whether startup messages can be suppressed ... OK
* checking dependencies in R code ... OK
* checking S3 generic/method consistency ... OK
* checking replacement functions ... OK
* checking foreign function calls ... OK
* checking R code for possible problems ... OK
* checking Rd files ... NOTE
checkRd: (-1) runNGSAnalysis.Rd:24: Lost braces in \itemize; meant \describe ?
checkRd: (-1) runNGSAnalysis.Rd:25: Lost braces in \itemize; meant \describe ?
checkRd: (-1) runNGSAnalysis.Rd:26: Lost braces in \itemize; meant \describe ?
checkRd: (-1) runNGSAnalysis.Rd:27: Lost braces in \itemize; meant \describe ?
checkRd: (-1) runNGSAnalysis.Rd:28: Lost braces in \itemize; meant \describe ?
checkRd: (-1) runNGSAnalysis.Rd:29: Lost braces in \itemize; meant \describe ?
checkRd: (-1) runNGSAnalysis.Rd:30: Lost braces in \itemize; meant \describe ?
checkRd: (-1) runNGSAnalysis.Rd:31: Lost braces in \itemize; meant \describe ?
checkRd: (-1) runNGSAnalysis.Rd:32: Lost braces in \itemize; meant \describe ?
checkRd: (-1) runNGSAnalysis.Rd:33: Lost braces in \itemize; meant \describe ?
checkRd: (-1) runNGSAnalysis.Rd:34: Lost braces in \itemize; meant \describe ?
checkRd: (-1) runNGSAnalysis.Rd:35: Lost braces in \itemize; meant \describe ?
* checking Rd metadata ... OK
* checking Rd cross-references ... OK
* checking for missing documentation entries ... OK
* checking for code/documentation mismatches ... OK
* checking Rd \usage sections ... OK
* checking Rd contents ... OK
* checking for unstated dependencies in examples ... OK
* checking files in ‘vignettes’ ... OK
* checking examples ... OK
Examples with CPU (user + system) or elapsed time > 5s
                            user system elapsed
runNGSAnalysis           131.573  0.803 132.694
getExperimentHubFilename  11.745  0.457  14.171
getFC                      4.846  0.071   5.165
* checking for unstated dependencies in ‘tests’ ... OK
* checking tests ...
  Running ‘testthat.R’
 OK
* checking for unstated dependencies in vignettes ... OK
* checking package vignettes ... OK
* checking re-building of vignette outputs ... OK
* checking PDF version of manual ... OK
* DONE

Status: 3 NOTEs
See
  ‘/home/biocbuild/bbs-3.20-data-experiment/meat/NestLink.Rcheck/00check.log’
for details.


Installation output

NestLink.Rcheck/00install.out

##############################################################################
##############################################################################
###
### Running command:
###
###   /home/biocbuild/bbs-3.20-bioc/R/bin/R CMD INSTALL NestLink
###
##############################################################################
##############################################################################


* installing to library ‘/home/biocbuild/bbs-3.20-bioc/R/site-library’
* installing *source* package ‘NestLink’ ...
** using staged installation
** R
** exec
** inst
** byte-compile and prepare package for lazy loading
** help
*** installing help indices
** building package indices
** installing vignettes
** testing if installed package can be loaded from temporary location
** testing if installed package can be loaded from final location
** testing if installed package keeps a record of temporary installation path
* DONE (NestLink)

Tests output

NestLink.Rcheck/tests/testthat.Rout


R version 4.4.2 (2024-10-31) -- "Pile of Leaves"
Copyright (C) 2024 The R Foundation for Statistical Computing
Platform: x86_64-pc-linux-gnu

R is free software and comes with ABSOLUTELY NO WARRANTY.
You are welcome to redistribute it under certain conditions.
Type 'license()' or 'licence()' for distribution details.

R is a collaborative project with many contributors.
Type 'contributors()' for more information and
'citation()' on how to cite R or R packages in publications.

Type 'demo()' for some demos, 'help()' for on-line help, or
'help.start()' for an HTML browser interface to help.
Type 'q()' to quit R.

> #R
> 
> library(testthat)
> 
> suppressPackageStartupMessages(library(NestLink))
> 
> test_check("NestLink")
[ FAIL 0 | WARN 0 | SKIP 0 | PASS 10 ]
> 
> proc.time()
   user  system elapsed 
 20.344   1.621  22.667 

Example timings

NestLink.Rcheck/NestLink-Ex.timings

nameusersystemelapsed
F2557442.5040.1182.918
NB.unambiguous2.7010.1143.057
NB.unique2.7730.0923.110
PGexport1.4050.0411.713
WU1601183.5180.1963.950
compose_GPGx8cTerm0.0040.0010.006
compose_GPx10R0.0040.0000.004
compose_GSx7cTerm0.0060.0010.006
dot-ssrc.mascot2.8690.0873.199
getExperimentHubFilename11.745 0.45714.171
getFC4.8460.0715.165
getNB2.7570.0513.046
nanobodyFlycodeLinking.as.fasta1.4420.0621.775
nanobodyFlycodeLinking.summary1.4900.0451.877
plot_in_silico_LCMS_map1.7020.0031.706
runNGSAnalysis131.573 0.803132.694
twoPatternReadFilter0.0160.0000.017