Back to Build/check report for BioC 3.21 annotations
ABCDEFG[H]IJKLMNOPQRSTUVWXYZ

This page was generated on 2025-04-30 08:30 -0400 (Wed, 30 Apr 2025).

HostnameOSArch (*)R versionInstalled pkgs
nebbiolo1Linux (Ubuntu 24.04.1 LTS)x86_644.5.0 RC (2025-04-04 r88126) -- "How About a Twenty-Six" 4832
Click on any hostname to see more info about the system (e.g. compilers)      (*) as reported by 'uname -p', except on Windows and Mac OS X

All results for package HPO.db


To the developers/maintainers of the HPO.db package:
- Use the following Renviron settings to reproduce errors and warnings.
- If 'R CMD check' started to fail recently on the Linux builder(s) over a missing dependency, add the missing dependency to 'Suggests:' in your DESCRIPTION file. See Renviron.bioc for more information.

raw results

Package 29/47HostnameOS / ArchINSTALLBUILDCHECK
HPO.db 0.99.2  (landing page)
Erqiang Hu
Snapshot Date: 2025-04-30 06:00 -0400 (Wed, 30 Apr 2025)
git_url: https://git.bioconductor.org/packages/HPO.db
git_branch: RELEASE_3_21
git_last_commit: 72ed6ba
git_last_commit_date: 2023-06-22 23:53:29 -0400 (Thu, 22 Jun 2023)
nebbiolo1Linux (Ubuntu 24.04.1 LTS) / x86_64  ERROR    ERROR  skipped