| Back to Books build report for BioC 3.22 |
This page was generated on 2025-11-07 14:30 -0500 (Fri, 07 Nov 2025).
A | |||||||||
| QUICK STATS | OS / Arch | INSTALL | BUILD | CHECK | ||||||||||||||
| nebbiolo2 | Linux (Ubuntu 24.04.3 LTS) / x86_64 |
|
|
| ||||||||||||||
| lconway | macOS 12.7.6 Monterey / x86_64 |
|
|
| ||||||||||||||
| kjohnson3 | macOS 13.7.7 Ventura / arm64 |
|
|
| ||||||||||||||
| Package | Maintainer | INSTALL | BUILD | CHECK | ||||||||||||||
| 1/11 | BiocBookDemo 1.8.0 (landing page) | Jacques Serizay | OK | OK | OK | |||||||||||||
| 2/11 | csawBook 1.18.0 (landing page) | Aaron Lun | OK | OK | OK | |||||||||||||
| 3/11 | OHCA 1.6.0 (landing page) | Jacques Serizay | OK | OK | OK | |||||||||||||
| 4/11 | OSCA 1.20.0 (landing page) | Alan O'Callaghan | OK | OK | OK | |||||||||||||
| 5/11 | OSCA.advanced 1.18.0 (landing page) | Ludwig Geistlinger | OK | OK | OK | |||||||||||||
| 6/11 | OSCA.basic 1.18.0 (landing page) | Peter Hickey | OK | OK | OK | |||||||||||||
| 7/11 | OSCA.intro 1.18.0 (landing page) | Ludwig Geistlinger | OK | OK | OK | |||||||||||||
| 8/11 | OSCA.multisample 1.18.0 (landing page) | Alan O'Callaghan | OK | OK | OK | |||||||||||||
| 9/11 | OSCA.workflows 1.18.0 (landing page) | Peter Hickey | OK | OK | OK | |||||||||||||
| 10/11 | OSTA 1.0.1 (landing page) | Lukas M. Weber | OK | ERROR | skipped | |||||||||||||
| 11/11 | SingleRBook 1.20.0 (landing page) | Aaron Lun | OK | OK | OK | |||||||||||||