Back to Books build report for BioC 3.22

This page was generated on 2025-11-07 14:30 -0500 (Fri, 07 Nov 2025).

HostnameOSArch (*)R versionInstalled pkgs
nebbiolo2Linux (Ubuntu 24.04.3 LTS)x86_644.5.1 Patched (2025-08-23 r88802) -- "Great Square Root" 4902
lconwaymacOS 12.7.6 Montereyx86_644.5.1 Patched (2025-09-10 r88807) -- "Great Square Root" 4692
kjohnson3macOS 13.7.7 Venturaarm644.5.1 Patched (2025-09-10 r88807) -- "Great Square Root" 4638
Click on any hostname to see more info about the system (e.g. compilers)      (*) as reported by 'uname -p', except on Windows and Mac OS X

Package 7/11HostnameOS / ArchINSTALLBUILDCHECK
OSCA.intro 1.18.0  (landing page)
Ludwig Geistlinger
Snapshot Date: 2025-11-07 06:30 -0500 (Fri, 07 Nov 2025)
git_url: https://git.bioconductor.org/packages/OSCA.intro
git_branch: RELEASE_3_22
git_last_commit: eb57eb4
git_last_commit_date: 2025-10-29 10:12:56 -0500 (Wed, 29 Oct 2025)
nebbiolo2Linux (Ubuntu 24.04.3 LTS) / x86_64  OK    OK    OK  UNNEEDED, same version is already published
lconwaymacOS 12.7.6 Monterey / x86_64  OK    ERROR  skipped
kjohnson3macOS 13.7.7 Ventura / arm64  OK    ERROR  skipped


CHECK results for OSCA.intro on nebbiolo2

To the developers/maintainers of the OSCA.intro package:
- Use the following Renviron settings to reproduce errors and warnings.
- If 'R CMD check' started to fail recently on the Linux builder(s) over a missing dependency, add the missing dependency to 'Suggests:' in your DESCRIPTION file. See Renviron.bioc for more information.

raw results


Summary

Package: OSCA.intro
Version: 1.18.0
Command: rm -rf OSCA.intro.book && mkdir OSCA.intro.book && /home/biocbuild/BBS/utils/deploy_book.py OSCA.intro_1.18.0.tar.gz OSCA.intro.book
StartedAt: 2025-11-07 09:37:49 -0500 (Fri, 07 Nov 2025)
EndedAt: 2025-11-07 09:37:50 -0500 (Fri, 07 Nov 2025)
EllapsedTime: 1.1 seconds
RetCode: 0
Status:   OK  
DeployDestDir: OSCA.intro.book
Warnings: 0

Command output

##############################################################################
##############################################################################
###
### Running command:
###
###   rm -rf OSCA.intro.book && mkdir OSCA.intro.book && /home/biocbuild/BBS/utils/deploy_book.py OSCA.intro_1.18.0.tar.gz OSCA.intro.book
###
##############################################################################
##############################################################################


Deploying content from book tarball 'OSCA.intro_1.18.0.tar.gz' to 'OSCA.intro.book/OSCA.intro/' ... OK