| Back to Books build report for BioC 3.22 |
This page was generated on 2025-11-07 14:30 -0500 (Fri, 07 Nov 2025).
| Hostname | OS | Arch (*) | R version | Installed pkgs |
|---|---|---|---|---|
| nebbiolo2 | Linux (Ubuntu 24.04.3 LTS) | x86_64 | 4.5.1 Patched (2025-08-23 r88802) -- "Great Square Root" | 4902 |
| lconway | macOS 12.7.6 Monterey | x86_64 | 4.5.1 Patched (2025-09-10 r88807) -- "Great Square Root" | 4692 |
| kjohnson3 | macOS 13.7.7 Ventura | arm64 | 4.5.1 Patched (2025-09-10 r88807) -- "Great Square Root" | 4638 |
| Click on any hostname to see more info about the system (e.g. compilers) (*) as reported by 'uname -p', except on Windows and Mac OS X | ||||
| Package 1/11 | Hostname | OS / Arch | INSTALL | BUILD | CHECK | ||||||||
| BiocBookDemo 1.8.0 (landing page) Jacques Serizay
| nebbiolo2 | Linux (Ubuntu 24.04.3 LTS) / x86_64 | OK | OK | OK | ||||||||
| lconway | macOS 12.7.6 Monterey / x86_64 | OK | OK | OK | |||||||||
| kjohnson3 | macOS 13.7.7 Ventura / arm64 | OK | OK | OK | |||||||||
|
To the developers/maintainers of the BiocBookDemo package: - Use the following Renviron settings to reproduce errors and warnings. - If 'R CMD check' started to fail recently on the Linux builder(s) over a missing dependency, add the missing dependency to 'Suggests:' in your DESCRIPTION file. See Renviron.bioc for more information. |
| Package: BiocBookDemo |
| Version: 1.8.0 |
| Command: /Library/Frameworks/R.framework/Resources/bin/R CMD build --keep-empty-dirs --no-resave-data BiocBookDemo |
| StartedAt: 2025-11-07 06:46:02 -0500 (Fri, 07 Nov 2025) |
| EndedAt: 2025-11-07 06:46:27 -0500 (Fri, 07 Nov 2025) |
| EllapsedTime: 25.2 seconds |
| RetCode: 0 |
| Status: OK |
| PackageFile: BiocBookDemo_1.8.0.tar.gz |
| PackageFileSize: 3.307 MiB |
############################################################################## ############################################################################## ### ### Running command: ### ### /Library/Frameworks/R.framework/Resources/bin/R CMD build --keep-empty-dirs --no-resave-data BiocBookDemo ### ############################################################################## ############################################################################## * checking for file ‘BiocBookDemo/DESCRIPTION’ ... OK * preparing ‘BiocBookDemo’: * checking DESCRIPTION meta-information ... OK * installing the package to build vignettes * creating vignettes ... OK * checking for LF line-endings in source and make files and shell scripts * checking for empty or unneeded directories * building ‘BiocBookDemo_1.8.0.tar.gz’ Warning in utils::tar(filepath, pkgname, compression = compression, compression_level = 9L, : storing paths of more than 100 bytes is not portable: ‘BiocBookDemo/inst/doc/book/site_libs/quarto-html/quarto-syntax-highlighting-c1f63da3e08f13bc72dc17e92cfd001d.css’