Back to Rapid builds (Linux only) of a subset of BioC 3.21
Report updated every 6 hours

This page was generated on 2025-02-03 15:43 -0500 (Mon, 03 Feb 2025).

HostnameOSArch (*)R versionInstalled pkgs
teran2Linux (Ubuntu 24.04.1 LTS)x86_64R Under development (unstable) (2025-01-20 r87609) -- "Unsuffered Consequences" 868
Click on any hostname to see more info about the system (e.g. compilers)      (*) as reported by 'uname -p', except on Windows and Mac OS X

Package 3/217HostnameOS / ArchINSTALLBUILDCHECK
affyio 1.77.3  (landing page)
Ben Bolstad
Snapshot Date: 2025-02-03 12:00 -0500 (Mon, 03 Feb 2025)
git_url: https://git.bioconductor.org/packages/affyio
git_branch: devel
git_last_commit: dff48aa
git_last_commit_date: 2025-01-24 00:23:54 -0500 (Fri, 24 Jan 2025)
teran2Linux (Ubuntu 24.04.1 LTS) / x86_64  OK    OK    WARNINGS  


BUILD results for affyio on teran2

To the developers/maintainers of the affyio package:
- Use the following Renviron settings to reproduce errors and warnings.
- If 'R CMD check' started to fail recently on the Linux builder(s) over a missing dependency, add the missing dependency to 'Suggests:' in your DESCRIPTION file. See Renviron.bioc for more information.

raw results


Summary

Package: affyio
Version: 1.77.3
Command: /home/rapidbuild/bbs-3.21-bioc-rapid/R/bin/R CMD build --keep-empty-dirs --no-resave-data affyio
StartedAt: 2025-02-03 12:27:05 -0500 (Mon, 03 Feb 2025)
EndedAt: 2025-02-03 12:27:06 -0500 (Mon, 03 Feb 2025)
EllapsedTime: 1.0 seconds
RetCode: 0
Status:   OK  
PackageFile: affyio_1.77.3.tar.gz
PackageFileSize: 107.8 KiB

Command output

##############################################################################
##############################################################################
###
### Running command:
###
###   /home/rapidbuild/bbs-3.21-bioc-rapid/R/bin/R CMD build --keep-empty-dirs --no-resave-data affyio
###
##############################################################################
##############################################################################


* checking for file ‘affyio/DESCRIPTION’ ... OK
* preparing ‘affyio’:
* checking DESCRIPTION meta-information ... OK
* cleaning src
* checking for LF line-endings in source and make files and shell scripts
* checking for empty or unneeded directories
* building ‘affyio_1.77.3.tar.gz’