| Back to Long Tests report for BioC 3.21 |
This page was generated on 2025-10-11 23:55 -0400 (Sat, 11 Oct 2025).
| Hostname | OS | Arch (*) | R version | Installed pkgs |
|---|---|---|---|---|
| nebbiolo1 | Linux (Ubuntu 24.04.3 LTS) | x86_64 | 4.5.1 (2025-06-13) -- "Great Square Root" | 4833 |
| merida1 | macOS 12.7.5 Monterey | x86_64 | 4.5.1 RC (2025-06-05 r88288) -- "Great Square Root" | 4614 |
| Click on any hostname to see more info about the system (e.g. compilers) (*) as reported by 'uname -p', except on Windows and Mac OS X | ||||
| Package 18/30 | Hostname | OS / Arch | CHECK | |||||||
| EpiMix 1.10.0 (landing page) Yuanning Zheng
| nebbiolo1 | Linux (Ubuntu 24.04.3 LTS) / x86_64 | OK | |||||||
| merida1 | macOS 12.7.5 Monterey / x86_64 | OK | ||||||||
|
To the developers/maintainers of the EpiMix package: - Use the following Renviron settings to reproduce errors and warnings. - If 'R CMD check' started to fail recently on the Linux builder(s) over a missing dependency, add the missing dependency to 'Suggests:' in your DESCRIPTION file. See Renviron.bioc for more information. |
| Package: EpiMix |
| Version: 1.10.0 |
| Command: /home/biocbuild/bbs-3.21-bioc/R/bin/R CMD check --test-dir=longtests --no-stop-on-test-error --no-codoc --no-examples --no-manual --ignore-vignettes --check-subdirs=no EpiMix_1.10.0.tar.gz |
| StartedAt: 2025-10-11 16:09:05 -0400 (Sat, 11 Oct 2025) |
| EndedAt: 2025-10-11 16:12:54 -0400 (Sat, 11 Oct 2025) |
| EllapsedTime: 229.1 seconds |
| RetCode: 0 |
| Status: OK |
| CheckDir: EpiMix.Rcheck |
| Warnings: 0 |
EpiMix.Rcheck/tests/test_GEO_download.Rout
R version 4.5.1 (2025-06-13) -- "Great Square Root"
Copyright (C) 2025 The R Foundation for Statistical Computing
Platform: x86_64-pc-linux-gnu
R is free software and comes with ABSOLUTELY NO WARRANTY.
You are welcome to redistribute it under certain conditions.
Type 'license()' or 'licence()' for distribution details.
R is a collaborative project with many contributors.
Type 'contributors()' for more information and
'citation()' on how to cite R or R packages in publications.
Type 'demo()' for some demos, 'help()' for on-line help, or
'help.start()' for an HTML browser interface to help.
Type 'q()' to quit R.
> test_GEO_download <- function(){
+ METdirectories <- GEO_Download_DNAMethylation(AccessionID = 'GSE114134', targetDirectory = tempdir())
+ RUnit::checkTrue(length(METdirectories)>0)
+ }
>
>
>
>
>
>
>
>
>
> proc.time()
user system elapsed
0.134 0.036 0.157
EpiMix.Rcheck/tests/test_TCGA_getData.Rout
R version 4.5.1 (2025-06-13) -- "Great Square Root"
Copyright (C) 2025 The R Foundation for Statistical Computing
Platform: x86_64-pc-linux-gnu
R is free software and comes with ABSOLUTELY NO WARRANTY.
You are welcome to redistribute it under certain conditions.
Type 'license()' or 'licence()' for distribution details.
R is a collaborative project with many contributors.
Type 'contributors()' for more information and
'citation()' on how to cite R or R packages in publications.
Type 'demo()' for some demos, 'help()' for on-line help, or
'help.start()' for an HTML browser interface to help.
Type 'q()' to quit R.
> test_TCGA_getData <- function(){
+ EpiMixResults <- TCGA_GetData(CancerSite = "OV",
+ mode = "Regular",
+ roadmap.epigenome.ids = "E097", # only required for running the enhancer mode
+ outputDirectory = tempdir(),
+ cores = 10)
+
+ RUnit::checkEquals(nrow(EpiMixResults$FunctionalPairs), 789)
+ }
>
>
>
>
>
>
>
>
>
> proc.time()
user system elapsed
0.125 0.046 0.157
##############################################################################
##############################################################################
###
### Running command:
###
### /home/biocbuild/bbs-3.21-bioc/R/bin/R CMD check --test-dir=longtests --no-stop-on-test-error --no-codoc --no-examples --no-manual --ignore-vignettes --check-subdirs=no EpiMix_1.10.0.tar.gz
###
##############################################################################
##############################################################################
* using log directory ‘/home/biocbuild/bbs-3.21-bioc-longtests/meat/EpiMix.Rcheck’
* using R version 4.5.1 (2025-06-13)
* using platform: x86_64-pc-linux-gnu
* R was compiled by
gcc (Ubuntu 13.3.0-6ubuntu2~24.04) 13.3.0
GNU Fortran (Ubuntu 13.3.0-6ubuntu2~24.04) 13.3.0
* running under: Ubuntu 24.04.3 LTS
* using session charset: UTF-8
* using options ‘--no-codoc --no-examples --no-manual --ignore-vignettes --no-stop-on-test-error’
* checking for file ‘EpiMix/DESCRIPTION’ ... OK
* this is package ‘EpiMix’ version ‘1.10.0’
* package encoding: UTF-8
* checking package namespace information ... OK
* checking package dependencies ... INFO
Imports includes 30 non-default packages.
Importing from so many packages makes the package vulnerable to any of
them becoming unavailable. Move as many as possible to Suggests and
use conditionally.
* checking if this is a source package ... OK
* checking if there is a namespace ... OK
* checking for hidden files and directories ... NOTE
Found the following hidden files and directories:
.BBSoptions
These were most likely included in error. See section ‘Package
structure’ in the ‘Writing R Extensions’ manual.
* checking for portable file names ... OK
* checking for sufficient/correct file permissions ... OK
* checking whether package ‘EpiMix’ can be installed ... OK
* checking installed package size ... OK
* checking package directory ... OK
* checking DESCRIPTION meta-information ... OK
* checking top-level files ... OK
* checking for left-over files ... OK
* checking index information ... OK
* checking package subdirectories ... NOTE
Problems with news in ‘NEWS.md’:
No news entries found.
* checking code files for non-ASCII characters ... OK
* checking R files for syntax errors ... OK
* checking whether the package can be loaded ... OK
* checking whether the package can be loaded with stated dependencies ... OK
* checking whether the package can be unloaded cleanly ... OK
* checking whether the namespace can be loaded with stated dependencies ... OK
* checking whether the namespace can be unloaded cleanly ... OK
* checking loading without being on the library search path ... OK
* checking dependencies in R code ... OK
* checking S3 generic/method consistency ... OK
* checking replacement functions ... OK
* checking foreign function calls ... OK
* checking R code for possible problems ... OK
* checking Rd files ... OK
* checking Rd metadata ... OK
* checking Rd cross-references ... OK
* checking for missing documentation entries ... OK
* checking for code/documentation mismatches ... SKIPPED
* checking Rd \usage sections ... NOTE
Documented arguments not in \usage in Rd file 'TCGA_Load_MolecularData.Rd':
‘MissingValueThresholdGene’ ‘MissingValueThresholdSample’
Documented arguments not in \usage in Rd file 'get.prevalence.Rd':
‘MET_matrix’
Documented arguments not in \usage in Rd file 'test_gene_expr.Rd':
‘raw.pvalue.threshold’ ‘adjusted.pvalue.threshold’
Functions with \usage entries need to have the appropriate \alias
entries, and all their arguments documented.
The \usage entries must correspond to syntactically valid R code.
See chapter ‘Writing R documentation files’ in the ‘Writing R
Extensions’ manual.
* checking Rd contents ... OK
* checking for unstated dependencies in examples ... OK
* checking files in ‘vignettes’ ... SKIPPED
* checking examples ... SKIPPED
* checking for unstated dependencies in ‘longtests’ ... OK
* checking tests in ‘longtests’ ...
Running ‘test_GEO_download.R’
Running ‘test_TCGA_getData.R’
OK
* DONE
Status: 3 NOTEs
See
‘/home/biocbuild/bbs-3.21-bioc-longtests/meat/EpiMix.Rcheck/00check.log’
for details.
EpiMix.Rcheck/00install.out
* installing *source* package ‘EpiMix’ ... ** this is package ‘EpiMix’ version ‘1.10.0’ ** using staged installation ** R ** inst ** byte-compile and prepare package for lazy loading ** help *** installing help indices ** building package indices ** installing vignettes ** testing if installed package can be loaded from temporary location ** testing if installed package can be loaded from final location ** testing if installed package keeps a record of temporary installation path * DONE (EpiMix)