| Back to Multiple platform build/check report for BioC 3.21: simplified long |
|
This page was generated on 2025-04-22 13:17 -0400 (Tue, 22 Apr 2025).
| Hostname | OS | Arch (*) | R version | Installed pkgs |
|---|---|---|---|---|
| nebbiolo1 | Linux (Ubuntu 24.04.1 LTS) | x86_64 | 4.5.0 RC (2025-04-04 r88126) -- "How About a Twenty-Six" | 4831 |
| palomino7 | Windows Server 2022 Datacenter | x64 | 4.5.0 RC (2025-04-04 r88126 ucrt) -- "How About a Twenty-Six" | 4573 |
| lconway | macOS 12.7.1 Monterey | x86_64 | 4.5.0 RC (2025-04-04 r88126) -- "How About a Twenty-Six" | 4599 |
| kjohnson3 | macOS 13.7.1 Ventura | arm64 | 4.5.0 RC (2025-04-04 r88126) -- "How About a Twenty-Six" | 4553 |
| kunpeng2 | Linux (openEuler 24.03 LTS) | aarch64 | R Under development (unstable) (2025-02-19 r87757) -- "Unsuffered Consequences" | 4570 |
| Click on any hostname to see more info about the system (e.g. compilers) (*) as reported by 'uname -p', except on Windows and Mac OS X | ||||
| Package 2302/2341 | Hostname | OS / Arch | INSTALL | BUILD | CHECK | BUILD BIN | ||||||||
| vmrseq 1.0.0 (landing page) Ning Shen
| nebbiolo1 | Linux (Ubuntu 24.04.1 LTS) / x86_64 | OK | OK | ERROR | |||||||||
| palomino7 | Windows Server 2022 Datacenter / x64 | OK | OK | OK | OK | |||||||||
| lconway | macOS 12.7.1 Monterey / x86_64 | OK | OK | OK | OK | |||||||||
| kjohnson3 | macOS 13.7.1 Ventura / arm64 | OK | OK | OK | OK | |||||||||
| kunpeng2 | Linux (openEuler 24.03 LTS) / aarch64 | OK | OK | NA | ||||||||||
|
To the developers/maintainers of the vmrseq package: - Allow up to 24 hours (and sometimes 48 hours) for your latest push to git@git.bioconductor.org:packages/vmrseq.git to reflect on this report. See Troubleshooting Build Report for more information. - Use the following Renviron settings to reproduce errors and warnings. - If 'R CMD check' started to fail recently on the Linux builder(s) over a missing dependency, add the missing dependency to 'Suggests:' in your DESCRIPTION file. See Renviron.bioc for more information. |
| Package: vmrseq |
| Version: 1.0.0 |
| Command: /Library/Frameworks/R.framework/Resources/bin/R CMD check --install=check:vmrseq.install-out.txt --library=/Library/Frameworks/R.framework/Resources/library --no-vignettes --timings vmrseq_1.0.0.tar.gz |
| StartedAt: 2025-04-22 00:18:52 -0400 (Tue, 22 Apr 2025) |
| EndedAt: 2025-04-22 00:24:57 -0400 (Tue, 22 Apr 2025) |
| EllapsedTime: 364.3 seconds |
| RetCode: 0 |
| Status: OK |
| CheckDir: vmrseq.Rcheck |
| Warnings: 0 |
##############################################################################
##############################################################################
###
### Running command:
###
### /Library/Frameworks/R.framework/Resources/bin/R CMD check --install=check:vmrseq.install-out.txt --library=/Library/Frameworks/R.framework/Resources/library --no-vignettes --timings vmrseq_1.0.0.tar.gz
###
##############################################################################
##############################################################################
* using log directory ‘/Users/biocbuild/bbs-3.21-bioc/meat/vmrseq.Rcheck’
* using R version 4.5.0 RC (2025-04-04 r88126)
* using platform: x86_64-apple-darwin20
* R was compiled by
Apple clang version 14.0.0 (clang-1400.0.29.202)
GNU Fortran (GCC) 14.2.0
* running under: macOS Monterey 12.7.6
* using session charset: UTF-8
* using option ‘--no-vignettes’
* checking for file ‘vmrseq/DESCRIPTION’ ... OK
* checking extension type ... Package
* this is package ‘vmrseq’ version ‘1.0.0’
* package encoding: UTF-8
* checking package namespace information ... OK
* checking package dependencies ... OK
* checking if this is a source package ... OK
* checking if there is a namespace ... OK
* checking for hidden files and directories ... OK
* checking for portable file names ... OK
* checking for sufficient/correct file permissions ... OK
* checking whether package ‘vmrseq’ can be installed ... OK
* checking installed package size ... OK
* checking package directory ... OK
* checking ‘build’ directory ... OK
* checking DESCRIPTION meta-information ... NOTE
License stub is invalid DCF.
* checking top-level files ... OK
* checking for left-over files ... OK
* checking index information ... OK
* checking package subdirectories ... OK
* checking code files for non-ASCII characters ... OK
* checking R files for syntax errors ... OK
* checking whether the package can be loaded ... OK
* checking whether the package can be loaded with stated dependencies ... OK
* checking whether the package can be unloaded cleanly ... OK
* checking whether the namespace can be loaded with stated dependencies ... OK
* checking whether the namespace can be unloaded cleanly ... OK
* checking dependencies in R code ... OK
* checking S3 generic/method consistency ... OK
* checking replacement functions ... OK
* checking foreign function calls ... OK
* checking R code for possible problems ... NOTE
.computeProb1Unit : .computeLag: no visible binding for global variable
‘chr’
.computeProb1Unit : .computeLag: no visible binding for global variable
‘state’
.computeProb1Unit : .computeLag: no visible binding for global variable
‘state_lag’
.computeProb1Unit : .computeLag: no visible binding for global variable
‘dist_bp’
.computeProb1Unit: no visible binding for global variable ‘dist_bp’
.computeProb1Unit: no visible binding for global variable ‘N_00’
.computeProb1Unit: no visible binding for global variable ‘N_10’
.computeProb1Unit: no visible binding for global variable ‘N_01’
.computeProb1Unit: no visible binding for global variable ‘N_11’
.computeProb1Unit: no visible binding for global variable ‘p_00’
.computeProb1Unit: no visible binding for global variable ‘p_01’
.estimTransitProbsFromSummary: no visible binding for global variable
‘dist_bp’
.estimTransitProbsFromSummary: no visible binding for global variable
‘p_00’
.estimTransitProbsFromSummary: no visible binding for global variable
‘p_01’
.estimTransitProbsFromSummary: no visible binding for global variable
‘p_10’
.estimTransitProbsFromSummary: no visible binding for global variable
‘p_11’
.estimTransitProbsFromSummary : .selectCols: no visible binding for
global variable ‘dist_bp’
HDF5NAdrop2matrix: no visible global function definition for ‘as’
computeVar : varByCluster: no visible global function definition for
‘as’
computeVarCutoff: no visible global function definition for ‘quantile’
extractInfo: no visible binding for global variable ‘meth’
extractInfo: no visible binding for global variable ‘total’
extractInfo: no visible binding for global variable ‘bool’
tpPlot: no visible binding for global variable ‘dist_bp’
tpPlot: no visible binding for global variable ‘pbar’
tpPlot: no visible binding for global variable ‘phat’
vmrseqFit: no visible binding for global variable ‘bpWindow’
Undefined global functions or variables:
N_00 N_01 N_10 N_11 as bool bpWindow chr dist_bp meth p_00 p_01 p_10
p_11 pbar phat quantile state state_lag total
Consider adding
importFrom("methods", "as")
importFrom("stats", "quantile")
to your NAMESPACE file (and ensure that your DESCRIPTION Imports field
contains 'methods').
* checking Rd files ... OK
* checking Rd metadata ... OK
* checking Rd cross-references ... OK
* checking for missing documentation entries ... OK
* checking for code/documentation mismatches ... OK
* checking Rd \usage sections ... OK
* checking Rd contents ... OK
* checking for unstated dependencies in examples ... OK
* checking contents of ‘data’ directory ... OK
* checking data for non-ASCII characters ... OK
* checking data for ASCII and uncompressed saves ... OK
* checking R/sysdata.rda ... OK
* checking files in ‘vignettes’ ... OK
* checking examples ... OK
Examples with CPU (user + system) or elapsed time > 5s
user system elapsed
vmrseqFit 43.247 7.879 14.786
vmrseqSmooth 28.520 4.552 12.900
regionSummary 4.514 0.601 4.473
* checking for unstated dependencies in ‘tests’ ... OK
* checking tests ...
Running ‘testthat.R’
OK
* checking for unstated dependencies in vignettes ... OK
* checking package vignettes ... OK
* checking running R code from vignettes ... SKIPPED
* checking re-building of vignette outputs ... SKIPPED
* checking PDF version of manual ... OK
* DONE
Status: 2 NOTEs
See
‘/Users/biocbuild/bbs-3.21-bioc/meat/vmrseq.Rcheck/00check.log’
for details.
vmrseq.Rcheck/00install.out
############################################################################## ############################################################################## ### ### Running command: ### ### /Library/Frameworks/R.framework/Resources/bin/R CMD INSTALL vmrseq ### ############################################################################## ############################################################################## * installing to library ‘/Library/Frameworks/R.framework/Versions/4.5-x86_64/Resources/library’ * installing *source* package ‘vmrseq’ ... ** this is package ‘vmrseq’ version ‘1.0.0’ ** using staged installation ** R ** data ** inst ** byte-compile and prepare package for lazy loading ** help *** installing help indices *** copying figures ** building package indices ** installing vignettes ** testing if installed package can be loaded from temporary location ** testing if installed package can be loaded from final location ** testing if installed package keeps a record of temporary installation path * DONE (vmrseq)
vmrseq.Rcheck/tests/testthat.Rout
R version 4.5.0 RC (2025-04-04 r88126) -- "How About a Twenty-Six"
Copyright (C) 2025 The R Foundation for Statistical Computing
Platform: x86_64-apple-darwin20
R is free software and comes with ABSOLUTELY NO WARRANTY.
You are welcome to redistribute it under certain conditions.
Type 'license()' or 'licence()' for distribution details.
R is a collaborative project with many contributors.
Type 'contributors()' for more information and
'citation()' on how to cite R or R packages in publications.
Type 'demo()' for some demos, 'help()' for on-line help, or
'help.start()' for an HTML browser interface to help.
Type 'q()' to quit R.
> # This file is part of the standard setup for testthat.
> # It is recommended that you do not modify it.
> #
> # Where should you do additional test configuration?
> # Learn more about the roles of various files in:
> # * https://r-pkgs.org/tests.html
> # * https://testthat.r-lib.org/reference/test_package.html#special-files
>
> library(testthat)
> library(vmrseq)
>
> test_check("vmrseq")
[ FAIL 0 | WARN 0 | SKIP 0 | PASS 23 ]
>
> proc.time()
user system elapsed
14.706 0.770 15.556
vmrseq.Rcheck/vmrseq-Ex.timings
| name | user | system | elapsed | |
| HDF5NAdrop2matrix | 2.535 | 0.620 | 3.181 | |
| cell_1 | 0.036 | 0.004 | 0.040 | |
| cell_2 | 0.022 | 0.003 | 0.026 | |
| cell_3 | 0.026 | 0.001 | 0.028 | |
| poolData | 0 | 0 | 0 | |
| regionSummary | 4.514 | 0.601 | 4.473 | |
| toy.gr | 0.090 | 0.012 | 0.103 | |
| toy.results | 0.108 | 0.013 | 0.121 | |
| tpEstimate | 3.024 | 1.284 | 2.227 | |
| tpPlot | 1.052 | 0.164 | 1.227 | |
| vmrseqFit | 43.247 | 7.879 | 14.786 | |
| vmrseqOptimControl | 0.001 | 0.001 | 0.000 | |
| vmrseqSmooth | 28.520 | 4.552 | 12.900 | |