| Back to Multiple platform build/check report for BioC 3.21: simplified long |
|
This page was generated on 2025-08-14 11:48 -0400 (Thu, 14 Aug 2025).
| Hostname | OS | Arch (*) | R version | Installed pkgs |
|---|---|---|---|---|
| nebbiolo1 | Linux (Ubuntu 24.04.3 LTS) | x86_64 | 4.5.1 (2025-06-13) -- "Great Square Root" | 4824 |
| palomino7 | Windows Server 2022 Datacenter | x64 | 4.5.1 (2025-06-13 ucrt) -- "Great Square Root" | 4566 |
| merida1 | macOS 12.7.5 Monterey | x86_64 | 4.5.1 RC (2025-06-05 r88288) -- "Great Square Root" | 4604 |
| kjohnson1 | macOS 13.6.6 Ventura | arm64 | 4.5.1 Patched (2025-06-14 r88325) -- "Great Square Root" | 4545 |
| kunpeng2 | Linux (openEuler 24.03 LTS) | aarch64 | R Under development (unstable) (2025-02-19 r87757) -- "Unsuffered Consequences" | 4579 |
| Click on any hostname to see more info about the system (e.g. compilers) (*) as reported by 'uname -p', except on Windows and Mac OS X | ||||
| Package 2302/2341 | Hostname | OS / Arch | INSTALL | BUILD | CHECK | BUILD BIN | ||||||||
| vmrseq 1.0.1 (landing page) Ning Shen
| nebbiolo1 | Linux (Ubuntu 24.04.3 LTS) / x86_64 | OK | OK | OK | |||||||||
| palomino7 | Windows Server 2022 Datacenter / x64 | OK | OK | OK | OK | |||||||||
| merida1 | macOS 12.7.5 Monterey / x86_64 | OK | OK | OK | OK | |||||||||
| kjohnson1 | macOS 13.6.6 Ventura / arm64 | OK | OK | OK | OK | |||||||||
| kunpeng2 | Linux (openEuler 24.03 LTS) / aarch64 | OK | OK | OK | ||||||||||
|
To the developers/maintainers of the vmrseq package: - Allow up to 24 hours (and sometimes 48 hours) for your latest push to git@git.bioconductor.org:packages/vmrseq.git to reflect on this report. See Troubleshooting Build Report for more information. - Use the following Renviron settings to reproduce errors and warnings. - If 'R CMD check' started to fail recently on the Linux builder(s) over a missing dependency, add the missing dependency to 'Suggests:' in your DESCRIPTION file. See Renviron.bioc for more information. - See Martin Grigorov's blog post for how to debug Linux ARM64 related issues on a x86_64 host. |
| Package: vmrseq |
| Version: 1.0.1 |
| Command: /home/biocbuild/R/R/bin/R CMD check --install=check:vmrseq.install-out.txt --library=/home/biocbuild/R/R/site-library --no-vignettes --timings vmrseq_1.0.1.tar.gz |
| StartedAt: 2025-08-12 15:02:44 -0000 (Tue, 12 Aug 2025) |
| EndedAt: 2025-08-12 15:10:14 -0000 (Tue, 12 Aug 2025) |
| EllapsedTime: 449.3 seconds |
| RetCode: 0 |
| Status: OK |
| CheckDir: vmrseq.Rcheck |
| Warnings: 0 |
##############################################################################
##############################################################################
###
### Running command:
###
### /home/biocbuild/R/R/bin/R CMD check --install=check:vmrseq.install-out.txt --library=/home/biocbuild/R/R/site-library --no-vignettes --timings vmrseq_1.0.1.tar.gz
###
##############################################################################
##############################################################################
* using log directory ‘/home/biocbuild/bbs-3.21-bioc/meat/vmrseq.Rcheck’
* using R Under development (unstable) (2025-02-19 r87757)
* using platform: aarch64-unknown-linux-gnu
* R was compiled by
aarch64-unknown-linux-gnu-gcc (GCC) 14.2.0
GNU Fortran (GCC) 14.2.0
* running under: openEuler 24.03 (LTS-SP1)
* using session charset: UTF-8
* using option ‘--no-vignettes’
* checking for file ‘vmrseq/DESCRIPTION’ ... OK
* checking extension type ... Package
* this is package ‘vmrseq’ version ‘1.0.1’
* package encoding: UTF-8
* checking package namespace information ... OK
* checking package dependencies ... OK
* checking if this is a source package ... OK
* checking if there is a namespace ... OK
* checking for hidden files and directories ... OK
* checking for portable file names ... OK
* checking for sufficient/correct file permissions ... OK
* checking whether package ‘vmrseq’ can be installed ... OK
* checking installed package size ... OK
* checking package directory ... OK
* checking ‘build’ directory ... OK
* checking DESCRIPTION meta-information ... NOTE
License stub is invalid DCF.
* checking top-level files ... OK
* checking for left-over files ... OK
* checking index information ... OK
* checking package subdirectories ... OK
* checking code files for non-ASCII characters ... OK
* checking R files for syntax errors ... OK
* checking whether the package can be loaded ... OK
* checking whether the package can be loaded with stated dependencies ... OK
* checking whether the package can be unloaded cleanly ... OK
* checking whether the namespace can be loaded with stated dependencies ... OK
* checking whether the namespace can be unloaded cleanly ... OK
* checking loading without being on the library search path ... OK
* checking dependencies in R code ... OK
* checking S3 generic/method consistency ... OK
* checking replacement functions ... OK
* checking foreign function calls ... OK
* checking R code for possible problems ... NOTE
.computeProb1Unit : .computeLag: no visible binding for global variable
‘chr’
.computeProb1Unit : .computeLag: no visible binding for global variable
‘state’
.computeProb1Unit : .computeLag: no visible binding for global variable
‘state_lag’
.computeProb1Unit : .computeLag: no visible binding for global variable
‘dist_bp’
.computeProb1Unit: no visible binding for global variable ‘dist_bp’
.computeProb1Unit: no visible binding for global variable ‘N_00’
.computeProb1Unit: no visible binding for global variable ‘N_10’
.computeProb1Unit: no visible binding for global variable ‘N_01’
.computeProb1Unit: no visible binding for global variable ‘N_11’
.computeProb1Unit: no visible binding for global variable ‘p_00’
.computeProb1Unit: no visible binding for global variable ‘p_01’
.estimTransitProbsFromSummary: no visible binding for global variable
‘dist_bp’
.estimTransitProbsFromSummary: no visible binding for global variable
‘p_00’
.estimTransitProbsFromSummary: no visible binding for global variable
‘p_01’
.estimTransitProbsFromSummary: no visible binding for global variable
‘p_10’
.estimTransitProbsFromSummary: no visible binding for global variable
‘p_11’
.estimTransitProbsFromSummary : .selectCols: no visible binding for
global variable ‘dist_bp’
HDF5NAdrop2matrix: no visible global function definition for ‘as’
computeVar : varByCluster: no visible global function definition for
‘as’
computeVarCutoff: no visible global function definition for ‘quantile’
extractInfo: no visible binding for global variable ‘meth’
extractInfo: no visible binding for global variable ‘total’
extractInfo: no visible binding for global variable ‘bool’
tpPlot: no visible binding for global variable ‘dist_bp’
tpPlot: no visible binding for global variable ‘pbar’
tpPlot: no visible binding for global variable ‘phat’
vmrseqFit: no visible binding for global variable ‘bpWindow’
Undefined global functions or variables:
N_00 N_01 N_10 N_11 as bool bpWindow chr dist_bp meth p_00 p_01 p_10
p_11 pbar phat quantile state state_lag total
Consider adding
importFrom("methods", "as")
importFrom("stats", "quantile")
to your NAMESPACE file (and ensure that your DESCRIPTION Imports field
contains 'methods').
* checking Rd files ... OK
* checking Rd metadata ... OK
* checking Rd cross-references ... OK
* checking for missing documentation entries ... OK
* checking for code/documentation mismatches ... OK
* checking Rd \usage sections ... OK
* checking Rd contents ... OK
* checking for unstated dependencies in examples ... OK
* checking contents of ‘data’ directory ... OK
* checking data for non-ASCII characters ... OK
* checking data for ASCII and uncompressed saves ... OK
* checking R/sysdata.rda ... OK
* checking files in ‘vignettes’ ... OK
* checking examples ... OK
Examples with CPU (user + system) or elapsed time > 5s
user system elapsed
vmrseqFit 41.584 4.882 19.487
vmrseqSmooth 25.682 2.896 8.032
regionSummary 5.607 0.480 5.364
* checking for unstated dependencies in ‘tests’ ... OK
* checking tests ...
Running ‘testthat.R’
OK
* checking for unstated dependencies in vignettes ... OK
* checking package vignettes ... OK
* checking running R code from vignettes ... SKIPPED
* checking re-building of vignette outputs ... SKIPPED
* checking PDF version of manual ... OK
* DONE
Status: 2 NOTEs
See
‘/home/biocbuild/bbs-3.21-bioc/meat/vmrseq.Rcheck/00check.log’
for details.
vmrseq.Rcheck/00install.out
############################################################################## ############################################################################## ### ### Running command: ### ### /home/biocbuild/R/R/bin/R CMD INSTALL vmrseq ### ############################################################################## ############################################################################## * installing to library ‘/home/biocbuild/R/R-devel_2025-02-19/site-library’ * installing *source* package ‘vmrseq’ ... ** this is package ‘vmrseq’ version ‘1.0.1’ ** using staged installation ** R ** data ** inst ** byte-compile and prepare package for lazy loading ** help *** installing help indices *** copying figures ** building package indices ** installing vignettes ** testing if installed package can be loaded from temporary location ** testing if installed package can be loaded from final location ** testing if installed package keeps a record of temporary installation path * DONE (vmrseq)
vmrseq.Rcheck/tests/testthat.Rout
R Under development (unstable) (2025-02-19 r87757) -- "Unsuffered Consequences"
Copyright (C) 2025 The R Foundation for Statistical Computing
Platform: aarch64-unknown-linux-gnu
R is free software and comes with ABSOLUTELY NO WARRANTY.
You are welcome to redistribute it under certain conditions.
Type 'license()' or 'licence()' for distribution details.
R is a collaborative project with many contributors.
Type 'contributors()' for more information and
'citation()' on how to cite R or R packages in publications.
Type 'demo()' for some demos, 'help()' for on-line help, or
'help.start()' for an HTML browser interface to help.
Type 'q()' to quit R.
> # This file is part of the standard setup for testthat.
> # It is recommended that you do not modify it.
> #
> # Where should you do additional test configuration?
> # Learn more about the roles of various files in:
> # * https://r-pkgs.org/tests.html
> # * https://testthat.r-lib.org/reference/test_package.html#special-files
>
> library(testthat)
> library(vmrseq)
>
> test_check("vmrseq")
[ FAIL 0 | WARN 0 | SKIP 0 | PASS 23 ]
>
> proc.time()
user system elapsed
18.413 0.608 19.048
vmrseq.Rcheck/vmrseq-Ex.timings
| name | user | system | elapsed | |
| HDF5NAdrop2matrix | 3.485 | 0.172 | 3.670 | |
| cell_1 | 0.036 | 0.000 | 0.036 | |
| cell_2 | 0.023 | 0.001 | 0.023 | |
| cell_3 | 0.023 | 0.000 | 0.024 | |
| poolData | 0 | 0 | 0 | |
| regionSummary | 5.607 | 0.480 | 5.364 | |
| toy.gr | 0.122 | 0.000 | 0.123 | |
| toy.results | 0.136 | 0.012 | 0.148 | |
| tpEstimate | 3.432 | 1.251 | 2.422 | |
| tpPlot | 1.392 | 0.235 | 1.632 | |
| vmrseqFit | 41.584 | 4.882 | 19.487 | |
| vmrseqOptimControl | 0.001 | 0.000 | 0.000 | |
| vmrseqSmooth | 25.682 | 2.896 | 8.032 | |