| Back to Multiple platform build/check report for BioC 3.22: simplified long | 
  | 
This page was generated on 2025-11-03 12:05 -0500 (Mon, 03 Nov 2025).
| Hostname | OS | Arch (*) | R version | Installed pkgs | 
|---|---|---|---|---|
| nebbiolo2 | Linux (Ubuntu 24.04.3 LTS) | x86_64 | 4.5.1 Patched (2025-08-23 r88802) -- "Great Square Root" | 4902 | 
| lconway | macOS 12.7.6 Monterey | x86_64 | 4.5.1 Patched (2025-09-10 r88807) -- "Great Square Root" | 4692 | 
| kjohnson3 | macOS 13.7.7 Ventura | arm64 | 4.5.1 Patched (2025-09-10 r88807) -- "Great Square Root" | 4638 | 
| Click on any hostname to see more info about the system (e.g. compilers) (*) as reported by 'uname -p', except on Windows and Mac OS X | ||||
| Package 2322/2361 | Hostname | OS / Arch | INSTALL | BUILD | CHECK | BUILD BIN | ||||||||
| vissE 1.18.0  (landing page) Dharmesh D. Bhuva 
  | nebbiolo2 | Linux (Ubuntu 24.04.3 LTS) / x86_64 | OK | OK | OK | |||||||||
| lconway | macOS 12.7.6 Monterey / x86_64 | OK | OK | OK | OK | |||||||||
| kjohnson3 | macOS 13.7.7 Ventura / arm64 | OK | OK | OK | OK | |||||||||
| 
To the developers/maintainers of the vissE package: - Allow up to 24 hours (and sometimes 48 hours) for your latest push to git@git.bioconductor.org:packages/vissE.git to reflect on this report. See Troubleshooting Build Report for more information. - Use the following Renviron settings to reproduce errors and warnings. - If 'R CMD check' started to fail recently on the Linux builder(s) over a missing dependency, add the missing dependency to 'Suggests:' in your DESCRIPTION file. See Renviron.bioc for more information.  | 
| Package: vissE | 
| Version: 1.18.0 | 
| Command: /Library/Frameworks/R.framework/Resources/bin/R CMD check --install=check:vissE.install-out.txt --library=/Library/Frameworks/R.framework/Resources/library --no-vignettes --timings vissE_1.18.0.tar.gz | 
| StartedAt: 2025-11-02 22:44:18 -0500 (Sun, 02 Nov 2025) | 
| EndedAt: 2025-11-02 22:45:06 -0500 (Sun, 02 Nov 2025) | 
| EllapsedTime: 48.5 seconds | 
| RetCode: 0 | 
| Status: OK | 
| CheckDir: vissE.Rcheck | 
| Warnings: 0 | 
##############################################################################
##############################################################################
###
### Running command:
###
###   /Library/Frameworks/R.framework/Resources/bin/R CMD check --install=check:vissE.install-out.txt --library=/Library/Frameworks/R.framework/Resources/library --no-vignettes --timings vissE_1.18.0.tar.gz
###
##############################################################################
##############################################################################
* using log directory ‘/Users/biocbuild/bbs-3.22-bioc/meat/vissE.Rcheck’
* using R version 4.5.1 Patched (2025-09-10 r88807)
* using platform: aarch64-apple-darwin20
* R was compiled by
    Apple clang version 16.0.0 (clang-1600.0.26.6)
    GNU Fortran (GCC) 14.2.0
* running under: macOS Ventura 13.7.7
* using session charset: UTF-8
* using option ‘--no-vignettes’
* checking for file ‘vissE/DESCRIPTION’ ... OK
* this is package ‘vissE’ version ‘1.18.0’
* package encoding: UTF-8
* checking package namespace information ... OK
* checking package dependencies ... OK
* checking if this is a source package ... OK
* checking if there is a namespace ... OK
* checking for hidden files and directories ... OK
* checking for portable file names ... OK
* checking for sufficient/correct file permissions ... OK
* checking whether package ‘vissE’ can be installed ... OK
* checking installed package size ... OK
* checking package directory ... OK
* checking ‘build’ directory ... OK
* checking DESCRIPTION meta-information ... OK
* checking top-level files ... OK
* checking for left-over files ... OK
* checking index information ... OK
* checking package subdirectories ... OK
* checking code files for non-ASCII characters ... OK
* checking R files for syntax errors ... OK
* checking whether the package can be loaded ... OK
* checking whether the package can be loaded with stated dependencies ... OK
* checking whether the package can be unloaded cleanly ... OK
* checking whether the namespace can be loaded with stated dependencies ... OK
* checking whether the namespace can be unloaded cleanly ... OK
* checking dependencies in R code ... OK
* checking S3 generic/method consistency ... OK
* checking replacement functions ... OK
* checking foreign function calls ... OK
* checking R code for possible problems ... NOTE
checkGroups: no visible global function definition for ‘na.omit’
plotGeneStats: no visible binding for global variable ‘Count’
plotGeneStats: no visible binding for global variable ‘GeneStat’
plotGeneStats: no visible binding for global variable ‘Gene’
plotMsigNetwork: no visible binding for global variable ‘Size’
plotMsigNetwork: no visible binding for global variable ‘Category’
plotMsigNetwork: no visible binding for global variable ‘x’
plotMsigNetwork: no visible binding for global variable ‘y’
plotMsigNetwork: no visible binding for global variable ‘NodeGroup’
plotMsigPPI: no visible binding for global variable ‘weight’
plotMsigPPI: no visible binding for global variable ‘Degree’
plotMsigPPI: no visible binding for global variable ‘label’
plotMsigPPI: no visible binding for global variable ‘Label’
plotMsigWordcloud: no visible binding for global variable ‘word’
plotMsigWordcloud: no visible binding for global variable ‘freq’
plotMsigWordcloud: no visible binding for global variable ‘angle’
Undefined global functions or variables:
  Category Count Degree Gene GeneStat Label NodeGroup Size angle freq
  label na.omit weight word x y
Consider adding
  importFrom("stats", "na.omit")
to your NAMESPACE file.
* checking Rd files ... OK
* checking Rd metadata ... OK
* checking Rd cross-references ... NOTE
Non-topic package-anchored link(s) in Rd file 'computeMsigWordFreq.Rd':
  ‘[GSEABase:getObjects]{GSEABase::getBroadSets()}’
Non-topic package-anchored link(s) in Rd file 'plotGeneStats.Rd':
  ‘[GSEABase:getObjects]{GSEABase::getBroadSets()}’
Non-topic package-anchored link(s) in Rd file 'plotMsigPPI.Rd':
  ‘[GSEABase:getObjects]{GSEABase::getBroadSets()}’
Non-topic package-anchored link(s) in Rd file 'plotMsigWordcloud.Rd':
  ‘[GSEABase:getObjects]{GSEABase::getBroadSets()}’
See section 'Cross-references' in the 'Writing R Extensions' manual.
* checking for missing documentation entries ... OK
* checking for code/documentation mismatches ... OK
* checking Rd \usage sections ... OK
* checking Rd contents ... OK
* checking for unstated dependencies in examples ... OK
* checking contents of ‘data’ directory ... OK
* checking data for non-ASCII characters ... OK
* checking LazyData ... NOTE
  'LazyDataCompression' is specified without 'LazyData'
* checking data for ASCII and uncompressed saves ... OK
* checking R/sysdata.rda ... OK
* checking files in ‘vignettes’ ... OK
* checking examples ... OK
* checking for unstated dependencies in ‘tests’ ... OK
* checking tests ...
  Running ‘testthat.R’
 OK
* checking for unstated dependencies in vignettes ... OK
* checking package vignettes ... OK
* checking running R code from vignettes ... SKIPPED
* checking re-building of vignette outputs ... SKIPPED
* checking PDF version of manual ... OK
* DONE
Status: 3 NOTEs
See
  ‘/Users/biocbuild/bbs-3.22-bioc/meat/vissE.Rcheck/00check.log’
for details.
vissE.Rcheck/00install.out
############################################################################## ############################################################################## ### ### Running command: ### ### /Library/Frameworks/R.framework/Resources/bin/R CMD INSTALL vissE ### ############################################################################## ############################################################################## * installing to library ‘/Library/Frameworks/R.framework/Versions/4.5-arm64/Resources/library’ * installing *source* package ‘vissE’ ... ** this is package ‘vissE’ version ‘1.18.0’ ** using staged installation ** R ** data ** inst ** byte-compile and prepare package for lazy loading ** help *** installing help indices ** building package indices ** installing vignettes ** testing if installed package can be loaded from temporary location ** testing if installed package can be loaded from final location ** testing if installed package keeps a record of temporary installation path * DONE (vissE)
vissE.Rcheck/tests/testthat.Rout
R version 4.5.1 Patched (2025-09-10 r88807) -- "Great Square Root"
Copyright (C) 2025 The R Foundation for Statistical Computing
Platform: aarch64-apple-darwin20
R is free software and comes with ABSOLUTELY NO WARRANTY.
You are welcome to redistribute it under certain conditions.
Type 'license()' or 'licence()' for distribution details.
R is a collaborative project with many contributors.
Type 'contributors()' for more information and
'citation()' on how to cite R or R packages in publications.
Type 'demo()' for some demos, 'help()' for on-line help, or
'help.start()' for an HTML browser interface to help.
Type 'q()' to quit R.
> library(testthat)
> library(vissE)
> 
> test_check("vissE")
[ FAIL 0 | WARN 9 | SKIP 0 | PASS 63 ]
[ FAIL 0 | WARN 9 | SKIP 0 | PASS 63 ]
> 
> proc.time()
   user  system elapsed 
 11.415   0.431  12.471 
vissE.Rcheck/vissE-Ex.timings
| name | user | system | elapsed | |
| bhuvad_theme | 0.070 | 0.003 | 0.088 | |
| characteriseGeneset | 1.502 | 0.062 | 1.600 | |
| computeMsigNetwork | 0.059 | 0.005 | 0.071 | |
| computeMsigOverlap | 0.009 | 0.001 | 0.010 | |
| computeMsigWordFreq | 2.203 | 0.136 | 2.811 | |
| findMsigClusters | 0.014 | 0.002 | 0.016 | |
| getMsigExclusionList | 0 | 0 | 0 | |
| plotGeneStats | 0.516 | 0.012 | 0.536 | |
| plotMsigNetwork | 0.300 | 0.012 | 0.317 | |
| plotMsigPPI | 3.694 | 0.081 | 3.975 | |
| plotMsigWordcloud | 3.148 | 0.205 | 3.676 | |