| Back to Multiple platform build/check report for BioC 3.22: simplified long |
|
This page was generated on 2025-11-05 12:40 -0500 (Wed, 05 Nov 2025).
| Hostname | OS | Arch (*) | R version | Installed pkgs |
|---|---|---|---|---|
| nebbiolo2 | Linux (Ubuntu 24.04.3 LTS) | x86_64 | 4.5.1 Patched (2025-08-23 r88802) -- "Great Square Root" | 4902 |
| kjohnson3 | macOS 13.7.7 Ventura | arm64 | 4.5.1 Patched (2025-09-10 r88807) -- "Great Square Root" | 4638 |
| Click on any hostname to see more info about the system (e.g. compilers) (*) as reported by 'uname -p', except on Windows and Mac OS X | ||||
| Package 2282/2361 | Hostname | OS / Arch | INSTALL | BUILD | CHECK | BUILD BIN | ||||||||
| twoddpcr 1.34.0 (landing page) Anthony Chiu
| nebbiolo2 | Linux (Ubuntu 24.04.3 LTS) / x86_64 | OK | OK | OK | |||||||||
| kjohnson3 | macOS 13.7.7 Ventura / arm64 | OK | OK | OK | OK | |||||||||
|
To the developers/maintainers of the twoddpcr package: - Allow up to 24 hours (and sometimes 48 hours) for your latest push to git@git.bioconductor.org:packages/twoddpcr.git to reflect on this report. See Troubleshooting Build Report for more information. - Use the following Renviron settings to reproduce errors and warnings. - If 'R CMD check' started to fail recently on the Linux builder(s) over a missing dependency, add the missing dependency to 'Suggests:' in your DESCRIPTION file. See Renviron.bioc for more information. |
| Package: twoddpcr |
| Version: 1.34.0 |
| Command: /home/biocbuild/bbs-3.22-bioc/R/bin/R CMD check --install=check:twoddpcr.install-out.txt --library=/home/biocbuild/bbs-3.22-bioc/R/site-library --timings twoddpcr_1.34.0.tar.gz |
| StartedAt: 2025-11-05 05:11:19 -0500 (Wed, 05 Nov 2025) |
| EndedAt: 2025-11-05 05:15:29 -0500 (Wed, 05 Nov 2025) |
| EllapsedTime: 250.2 seconds |
| RetCode: 0 |
| Status: OK |
| CheckDir: twoddpcr.Rcheck |
| Warnings: 0 |
##############################################################################
##############################################################################
###
### Running command:
###
### /home/biocbuild/bbs-3.22-bioc/R/bin/R CMD check --install=check:twoddpcr.install-out.txt --library=/home/biocbuild/bbs-3.22-bioc/R/site-library --timings twoddpcr_1.34.0.tar.gz
###
##############################################################################
##############################################################################
* using log directory ‘/home/biocbuild/bbs-3.22-bioc/meat/twoddpcr.Rcheck’
* using R version 4.5.1 Patched (2025-08-23 r88802)
* using platform: x86_64-pc-linux-gnu
* R was compiled by
gcc (Ubuntu 13.3.0-6ubuntu2~24.04) 13.3.0
GNU Fortran (Ubuntu 13.3.0-6ubuntu2~24.04) 13.3.0
* running under: Ubuntu 24.04.3 LTS
* using session charset: UTF-8
* checking for file ‘twoddpcr/DESCRIPTION’ ... OK
* this is package ‘twoddpcr’ version ‘1.34.0’
* checking package namespace information ... OK
* checking package dependencies ... OK
* checking if this is a source package ... OK
* checking if there is a namespace ... OK
* checking for hidden files and directories ... OK
* checking for portable file names ... OK
* checking for sufficient/correct file permissions ... OK
* checking whether package ‘twoddpcr’ can be installed ... OK
* checking installed package size ... OK
* checking package directory ... OK
* checking ‘build’ directory ... OK
* checking DESCRIPTION meta-information ... OK
* checking top-level files ... OK
* checking for left-over files ... OK
* checking index information ... OK
* checking package subdirectories ... OK
* checking code files for non-ASCII characters ... OK
* checking R files for syntax errors ... OK
* checking whether the package can be loaded ... OK
* checking whether the package can be loaded with stated dependencies ... OK
* checking whether the package can be unloaded cleanly ... OK
* checking whether the namespace can be loaded with stated dependencies ... OK
* checking whether the namespace can be unloaded cleanly ... OK
* checking loading without being on the library search path ... OK
* checking dependencies in R code ... OK
* checking S3 generic/method consistency ... OK
* checking replacement functions ... OK
* checking foreign function calls ... OK
* checking R code for possible problems ... OK
* checking Rd files ... OK
* checking Rd metadata ... OK
* checking Rd cross-references ... OK
* checking for missing documentation entries ... OK
* checking for code/documentation mismatches ... OK
* checking Rd \usage sections ... NOTE
S3 methods shown with full name in Rd file 'ggplot.well.Rd':
‘ggplot.well’ ‘ggplot.plate’
The \usage entries for S3 methods should use the \method markup and not
their full name.
See chapter ‘Writing R documentation files’ in the ‘Writing R
Extensions’ manual.
* checking Rd contents ... OK
* checking for unstated dependencies in examples ... OK
* checking contents of ‘data’ directory ... OK
* checking data for non-ASCII characters ... OK
* checking LazyData ... OK
* checking data for ASCII and uncompressed saves ... OK
* checking files in ‘vignettes’ ... OK
* checking examples ... OK
Examples with CPU (user + system) or elapsed time > 5s
user system elapsed
knnClassify 7.230 0.062 7.293
ggplot.well 6.331 0.112 6.444
* checking for unstated dependencies in ‘tests’ ... OK
* checking tests ...
Running ‘testthat.R’
OK
* checking for unstated dependencies in vignettes ... OK
* checking package vignettes ... OK
* checking re-building of vignette outputs ... OK
* checking PDF version of manual ... OK
* DONE
Status: 1 NOTE
See
‘/home/biocbuild/bbs-3.22-bioc/meat/twoddpcr.Rcheck/00check.log’
for details.
twoddpcr.Rcheck/00install.out
############################################################################## ############################################################################## ### ### Running command: ### ### /home/biocbuild/bbs-3.22-bioc/R/bin/R CMD INSTALL twoddpcr ### ############################################################################## ############################################################################## * installing to library ‘/home/biocbuild/bbs-3.22-bioc/R/site-library’ * installing *source* package ‘twoddpcr’ ... ** this is package ‘twoddpcr’ version ‘1.34.0’ ** using staged installation ** R ** data *** moving datasets to lazyload DB ** inst ** byte-compile and prepare package for lazy loading ** help *** installing help indices ** building package indices ** installing vignettes ** testing if installed package can be loaded from temporary location ** testing if installed package can be loaded from final location ** testing if installed package keeps a record of temporary installation path * DONE (twoddpcr)
twoddpcr.Rcheck/tests/testthat.Rout
R version 4.5.1 Patched (2025-08-23 r88802) -- "Great Square Root"
Copyright (C) 2025 The R Foundation for Statistical Computing
Platform: x86_64-pc-linux-gnu
R is free software and comes with ABSOLUTELY NO WARRANTY.
You are welcome to redistribute it under certain conditions.
Type 'license()' or 'licence()' for distribution details.
R is a collaborative project with many contributors.
Type 'contributors()' for more information and
'citation()' on how to cite R or R packages in publications.
Type 'demo()' for some demos, 'help()' for on-line help, or
'help.start()' for an HTML browser interface to help.
Type 'q()' to quit R.
> library(testthat)
> library(twoddpcr)
>
> test_check("twoddpcr")
[ FAIL 0 | WARN 2 | SKIP 0 | PASS 155 ]
[ FAIL 0 | WARN 2 | SKIP 0 | PASS 155 ]
>
> proc.time()
user system elapsed
6.023 0.316 6.332
twoddpcr.Rcheck/twoddpcr-Ex.timings
| name | user | system | elapsed | |
| amplitudes | 0.266 | 0.028 | 0.293 | |
| basicsSummary | 0.004 | 0.000 | 0.004 | |
| castSummary | 0.013 | 0.002 | 0.015 | |
| classCov | 0.054 | 0.005 | 0.060 | |
| classMeans | 0.222 | 0.010 | 0.233 | |
| classStats | 0.063 | 0.000 | 0.063 | |
| clusterCentres | 0.581 | 0.002 | 0.584 | |
| copiesSummary | 0.004 | 0.000 | 0.005 | |
| ddpcrPlate-class | 0.196 | 0.001 | 0.197 | |
| ddpcrWell-class | 0.016 | 0.001 | 0.017 | |
| ddpcrWell-methods | 0.324 | 0.000 | 0.325 | |
| dropletPlot | 4.459 | 0.069 | 4.530 | |
| exportTable | 0.117 | 0.006 | 0.124 | |
| extractPlateName | 0.000 | 0.000 | 0.001 | |
| extractWellNames | 0.001 | 0.000 | 0.000 | |
| facetPlot | 2.235 | 0.049 | 2.284 | |
| flatPlot | 4.269 | 0.109 | 4.378 | |
| fullCopiesSummary | 0.005 | 0.001 | 0.005 | |
| fullCountsSummary | 0.021 | 0.003 | 0.024 | |
| ggplot.well | 6.331 | 0.112 | 6.444 | |
| gridClassify | 4.600 | 0.074 | 4.674 | |
| heatPlot | 1.517 | 0.009 | 1.527 | |
| kmeansClassify | 0.914 | 0.001 | 0.916 | |
| knnClassify | 7.230 | 0.062 | 7.293 | |
| mahalanobisRain | 0.592 | 0.002 | 0.595 | |
| mutantCopiesSummary | 0.004 | 0.000 | 0.004 | |
| numDroplets | 0.189 | 0.001 | 0.191 | |
| parseClusterCounts | 0.009 | 0.001 | 0.010 | |
| plateClassification | 0.820 | 0.001 | 0.821 | |
| plateClassificationMethod | 0.273 | 0.013 | 0.286 | |
| plateSummary | 1.924 | 0.009 | 1.932 | |
| positiveCounts | 0.022 | 0.002 | 0.024 | |
| readCSVDataFrame | 0.011 | 0.001 | 0.012 | |
| relabelClasses | 0.045 | 0.003 | 0.047 | |
| removeDropletClasses | 0.579 | 0.006 | 0.585 | |
| renormalisePlate | 2.784 | 0.009 | 2.793 | |
| sdRain | 2.660 | 0.001 | 2.661 | |
| setChannelNames | 0.001 | 0.000 | 0.001 | |
| setDropletVolume | 0.001 | 0.000 | 0.000 | |
| sortDataFrame | 0.001 | 0.000 | 0.001 | |
| sortWells | 0.185 | 0.000 | 0.186 | |
| thresholdClassify | 1.130 | 0.039 | 1.169 | |
| wellClassification | 0.014 | 0.000 | 0.015 | |
| wellClassificationMethod | 0.015 | 0.000 | 0.014 | |
| whiteTheme | 1.424 | 0.019 | 1.443 | |
| wildTypeCopiesSummary | 0.003 | 0.000 | 0.003 | |