| Back to Multiple platform build/check report for BioC 3.21: simplified long |
|
This page was generated on 2025-01-22 11:43 -0500 (Wed, 22 Jan 2025).
| Hostname | OS | Arch (*) | R version | Installed pkgs |
|---|---|---|---|---|
| nebbiolo1 | Linux (Ubuntu 24.04.1 LTS) | x86_64 | R Under development (unstable) (2024-10-21 r87258) -- "Unsuffered Consequences" | 4779 |
| palomino7 | Windows Server 2022 Datacenter | x64 | R Under development (unstable) (2024-10-26 r87273 ucrt) -- "Unsuffered Consequences" | 4503 |
| lconway | macOS 12.7.1 Monterey | x86_64 | R Under development (unstable) (2024-11-20 r87352) -- "Unsuffered Consequences" | 4468 |
| kjohnson3 | macOS 13.7.1 Ventura | arm64 | R Under development (unstable) (2024-11-20 r87352) -- "Unsuffered Consequences" | 4423 |
| kunpeng2 | Linux (openEuler 22.03 LTS-SP1) | aarch64 | R Under development (unstable) (2024-11-24 r87369) -- "Unsuffered Consequences" | 4407 |
| Click on any hostname to see more info about the system (e.g. compilers) (*) as reported by 'uname -p', except on Windows and Mac OS X | ||||
| Package 2192/2286 | Hostname | OS / Arch | INSTALL | BUILD | CHECK | BUILD BIN | ||||||||
| trigger 1.53.0 (landing page) John D. Storey
| nebbiolo1 | Linux (Ubuntu 24.04.1 LTS) / x86_64 | ERROR | ERROR | skipped | |||||||||
| palomino7 | Windows Server 2022 Datacenter / x64 | OK | OK | OK | OK | |||||||||
| lconway | macOS 12.7.1 Monterey / x86_64 | ERROR | ERROR | skipped | skipped | |||||||||
| kjohnson3 | macOS 13.7.1 Ventura / arm64 | ERROR | ERROR | skipped | skipped | |||||||||
| kunpeng2 | Linux (openEuler 22.03 LTS-SP1) / aarch64 | ERROR | ERROR | skipped | ||||||||||
|
To the developers/maintainers of the trigger package: - Allow up to 24 hours (and sometimes 48 hours) for your latest push to git@git.bioconductor.org:packages/trigger.git to reflect on this report. See Troubleshooting Build Report for more information. - Use the following Renviron settings to reproduce errors and warnings. - If 'R CMD check' started to fail recently on the Linux builder(s) over a missing dependency, add the missing dependency to 'Suggests:' in your DESCRIPTION file. See Renviron.bioc for more information. |
| Package: trigger |
| Version: 1.53.0 |
| Command: E:\biocbuild\bbs-3.21-bioc\R\bin\R.exe CMD check --no-multiarch --install=check:trigger.install-out.txt --library=E:\biocbuild\bbs-3.21-bioc\R\library --no-vignettes --timings trigger_1.53.0.tar.gz |
| StartedAt: 2025-01-22 06:23:54 -0500 (Wed, 22 Jan 2025) |
| EndedAt: 2025-01-22 06:27:10 -0500 (Wed, 22 Jan 2025) |
| EllapsedTime: 196.7 seconds |
| RetCode: 0 |
| Status: OK |
| CheckDir: trigger.Rcheck |
| Warnings: 0 |
##############################################################################
##############################################################################
###
### Running command:
###
### E:\biocbuild\bbs-3.21-bioc\R\bin\R.exe CMD check --no-multiarch --install=check:trigger.install-out.txt --library=E:\biocbuild\bbs-3.21-bioc\R\library --no-vignettes --timings trigger_1.53.0.tar.gz
###
##############################################################################
##############################################################################
* using log directory 'E:/biocbuild/bbs-3.21-bioc/meat/trigger.Rcheck'
* using R Under development (unstable) (2024-10-26 r87273 ucrt)
* using platform: x86_64-w64-mingw32
* R was compiled by
gcc.exe (GCC) 13.2.0
GNU Fortran (GCC) 13.2.0
* running under: Windows Server 2022 x64 (build 20348)
* using session charset: UTF-8
* using option '--no-vignettes'
* checking for file 'trigger/DESCRIPTION' ... OK
* checking extension type ... Package
* this is package 'trigger' version '1.53.0'
* checking package namespace information ... OK
* checking package dependencies ... OK
* checking if this is a source package ... OK
* checking if there is a namespace ... OK
* checking for hidden files and directories ... OK
* checking for portable file names ... OK
* checking whether package 'trigger' can be installed ... OK
* used C compiler: 'gcc.exe (GCC) 13.3.0'
* checking installed package size ... OK
* checking package directory ... OK
* checking 'build' directory ... OK
* checking DESCRIPTION meta-information ... OK
* checking top-level files ... OK
* checking for left-over files ... OK
* checking index information ... OK
* checking package subdirectories ... OK
* checking code files for non-ASCII characters ... OK
* checking R files for syntax errors ... OK
* checking whether the package can be loaded ... OK
* checking whether the package can be loaded with stated dependencies ... OK
* checking whether the package can be unloaded cleanly ... OK
* checking whether the namespace can be loaded with stated dependencies ... OK
* checking whether the namespace can be unloaded cleanly ... OK
* checking dependencies in R code ... OK
* checking S3 generic/method consistency ... OK
* checking replacement functions ... OK
* checking foreign function calls ... OK
* checking R code for possible problems ... NOTE
initialize,trigger: no visible global function definition for
'callNextMethod'
Undefined global functions or variables:
callNextMethod
Consider adding
importFrom("methods", "callNextMethod")
to your NAMESPACE file (and ensure that your DESCRIPTION Imports field
contains 'methods').
* checking Rd files ... OK
* checking Rd metadata ... OK
* checking Rd cross-references ... OK
* checking for missing documentation entries ... OK
* checking for code/documentation mismatches ... OK
* checking Rd \usage sections ... OK
* checking Rd contents ... OK
* checking for unstated dependencies in examples ... OK
* checking contents of 'data' directory ... OK
* checking data for non-ASCII characters ... OK
* checking data for ASCII and uncompressed saves ... OK
* checking line endings in C/C++/Fortran sources/headers ... OK
* checking compiled code ... NOTE
Note: information on .o files for x64 is not available
File 'E:/biocbuild/bbs-3.21-bioc/R/library/trigger/libs/x64/trigger.dll':
Found '_exit', possibly from '_exit' (C)
Found 'abort', possibly from 'abort' (C), 'runtime' (Fortran)
Compiled code should not call entry points which might terminate R nor
write to stdout/stderr instead of to the console, nor use Fortran I/O
nor system RNGs nor [v]sprintf. The detected symbols are linked into
the code but might come from libraries and not actually be called.
See 'Writing portable packages' in the 'Writing R Extensions' manual.
* checking sizes of PDF files under 'inst/doc' ... OK
* checking files in 'vignettes' ... OK
* checking examples ... OK
Examples with CPU (user + system) or elapsed time > 5s
user system elapsed
trigger-export2cross 30.32 1.13 31.46
* checking for unstated dependencies in vignettes ... OK
* checking package vignettes ... OK
* checking running R code from vignettes ... SKIPPED
* checking re-building of vignette outputs ... SKIPPED
* checking PDF version of manual ... OK
* DONE
Status: 2 NOTEs
See
'E:/biocbuild/bbs-3.21-bioc/meat/trigger.Rcheck/00check.log'
for details.
trigger.Rcheck/00install.out
##############################################################################
##############################################################################
###
### Running command:
###
### E:\biocbuild\bbs-3.21-bioc\R\bin\R.exe CMD INSTALL trigger
###
##############################################################################
##############################################################################
* installing to library 'E:/biocbuild/bbs-3.21-bioc/R/library'
* installing *source* package 'trigger' ...
** using staged installation
** libs
using C compiler: 'gcc.exe (GCC) 13.3.0'
gcc -I"E:/biocbuild/bbs-3.21-bioc/R/include" -DNDEBUG -I"C:/rtools44/x86_64-w64-mingw32.static.posix/include" -O2 -Wall -mfpmath=sse -msse2 -mstackrealign -c trigger.c -o trigger.o
trigger.c: In function 'mergeorder':
trigger.c:25:20: warning: variable 'n3' set but not used [-Wunused-but-set-variable]
25 | int i1,i2,i3,n1,n2,n3;
| ^~
trigger.c: In function 'sec_link_stat':
trigger.c:81:10: warning: variable 'nct' set but not used [-Wunused-but-set-variable]
81 | int ntr, nct, i, j;
| ^~~
trigger.c: In function 'sec_link_stat_x':
trigger.c:153:10: warning: variable 'nct' set but not used [-Wunused-but-set-variable]
153 | int ntr, nct, i, j, k, nk;
| ^~~
trigger.c: In function 'condi_indep_stat':
trigger.c:233:10: warning: variable 'nct' set but not used [-Wunused-but-set-variable]
233 | int ntr, nct, i, j;
| ^~~
trigger.c: In function 'condi_indep_stat_x':
trigger.c:310:10: warning: variable 'nct' set but not used [-Wunused-but-set-variable]
310 | int ntr, nct, i, j, k, nk;
| ^~~
trigger.c: In function 'condi_indep_stat_rx':
trigger.c:393:10: warning: variable 'nct' set but not used [-Wunused-but-set-variable]
393 | int ntr, nct, i, j, k, nk;
| ^~~
gcc -shared -s -static-libgcc -o trigger.dll tmp.def trigger.o -LC:/rtools44/x86_64-w64-mingw32.static.posix/lib/x64 -LC:/rtools44/x86_64-w64-mingw32.static.posix/lib -LE:/biocbuild/bbs-3.21-bioc/R/bin/x64 -lR
installing to E:/biocbuild/bbs-3.21-bioc/R/library/00LOCK-trigger/00new/trigger/libs/x64
** R
** data
** inst
** byte-compile and prepare package for lazy loading
** help
*** installing help indices
** building package indices
** installing vignettes
** testing if installed package can be loaded from temporary location
** testing if installed package can be loaded from final location
** testing if installed package keeps a record of temporary installation path
* DONE (trigger)
trigger.Rcheck/trigger-Ex.timings
| name | user | system | elapsed | |
| plot | 0 | 0 | 0 | |
| trigger-build | 0 | 0 | 0 | |
| trigger-eigenR2 | 0 | 0 | 0 | |
| trigger-export2cross | 30.32 | 1.13 | 31.46 | |
| trigger-link | 0.00 | 0.01 | 0.02 | |
| trigger-loclink | 0 | 0 | 0 | |
| trigger-mlink | 0 | 0 | 0 | |
| trigger-net | 0 | 0 | 0 | |
| trigger-netPlot2ps | 0 | 0 | 0 | |
| trigger-trait | 0 | 0 | 0 | |