| Back to Multiple platform build/check report for BioC 3.21: simplified long |
|
This page was generated on 2025-10-16 11:40 -0400 (Thu, 16 Oct 2025).
| Hostname | OS | Arch (*) | R version | Installed pkgs |
|---|---|---|---|---|
| nebbiolo1 | Linux (Ubuntu 24.04.3 LTS) | x86_64 | 4.5.1 (2025-06-13) -- "Great Square Root" | 4833 |
| merida1 | macOS 12.7.6 Monterey | x86_64 | 4.5.1 RC (2025-06-05 r88288) -- "Great Square Root" | 4614 |
| kjohnson1 | macOS 13.7.5 Ventura | arm64 | 4.5.1 Patched (2025-06-14 r88325) -- "Great Square Root" | 4555 |
| kunpeng2 | Linux (openEuler 24.03 LTS) | aarch64 | R Under development (unstable) (2025-02-19 r87757) -- "Unsuffered Consequences" | 4586 |
| Click on any hostname to see more info about the system (e.g. compilers) (*) as reported by 'uname -p', except on Windows and Mac OS X | ||||
| Package 2220/2341 | Hostname | OS / Arch | INSTALL | BUILD | CHECK | BUILD BIN | ||||||||
| trackViewer 1.44.0 (landing page) Jianhong Ou
| nebbiolo1 | Linux (Ubuntu 24.04.3 LTS) / x86_64 | OK | OK | OK | |||||||||
| merida1 | macOS 12.7.6 Monterey / x86_64 | OK | OK | OK | OK | |||||||||
| kjohnson1 | macOS 13.7.5 Ventura / arm64 | OK | OK | OK | OK | |||||||||
| kunpeng2 | Linux (openEuler 24.03 LTS) / aarch64 | OK | OK | NA | ||||||||||
|
To the developers/maintainers of the trackViewer package: - Allow up to 24 hours (and sometimes 48 hours) for your latest push to git@git.bioconductor.org:packages/trackViewer.git to reflect on this report. See Troubleshooting Build Report for more information. - Use the following Renviron settings to reproduce errors and warnings. - If 'R CMD check' started to fail recently on the Linux builder(s) over a missing dependency, add the missing dependency to 'Suggests:' in your DESCRIPTION file. See Renviron.bioc for more information. |
| Package: trackViewer |
| Version: 1.44.0 |
| Command: /Library/Frameworks/R.framework/Resources/bin/R CMD check --install=check:trackViewer.install-out.txt --library=/Library/Frameworks/R.framework/Resources/library --no-vignettes --timings trackViewer_1.44.0.tar.gz |
| StartedAt: 2025-10-15 15:41:11 -0400 (Wed, 15 Oct 2025) |
| EndedAt: 2025-10-15 15:50:53 -0400 (Wed, 15 Oct 2025) |
| EllapsedTime: 582.5 seconds |
| RetCode: 0 |
| Status: OK |
| CheckDir: trackViewer.Rcheck |
| Warnings: 0 |
##############################################################################
##############################################################################
###
### Running command:
###
### /Library/Frameworks/R.framework/Resources/bin/R CMD check --install=check:trackViewer.install-out.txt --library=/Library/Frameworks/R.framework/Resources/library --no-vignettes --timings trackViewer_1.44.0.tar.gz
###
##############################################################################
##############################################################################
* using log directory ‘/Users/biocbuild/bbs-3.21-bioc/meat/trackViewer.Rcheck’
* using R version 4.5.1 Patched (2025-06-14 r88325)
* using platform: aarch64-apple-darwin20
* R was compiled by
Apple clang version 16.0.0 (clang-1600.0.26.6)
GNU Fortran (GCC) 14.2.0
* running under: macOS Ventura 13.7.5
* using session charset: UTF-8
* using option ‘--no-vignettes’
* checking for file ‘trackViewer/DESCRIPTION’ ... OK
* checking extension type ... Package
* this is package ‘trackViewer’ version ‘1.44.0’
* package encoding: UTF-8
* checking package namespace information ... OK
* checking package dependencies ... OK
* checking if this is a source package ... OK
* checking if there is a namespace ... OK
* checking for hidden files and directories ... OK
* checking for portable file names ... OK
* checking for sufficient/correct file permissions ... OK
* checking whether package ‘trackViewer’ can be installed ... OK
* checking installed package size ... OK
* checking package directory ... OK
* checking ‘build’ directory ... OK
* checking DESCRIPTION meta-information ... OK
* checking top-level files ... OK
* checking for left-over files ... OK
* checking index information ... OK
* checking package subdirectories ... OK
* checking code files for non-ASCII characters ... OK
* checking R files for syntax errors ... OK
* checking whether the package can be loaded ... OK
* checking whether the package can be loaded with stated dependencies ... OK
* checking whether the package can be unloaded cleanly ... OK
* checking whether the namespace can be loaded with stated dependencies ... OK
* checking whether the namespace can be unloaded cleanly ... OK
* checking dependencies in R code ... OK
* checking S3 generic/method consistency ... OK
* checking replacement functions ... OK
* checking foreign function calls ... OK
* checking R code for possible problems ... OK
* checking Rd files ... OK
* checking Rd metadata ... OK
* checking Rd cross-references ... NOTE
Found the following Rd file(s) with Rd \link{} targets missing package
anchors:
importGInteractions.Rd: readHicNormTypes
Please provide package anchors for all Rd \link{} targets not in the
package itself and the base packages.
* checking for missing documentation entries ... OK
* checking for code/documentation mismatches ... OK
* checking Rd \usage sections ... OK
* checking Rd contents ... OK
* checking for unstated dependencies in examples ... OK
* checking files in ‘vignettes’ ... OK
* checking examples ... OK
Examples with CPU (user + system) or elapsed time > 5s
user system elapsed
trackViewer-package 23.553 0.176 23.804
viewTracks 16.982 0.086 17.072
browseTracks 16.834 0.134 17.015
parseWIG 15.913 0.116 16.284
geneModelFromTxdb 7.746 0.219 8.036
viewGene 6.700 0.152 6.857
* checking for unstated dependencies in ‘tests’ ... OK
* checking tests ...
Running ‘runTests.R’
OK
* checking for unstated dependencies in vignettes ... OK
* checking package vignettes ... OK
* checking running R code from vignettes ... SKIPPED
* checking re-building of vignette outputs ... SKIPPED
* checking PDF version of manual ... OK
* DONE
Status: 1 NOTE
See
‘/Users/biocbuild/bbs-3.21-bioc/meat/trackViewer.Rcheck/00check.log’
for details.
trackViewer.Rcheck/00install.out
############################################################################## ############################################################################## ### ### Running command: ### ### /Library/Frameworks/R.framework/Resources/bin/R CMD INSTALL trackViewer ### ############################################################################## ############################################################################## * installing to library ‘/Library/Frameworks/R.framework/Versions/4.5-arm64/Resources/library’ * installing *source* package ‘trackViewer’ ... ** this is package ‘trackViewer’ version ‘1.44.0’ ** using staged installation ** R ** inst ** byte-compile and prepare package for lazy loading ** help *** installing help indices ** building package indices ** installing vignettes ** testing if installed package can be loaded from temporary location ** testing if installed package can be loaded from final location ** testing if installed package keeps a record of temporary installation path * DONE (trackViewer)
trackViewer.Rcheck/tests/runTests.Rout
R version 4.5.1 Patched (2025-06-14 r88325) -- "Great Square Root"
Copyright (C) 2025 The R Foundation for Statistical Computing
Platform: aarch64-apple-darwin20
R is free software and comes with ABSOLUTELY NO WARRANTY.
You are welcome to redistribute it under certain conditions.
Type 'license()' or 'licence()' for distribution details.
R is a collaborative project with many contributors.
Type 'contributors()' for more information and
'citation()' on how to cite R or R packages in publications.
Type 'demo()' for some demos, 'help()' for on-line help, or
'help.start()' for an HTML browser interface to help.
Type 'q()' to quit R.
> require("trackViewer") || stop("unable to load Package:trackViewer")
Loading required package: trackViewer
Loading required package: GenomicRanges
Loading required package: stats4
Loading required package: BiocGenerics
Loading required package: generics
Attaching package: 'generics'
The following objects are masked from 'package:base':
as.difftime, as.factor, as.ordered, intersect, is.element, setdiff,
setequal, union
Attaching package: 'BiocGenerics'
The following objects are masked from 'package:stats':
IQR, mad, sd, var, xtabs
The following objects are masked from 'package:base':
Filter, Find, Map, Position, Reduce, anyDuplicated, aperm, append,
as.data.frame, basename, cbind, colnames, dirname, do.call,
duplicated, eval, evalq, get, grep, grepl, is.unsorted, lapply,
mapply, match, mget, order, paste, pmax, pmax.int, pmin, pmin.int,
rank, rbind, rownames, sapply, saveRDS, table, tapply, unique,
unsplit, which.max, which.min
Loading required package: S4Vectors
Attaching package: 'S4Vectors'
The following object is masked from 'package:utils':
findMatches
The following objects are masked from 'package:base':
I, expand.grid, unname
Loading required package: IRanges
Loading required package: GenomeInfoDb
Loading required package: grid
[1] TRUE
> require("RUnit") || stop("unable to load Package:RUnit")
Loading required package: RUnit
[1] TRUE
> BiocGenerics:::testPackage("trackViewer")
RUNIT TEST PROTOCOL -- Wed Oct 15 15:50:42 2025
***********************************************
Number of test functions: 2
Number of errors: 0
Number of failures: 0
1 Test Suite :
trackViewer RUnit Tests - 2 test functions, 0 errors, 0 failures
Number of test functions: 2
Number of errors: 0
Number of failures: 0
>
> proc.time()
user system elapsed
21.255 1.079 22.460
trackViewer.Rcheck/trackViewer-Ex.timings
| name | user | system | elapsed | |
| ARA | 3.082 | 0.107 | 3.194 | |
| GIoperator | 0.487 | 0.024 | 0.514 | |
| GRoperator | 2.118 | 0.044 | 2.164 | |
| addArrowMark | 0.014 | 0.002 | 0.015 | |
| addGuideLine | 0.004 | 0.000 | 0.004 | |
| addInteractionAnnotation | 0.322 | 0.010 | 0.333 | |
| browseTracks | 16.834 | 0.134 | 17.015 | |
| coverageGR | 0.236 | 0.009 | 0.246 | |
| dandelion.plot | 2.296 | 0.029 | 2.327 | |
| geneModelFromTxdb | 7.746 | 0.219 | 8.036 | |
| geneTrack | 2.424 | 0.052 | 2.511 | |
| getCurTrackViewport | 0.003 | 0.000 | 0.003 | |
| getGeneIDsFromTxDb | 1.123 | 0.039 | 1.164 | |
| getLocation | 1.857 | 0.081 | 1.942 | |
| gi2track | 0.116 | 0.013 | 0.129 | |
| gieStain | 0.005 | 0.002 | 0.007 | |
| ideogramPlot | 0.000 | 0.000 | 0.001 | |
| importBam | 0.319 | 0.003 | 0.322 | |
| importData | 3.798 | 0.035 | 3.840 | |
| importGInteractions | 0.323 | 0.010 | 0.336 | |
| importScSeqScore | 0 | 0 | 0 | |
| importScore | 0.647 | 0.020 | 0.675 | |
| listChromosomes | 0.014 | 0.003 | 0.017 | |
| listNormalizations | 0.012 | 0.001 | 0.015 | |
| listResolutions | 0.004 | 0.001 | 0.005 | |
| loadIdeogram | 0 | 0 | 0 | |
| lolliplot | 1.063 | 0.021 | 1.087 | |
| optimizeStyle | 0.599 | 0.034 | 0.640 | |
| parse2GRanges | 0.010 | 0.001 | 0.011 | |
| parseWIG | 15.913 | 0.116 | 16.284 | |
| plotGRanges | 1.680 | 0.026 | 1.711 | |
| plotIdeo | 0 | 0 | 0 | |
| plotOneIdeo | 0 | 0 | 0 | |
| reduce-GInteractions-method | 0 | 0 | 0 | |
| trackStyle-class | 0.055 | 0.002 | 0.055 | |
| trackViewer-package | 23.553 | 0.176 | 23.804 | |
| trackViewerStyle-class | 0 | 0 | 0 | |
| viewGene | 6.700 | 0.152 | 6.857 | |
| viewTracks | 16.982 | 0.086 | 17.072 | |