| Back to Multiple platform build/check report for BioC 3.22: simplified long |
|
This page was generated on 2025-11-01 12:05 -0400 (Sat, 01 Nov 2025).
| Hostname | OS | Arch (*) | R version | Installed pkgs |
|---|---|---|---|---|
| nebbiolo2 | Linux (Ubuntu 24.04.3 LTS) | x86_64 | 4.5.1 Patched (2025-08-23 r88802) -- "Great Square Root" | 4901 |
| lconway | macOS 12.7.6 Monterey | x86_64 | 4.5.1 Patched (2025-09-10 r88807) -- "Great Square Root" | 4691 |
| kjohnson3 | macOS 13.7.7 Ventura | arm64 | 4.5.1 Patched (2025-09-10 r88807) -- "Great Square Root" | 4637 |
| Click on any hostname to see more info about the system (e.g. compilers) (*) as reported by 'uname -p', except on Windows and Mac OS X | ||||
| Package 2232/2361 | Hostname | OS / Arch | INSTALL | BUILD | CHECK | BUILD BIN | ||||||||
| tomoda 1.20.0 (landing page) Wendao Liu
| nebbiolo2 | Linux (Ubuntu 24.04.3 LTS) / x86_64 | OK | OK | OK | |||||||||
| lconway | macOS 12.7.6 Monterey / x86_64 | OK | OK | OK | OK | |||||||||
| kjohnson3 | macOS 13.7.7 Ventura / arm64 | OK | OK | OK | OK | |||||||||
|
To the developers/maintainers of the tomoda package: - Allow up to 24 hours (and sometimes 48 hours) for your latest push to git@git.bioconductor.org:packages/tomoda.git to reflect on this report. See Troubleshooting Build Report for more information. - Use the following Renviron settings to reproduce errors and warnings. - If 'R CMD check' started to fail recently on the Linux builder(s) over a missing dependency, add the missing dependency to 'Suggests:' in your DESCRIPTION file. See Renviron.bioc for more information. |
| Package: tomoda |
| Version: 1.20.0 |
| Command: /Library/Frameworks/R.framework/Resources/bin/R CMD check --install=check:tomoda.install-out.txt --library=/Library/Frameworks/R.framework/Resources/library --no-vignettes --timings tomoda_1.20.0.tar.gz |
| StartedAt: 2025-10-31 22:35:55 -0400 (Fri, 31 Oct 2025) |
| EndedAt: 2025-10-31 22:38:12 -0400 (Fri, 31 Oct 2025) |
| EllapsedTime: 136.7 seconds |
| RetCode: 0 |
| Status: OK |
| CheckDir: tomoda.Rcheck |
| Warnings: 0 |
##############################################################################
##############################################################################
###
### Running command:
###
### /Library/Frameworks/R.framework/Resources/bin/R CMD check --install=check:tomoda.install-out.txt --library=/Library/Frameworks/R.framework/Resources/library --no-vignettes --timings tomoda_1.20.0.tar.gz
###
##############################################################################
##############################################################################
* using log directory ‘/Users/biocbuild/bbs-3.22-bioc/meat/tomoda.Rcheck’
* using R version 4.5.1 Patched (2025-09-10 r88807)
* using platform: aarch64-apple-darwin20
* R was compiled by
Apple clang version 16.0.0 (clang-1600.0.26.6)
GNU Fortran (GCC) 14.2.0
* running under: macOS Ventura 13.7.7
* using session charset: UTF-8
* using option ‘--no-vignettes’
* checking for file ‘tomoda/DESCRIPTION’ ... OK
* this is package ‘tomoda’ version ‘1.20.0’
* package encoding: UTF-8
* checking package namespace information ... OK
* checking package dependencies ... OK
* checking if this is a source package ... OK
* checking if there is a namespace ... OK
* checking for hidden files and directories ... OK
* checking for portable file names ... OK
* checking for sufficient/correct file permissions ... OK
* checking whether package ‘tomoda’ can be installed ... OK
* checking installed package size ... OK
* checking package directory ... OK
* checking ‘build’ directory ... OK
* checking DESCRIPTION meta-information ... OK
* checking top-level files ... OK
* checking for left-over files ... OK
* checking index information ... OK
* checking package subdirectories ... OK
* checking code files for non-ASCII characters ... OK
* checking R files for syntax errors ... OK
* checking whether the package can be loaded ... OK
* checking whether the package can be loaded with stated dependencies ... OK
* checking whether the package can be unloaded cleanly ... OK
* checking whether the namespace can be loaded with stated dependencies ... OK
* checking whether the namespace can be unloaded cleanly ... OK
* checking dependencies in R code ... OK
* checking S3 generic/method consistency ... OK
* checking replacement functions ... OK
* checking foreign function calls ... OK
* checking R code for possible problems ... OK
* checking Rd files ... OK
* checking Rd metadata ... OK
* checking Rd cross-references ... OK
* checking for missing documentation entries ... OK
* checking for code/documentation mismatches ... OK
* checking Rd \usage sections ... OK
* checking Rd contents ... OK
* checking for unstated dependencies in examples ... OK
* checking contents of ‘data’ directory ... OK
* checking data for non-ASCII characters ... OK
* checking data for ASCII and uncompressed saves ... OK
* checking files in ‘vignettes’ ... OK
* checking examples ... OK
Examples with CPU (user + system) or elapsed time > 5s
user system elapsed
findPeakGene 19.997 0.779 20.933
geneCorHeatmap 11.360 0.579 12.034
geneEmbedPlot 9.556 0.485 10.100
expHeatmap 8.488 0.424 8.983
* checking for unstated dependencies in ‘tests’ ... OK
* checking tests ...
Running ‘testthat.R’
OK
* checking for unstated dependencies in vignettes ... OK
* checking package vignettes ... OK
* checking running R code from vignettes ... SKIPPED
* checking re-building of vignette outputs ... SKIPPED
* checking PDF version of manual ... OK
* DONE
Status: OK
tomoda.Rcheck/00install.out
############################################################################## ############################################################################## ### ### Running command: ### ### /Library/Frameworks/R.framework/Resources/bin/R CMD INSTALL tomoda ### ############################################################################## ############################################################################## * installing to library ‘/Library/Frameworks/R.framework/Versions/4.5-arm64/Resources/library’ * installing *source* package ‘tomoda’ ... ** this is package ‘tomoda’ version ‘1.20.0’ ** using staged installation ** R ** data ** byte-compile and prepare package for lazy loading ** help *** installing help indices ** building package indices ** installing vignettes ** testing if installed package can be loaded from temporary location ** testing if installed package can be loaded from final location ** testing if installed package keeps a record of temporary installation path * DONE (tomoda)
tomoda.Rcheck/tests/testthat.Rout
R version 4.5.1 Patched (2025-09-10 r88807) -- "Great Square Root"
Copyright (C) 2025 The R Foundation for Statistical Computing
Platform: aarch64-apple-darwin20
R is free software and comes with ABSOLUTELY NO WARRANTY.
You are welcome to redistribute it under certain conditions.
Type 'license()' or 'licence()' for distribution details.
R is a collaborative project with many contributors.
Type 'contributors()' for more information and
'citation()' on how to cite R or R packages in publications.
Type 'demo()' for some demos, 'help()' for on-line help, or
'help.start()' for an HTML browser interface to help.
Type 'q()' to quit R.
> library(testthat)
> library(tomoda)
>
> test_check("tomoda")
[ FAIL 0 | WARN 1 | SKIP 0 | PASS 43 ]
[ FAIL 0 | WARN 1 | SKIP 0 | PASS 43 ]
>
> proc.time()
user system elapsed
13.103 0.831 14.140
tomoda.Rcheck/tomoda-Ex.timings
| name | user | system | elapsed | |
| corHeatmap | 1.202 | 0.032 | 1.263 | |
| createTomo | 0.627 | 0.030 | 0.662 | |
| embedPlot | 1.437 | 0.074 | 1.594 | |
| expHeatmap | 8.488 | 0.424 | 8.983 | |
| findPeak | 0.000 | 0.001 | 0.001 | |
| findPeakGene | 19.997 | 0.779 | 20.933 | |
| geneCorHeatmap | 11.360 | 0.579 | 12.034 | |
| geneEmbedPlot | 9.556 | 0.485 | 10.100 | |
| hierarchClust | 0.331 | 0.027 | 0.359 | |
| kmeansClust | 0.302 | 0.029 | 0.332 | |
| linePlot | 0.577 | 0.021 | 0.600 | |
| normalizeTomo | 0.072 | 0.012 | 0.085 | |
| runPCA | 0.397 | 0.046 | 0.444 | |
| runTSNE | 0.391 | 0.032 | 0.426 | |
| runUMAP | 0.459 | 0.032 | 0.493 | |
| scaleTomo | 0.185 | 0.026 | 0.211 | |
| tomoMatrix | 0.173 | 0.016 | 0.189 | |
| tomoSummarizedExperiment | 0.184 | 0.026 | 0.233 | |