| Back to Multiple platform build/check report for BioC 3.22: simplified long |
|
This page was generated on 2025-11-24 12:04 -0500 (Mon, 24 Nov 2025).
| Hostname | OS | Arch (*) | R version | Installed pkgs |
|---|---|---|---|---|
| nebbiolo2 | Linux (Ubuntu 24.04.3 LTS) | x86_64 | 4.5.2 (2025-10-31) -- "[Not] Part in a Rumble" | 4873 |
| merida1 | macOS 12.7.6 Monterey | x86_64 | 4.5.2 Patched (2025-11-05 r88990) -- "[Not] Part in a Rumble" | 4654 |
| kjohnson1 | macOS 13.7.5 Ventura | arm64 | 4.5.2 Patched (2025-11-04 r88984) -- "[Not] Part in a Rumble" | 4600 |
| taishan | Linux (openEuler 24.03 LTS) | aarch64 | 4.5.0 (2025-04-11) -- "How About a Twenty-Six" | 4668 |
| Click on any hostname to see more info about the system (e.g. compilers) (*) as reported by 'uname -p', except on Windows and Mac OS X | ||||
| Package 2227/2361 | Hostname | OS / Arch | INSTALL | BUILD | CHECK | BUILD BIN | ||||||||
| tLOH 1.18.0 (landing page) Michelle Webb
| nebbiolo2 | Linux (Ubuntu 24.04.3 LTS) / x86_64 | OK | OK | OK | |||||||||
| merida1 | macOS 12.7.6 Monterey / x86_64 | OK | OK | OK | OK | |||||||||
| kjohnson1 | macOS 13.7.5 Ventura / arm64 | OK | OK | OK | OK | |||||||||
| taishan | Linux (openEuler 24.03 LTS) / aarch64 | OK | OK | NA | ||||||||||
|
To the developers/maintainers of the tLOH package: - Allow up to 24 hours (and sometimes 48 hours) for your latest push to git@git.bioconductor.org:packages/tLOH.git to reflect on this report. See Troubleshooting Build Report for more information. - Use the following Renviron settings to reproduce errors and warnings. - If 'R CMD check' started to fail recently on the Linux builder(s) over a missing dependency, add the missing dependency to 'Suggests:' in your DESCRIPTION file. See Renviron.bioc for more information. |
| Package: tLOH |
| Version: 1.18.0 |
| Command: /home/biocbuild/bbs-3.22-bioc/R/bin/R CMD check --install=check:tLOH.install-out.txt --library=/home/biocbuild/bbs-3.22-bioc/R/site-library --timings tLOH_1.18.0.tar.gz |
| StartedAt: 2025-11-21 05:31:28 -0500 (Fri, 21 Nov 2025) |
| EndedAt: 2025-11-21 05:42:51 -0500 (Fri, 21 Nov 2025) |
| EllapsedTime: 682.7 seconds |
| RetCode: 0 |
| Status: OK |
| CheckDir: tLOH.Rcheck |
| Warnings: 0 |
##############################################################################
##############################################################################
###
### Running command:
###
### /home/biocbuild/bbs-3.22-bioc/R/bin/R CMD check --install=check:tLOH.install-out.txt --library=/home/biocbuild/bbs-3.22-bioc/R/site-library --timings tLOH_1.18.0.tar.gz
###
##############################################################################
##############################################################################
* using log directory ‘/home/biocbuild/bbs-3.22-bioc/meat/tLOH.Rcheck’
* using R version 4.5.2 (2025-10-31)
* using platform: x86_64-pc-linux-gnu
* R was compiled by
gcc (Ubuntu 13.3.0-6ubuntu2~24.04) 13.3.0
GNU Fortran (Ubuntu 13.3.0-6ubuntu2~24.04) 13.3.0
* running under: Ubuntu 24.04.3 LTS
* using session charset: UTF-8
* checking for file ‘tLOH/DESCRIPTION’ ... OK
* checking extension type ... Package
* this is package ‘tLOH’ version ‘1.18.0’
* package encoding: UTF-8
* checking package namespace information ... OK
* checking package dependencies ... OK
* checking if this is a source package ... OK
* checking if there is a namespace ... OK
* checking for hidden files and directories ... OK
* checking for portable file names ... OK
* checking for sufficient/correct file permissions ... OK
* checking whether package ‘tLOH’ can be installed ... OK
* checking installed package size ... OK
* checking package directory ... OK
* checking ‘build’ directory ... OK
* checking DESCRIPTION meta-information ... NOTE
License stub is invalid DCF.
* checking top-level files ... OK
* checking for left-over files ... OK
* checking index information ... OK
* checking package subdirectories ... NOTE
Problems with news in ‘NEWS.md’:
No news entries found.
* checking code files for non-ASCII characters ... OK
* checking R files for syntax errors ... OK
* checking whether the package can be loaded ... OK
* checking whether the package can be loaded with stated dependencies ... OK
* checking whether the package can be unloaded cleanly ... OK
* checking whether the namespace can be loaded with stated dependencies ... OK
* checking whether the namespace can be unloaded cleanly ... OK
* checking loading without being on the library search path ... OK
* checking dependencies in R code ... OK
* checking S3 generic/method consistency ... OK
* checking replacement functions ... OK
* checking foreign function calls ... OK
* checking R code for possible problems ... OK
* checking Rd files ... OK
* checking Rd metadata ... OK
* checking Rd cross-references ... OK
* checking for missing documentation entries ... OK
* checking for code/documentation mismatches ... OK
* checking Rd \usage sections ... OK
* checking Rd contents ... OK
* checking for unstated dependencies in examples ... OK
* checking contents of ‘data’ directory ... OK
* checking data for non-ASCII characters ... OK
* checking data for ASCII and uncompressed saves ... OK
* checking files in ‘vignettes’ ... OK
* checking examples ... OK
Examples with CPU (user + system) or elapsed time > 5s
user system elapsed
hiddenMarkovAnalysis 71.210 0.684 76.855
regionAnalysis 48.772 1.753 51.706
runHMM_2 44.787 0.595 45.386
runHMM_3 43.170 0.275 43.449
prepareHMMdataframes 31.889 0.283 37.271
runHMM_1 26.062 0.418 26.479
tLOHCalcUpdate 24.598 0.203 24.803
splitByChromosome 23.953 0.163 24.118
alleleFrequencyPlot 8.134 0.195 8.329
aggregateCHRPlot 6.208 0.201 6.402
* checking for unstated dependencies in vignettes ... OK
* checking package vignettes ... OK
* checking re-building of vignette outputs ... OK
* checking PDF version of manual ... OK
* DONE
Status: 2 NOTEs
See
‘/home/biocbuild/bbs-3.22-bioc/meat/tLOH.Rcheck/00check.log’
for details.
tLOH.Rcheck/00install.out
############################################################################## ############################################################################## ### ### Running command: ### ### /home/biocbuild/bbs-3.22-bioc/R/bin/R CMD INSTALL tLOH ### ############################################################################## ############################################################################## * installing to library ‘/home/biocbuild/bbs-3.22-bioc/R/site-library’ * installing *source* package ‘tLOH’ ... ** this is package ‘tLOH’ version ‘1.18.0’ ** using staged installation ** R ** data ** inst ** byte-compile and prepare package for lazy loading ** help *** installing help indices ** building package indices ** installing vignettes ** testing if installed package can be loaded from temporary location ** testing if installed package can be loaded from final location ** testing if installed package keeps a record of temporary installation path * DONE (tLOH)
tLOH.Rcheck/tLOH-Ex.timings
| name | user | system | elapsed | |
| aggregateCHRPlot | 6.208 | 0.201 | 6.402 | |
| alleleFrequencyPlot | 8.134 | 0.195 | 8.329 | |
| documentErrorRegions | 0.002 | 0.000 | 0.002 | |
| hiddenMarkovAnalysis | 71.210 | 0.684 | 76.855 | |
| humanGBMsampleAC | 0.071 | 0.000 | 0.139 | |
| initialStartProbabilities | 0.001 | 0.000 | 0.001 | |
| marginalLikelihoodM1 | 0.005 | 0.000 | 0.009 | |
| marginalLikelihoodM2 | 0.003 | 0.000 | 0.007 | |
| marginalM1Calc | 0.000 | 0.001 | 0.004 | |
| marginalM2CalcBHET | 0.001 | 0.000 | 0.002 | |
| marginalM2CalcBLOH | 0.002 | 0.000 | 0.006 | |
| modePeakCalc | 0.001 | 0.001 | 0.002 | |
| prepareHMMdataframes | 31.889 | 0.283 | 37.271 | |
| regionAnalysis | 48.772 | 1.753 | 51.706 | |
| regionFinalize | 0.001 | 0.000 | 0.000 | |
| removeOutlierFromCalc | 0.000 | 0.000 | 0.001 | |
| runHMM_1 | 26.062 | 0.418 | 26.479 | |
| runHMM_2 | 44.787 | 0.595 | 45.386 | |
| runHMM_3 | 43.170 | 0.275 | 43.449 | |
| splitByChromosome | 23.953 | 0.163 | 24.118 | |
| summarizeRegions1 | 0 | 0 | 0 | |
| summarizeRegions2 | 0 | 0 | 0 | |
| tLOHCalc | 4.218 | 0.006 | 4.224 | |
| tLOHCalcUpdate | 24.598 | 0.203 | 24.803 | |
| tLOHDataImport | 0 | 0 | 0 | |