Back to Multiple platform build/check report for BioC 3.21:   simplified   long
ABCDEFGHIJKLMNOPQR[S]TUVWXYZ

This page was generated on 2025-10-16 11:37 -0400 (Thu, 16 Oct 2025).

HostnameOSArch (*)R versionInstalled pkgs
nebbiolo1Linux (Ubuntu 24.04.3 LTS)x86_644.5.1 (2025-06-13) -- "Great Square Root" 4833
merida1macOS 12.7.6 Montereyx86_644.5.1 RC (2025-06-05 r88288) -- "Great Square Root" 4614
kjohnson1macOS 13.7.5 Venturaarm644.5.1 Patched (2025-06-14 r88325) -- "Great Square Root" 4555
kunpeng2Linux (openEuler 24.03 LTS)aarch64R Under development (unstable) (2025-02-19 r87757) -- "Unsuffered Consequences" 4586
Click on any hostname to see more info about the system (e.g. compilers)      (*) as reported by 'uname -p', except on Windows and Mac OS X

All results for package sva


To the developers/maintainers of the sva package:
- Allow up to 24 hours (and sometimes 48 hours) for your latest push to git@git.bioconductor.org:packages/sva.git to reflect on this report. See Troubleshooting Build Report for more information.
- Use the following Renviron settings to reproduce errors and warnings.
- If 'R CMD check' started to fail recently on the Linux builder(s) over a missing dependency, add the missing dependency to 'Suggests:' in your DESCRIPTION file. See Renviron.bioc for more information.

raw results

Package 2136/2341HostnameOS / ArchINSTALLBUILDCHECKBUILD BIN
sva 3.56.0  (landing page)
Jeffrey T. Leek , John D. Storey
Snapshot Date: 2025-10-13 13:40 -0400 (Mon, 13 Oct 2025)
git_url: https://git.bioconductor.org/packages/sva
git_branch: RELEASE_3_21
git_last_commit: b128ddd
git_last_commit_date: 2025-04-15 10:11:05 -0400 (Tue, 15 Apr 2025)
nebbiolo1Linux (Ubuntu 24.04.3 LTS) / x86_64  OK    OK    OK  UNNEEDED, same version is already published
merida1macOS 12.7.6 Monterey / x86_64  OK    OK    OK    OK  UNNEEDED, same version is already published
kjohnson1macOS 13.7.5 Ventura / arm64  OK    OK    OK    OK  UNNEEDED, same version is already published
kunpeng2Linux (openEuler 24.03 LTS) / aarch64  OK    OK    OK  



Results for Bioconductor software packages that depend directly on package sva

QUICK STATSOS / ArchINSTALLBUILDCHECKBUILD BIN
nebbiolo1Linux (Ubuntu 24.04.3 LTS) / x86_64
0132
0132
03326
merida1macOS 12.7.6 Monterey / x86_64
0132
0132
03326
0032
kjohnson1macOS 13.7.5 Ventura / arm64
0132
0132
04325
0032
kunpeng2Linux (openEuler 24.03 LTS) / aarch64
0132
0528
06319
Package 1/33HostnameOS / ArchINSTALLBUILDCHECKBUILD BIN
ASSIGN 1.44.0  (landing page)
Ying Shen , W. Evan Johnson
git_last_commit: 771df37
git_last_commit_date: 2025-04-15 10:30:05 -0400
nebbiolo1Linux (Ubuntu 24.04.3 LTS) / x86_64  OK    OK    OK  UNNEEDED, same version is already published
merida1macOS 12.7.6 Monterey / x86_64  OK    OK    OK    OK  UNNEEDED, same version is already published
kjohnson1macOS 13.7.5 Ventura / arm64  OK    OK    OK    OK  UNNEEDED, same version is already published
kunpeng2Linux (openEuler 24.03 LTS) / aarch64  OK    OK    OK  
Package 2/33HostnameOS / ArchINSTALLBUILDCHECKBUILD BIN
ballgown 2.40.0  (landing page)
Jack Fu
git_last_commit: 7f6c5c9
git_last_commit_date: 2025-04-15 10:32:48 -0400
nebbiolo1Linux (Ubuntu 24.04.3 LTS) / x86_64  OK    OK    OK  UNNEEDED, same version is already published
merida1macOS 12.7.6 Monterey / x86_64  OK    OK    OK    OK  UNNEEDED, same version is already published
kjohnson1macOS 13.7.5 Ventura / arm64  OK    OK    OK    OK  UNNEEDED, same version is already published
kunpeng2Linux (openEuler 24.03 LTS) / aarch64  OK    OK    OK  
Package 3/33HostnameOS / ArchINSTALLBUILDCHECKBUILD BIN
BatchQC 2.4.0  (landing page)
Jessica Anderson
git_last_commit: b31f36a
git_last_commit_date: 2025-04-15 11:00:59 -0400
nebbiolo1Linux (Ubuntu 24.04.3 LTS) / x86_64  OK    OK    OK  UNNEEDED, same version is already published
merida1macOS 12.7.6 Monterey / x86_64  OK    OK    OK    OK  UNNEEDED, same version is already published
kjohnson1macOS 13.7.5 Ventura / arm64  OK    OK    OK    OK  UNNEEDED, same version is already published
kunpeng2Linux (openEuler 24.03 LTS) / aarch64  OK    ERROR  skipped
Package 4/33HostnameOS / ArchINSTALLBUILDCHECKBUILD BIN
BERT 1.4.0  (landing page)
Yannis Schumann
git_last_commit: dedce04
git_last_commit_date: 2025-04-15 13:25:40 -0400
nebbiolo1Linux (Ubuntu 24.04.3 LTS) / x86_64  OK    OK    OK  UNNEEDED, same version is already published
merida1macOS 12.7.6 Monterey / x86_64  OK    OK    OK    OK  UNNEEDED, same version is already published
kjohnson1macOS 13.7.5 Ventura / arm64  OK    OK    OK    OK  UNNEEDED, same version is already published
kunpeng2Linux (openEuler 24.03 LTS) / aarch64  OK    OK    OK  
Package 5/33HostnameOS / ArchINSTALLBUILDCHECKBUILD BIN
BioNERO 1.16.3  (landing page)
Fabricio Almeida-Silva
git_last_commit: 2882952
git_last_commit_date: 2025-09-15 16:11:20 -0400
nebbiolo1Linux (Ubuntu 24.04.3 LTS) / x86_64  OK    OK    OK  UNNEEDED, same version is already published
merida1macOS 12.7.6 Monterey / x86_64  OK    OK    OK    OK  UNNEEDED, same version is already published
kjohnson1macOS 13.7.5 Ventura / arm64  OK    OK    OK    OK  UNNEEDED, same version is already published
kunpeng2Linux (openEuler 24.03 LTS) / aarch64  OK    OK    OK  
Package 6/33HostnameOS / ArchINSTALLBUILDCHECKBUILD BIN
bnbc 1.30.0  (landing page)
Kipper Fletez-Brant
git_last_commit: f992cfe
git_last_commit_date: 2025-04-15 11:15:12 -0400
nebbiolo1Linux (Ubuntu 24.04.3 LTS) / x86_64  OK    OK    OK  UNNEEDED, same version is already published
merida1macOS 12.7.6 Monterey / x86_64  OK    OK    OK    OK  UNNEEDED, same version is already published
kjohnson1macOS 13.7.5 Ventura / arm64  OK    OK    OK    OK  UNNEEDED, same version is already published
kunpeng2Linux (openEuler 24.03 LTS) / aarch64  OK    OK    OK  
Package 7/33HostnameOS / ArchINSTALLBUILDCHECKBUILD BIN
bnem 1.16.0  (landing page)
Martin Pirkl
git_last_commit: 479b487
git_last_commit_date: 2025-04-15 12:15:48 -0400
nebbiolo1Linux (Ubuntu 24.04.3 LTS) / x86_64  OK    OK    OK  UNNEEDED, same version is already published
merida1macOS 12.7.6 Monterey / x86_64  OK    OK    OK    OK  UNNEEDED, same version is already published
kjohnson1macOS 13.7.5 Ventura / arm64  OK    OK    OK    OK  UNNEEDED, same version is already published
kunpeng2Linux (openEuler 24.03 LTS) / aarch64  OK    OK    OK  
Package 8/33HostnameOS / ArchINSTALLBUILDCHECKBUILD BIN
ChAMP 2.38.1  (landing page)
Yuan Tian
git_last_commit: 7818235
git_last_commit_date: 2025-09-23 09:19:29 -0400
nebbiolo1Linux (Ubuntu 24.04.3 LTS) / x86_64  OK    OK    WARNINGS  UNNEEDED, same version is already published
merida1macOS 12.7.6 Monterey / x86_64  OK    OK    WARNINGS    OK  UNNEEDED, same version is already published
kjohnson1macOS 13.7.5 Ventura / arm64  OK    OK    WARNINGS    OK  UNNEEDED, same version is already published
kunpeng2Linux (openEuler 24.03 LTS) / aarch64  OK    OK    WARNINGS  
Package 9/33HostnameOS / ArchINSTALLBUILDCHECKBUILD BIN
crossmeta 1.34.0  (landing page)
Alex Pickering
git_last_commit: 7a516d8
git_last_commit_date: 2025-04-15 11:02:45 -0400
nebbiolo1Linux (Ubuntu 24.04.3 LTS) / x86_64  OK    OK    ERROR  
merida1macOS 12.7.6 Monterey / x86_64  OK    OK    ERROR    OK  
kjohnson1macOS 13.7.5 Ventura / arm64  OK    OK    ERROR    OK  
kunpeng2Linux (openEuler 24.03 LTS) / aarch64  OK    OK    ERROR  
Package 10/33HostnameOS / ArchINSTALLBUILDCHECKBUILD BIN
DaMiRseq 2.20.0  (landing page)
Mattia Chiesa
git_last_commit: a1dd1bc
git_last_commit_date: 2025-04-15 11:09:26 -0400
nebbiolo1Linux (Ubuntu 24.04.3 LTS) / x86_64  OK    OK    OK  UNNEEDED, same version is already published
merida1macOS 12.7.6 Monterey / x86_64  OK    OK    OK    OK  UNNEEDED, same version is already published
kjohnson1macOS 13.7.5 Ventura / arm64  OK    OK    OK    OK  UNNEEDED, same version is already published
kunpeng2Linux (openEuler 24.03 LTS) / aarch64  OK    OK    OK  
Package 11/33HostnameOS / ArchINSTALLBUILDCHECKBUILD BIN
debrowser 1.36.0  (landing page)
Alper Kucukural
git_last_commit: 9804323
git_last_commit_date: 2025-04-15 10:59:48 -0400
nebbiolo1Linux (Ubuntu 24.04.3 LTS) / x86_64  OK    OK    OK  UNNEEDED, same version is already published
merida1macOS 12.7.6 Monterey / x86_64  OK    OK    OK    OK  UNNEEDED, same version is already published
kjohnson1macOS 13.7.5 Ventura / arm64  OK    OK    OK    OK  UNNEEDED, same version is already published
kunpeng2Linux (openEuler 24.03 LTS) / aarch64  OK    ERROR  skipped
Package 12/33HostnameOS / ArchINSTALLBUILDCHECKBUILD BIN
DeMixT 1.24.0  (landing page)
Ruonan Li
git_last_commit: e25636b
git_last_commit_date: 2025-04-15 11:42:45 -0400
nebbiolo1Linux (Ubuntu 24.04.3 LTS) / x86_64  OK    OK    WARNINGS  UNNEEDED, same version is already published
merida1macOS 12.7.6 Monterey / x86_64  OK    OK    WARNINGS    OK  UNNEEDED, same version is already published
kjohnson1macOS 13.7.5 Ventura / arm64  OK    OK    WARNINGS    OK  UNNEEDED, same version is already published
kunpeng2Linux (openEuler 24.03 LTS) / aarch64  OK    OK    WARNINGS  
Package 13/33HostnameOS / ArchINSTALLBUILDCHECKBUILD BIN
DExMA 1.16.0  (landing page)
Juan Antonio Villatoro-García
git_last_commit: 9d4ff05
git_last_commit_date: 2025-04-15 12:29:30 -0400
nebbiolo1Linux (Ubuntu 24.04.3 LTS) / x86_64  OK    OK    OK  UNNEEDED, same version is already published
merida1macOS 12.7.6 Monterey / x86_64  OK    OK    OK    OK  UNNEEDED, same version is already published
kjohnson1macOS 13.7.5 Ventura / arm64  OK    OK    OK    OK  UNNEEDED, same version is already published
kunpeng2Linux (openEuler 24.03 LTS) / aarch64  OK    OK    OK  
Package 14/33HostnameOS / ArchINSTALLBUILDCHECKBUILD BIN
doppelgangR 1.36.1  (landing page)
Levi Waldron
git_last_commit: 210026a
git_last_commit_date: 2025-05-12 12:29:28 -0400
nebbiolo1Linux (Ubuntu 24.04.3 LTS) / x86_64  OK    OK    OK  UNNEEDED, same version is already published
merida1macOS 12.7.6 Monterey / x86_64  OK    OK    OK    OK  UNNEEDED, same version is already published
kjohnson1macOS 13.7.5 Ventura / arm64  OK    OK    OK    OK  UNNEEDED, same version is already published
kunpeng2Linux (openEuler 24.03 LTS) / aarch64  OK    OK    OK  
Package 15/33HostnameOS / ArchINSTALLBUILDCHECKBUILD BIN
edge 2.40.0  (landing page)
John D. Storey , Andrew J. Bass
git_last_commit: 8281a3b
git_last_commit_date: 2025-04-15 10:51:00 -0400
nebbiolo1Linux (Ubuntu 24.04.3 LTS) / x86_64  OK    OK    OK  UNNEEDED, same version is already published
merida1macOS 12.7.6 Monterey / x86_64  OK    OK    OK    OK  UNNEEDED, same version is already published
kjohnson1macOS 13.7.5 Ventura / arm64  OK    OK    OK    OK  UNNEEDED, same version is already published
kunpeng2Linux (openEuler 24.03 LTS) / aarch64  OK    OK    OK  
Package 16/33HostnameOS / ArchINSTALLBUILDCHECKBUILD BIN
GEOexplorer 1.14.0  (landing page)
Guy Hunt
git_last_commit: 715a905
git_last_commit_date: 2025-04-15 12:36:19 -0400
nebbiolo1Linux (Ubuntu 24.04.3 LTS) / x86_64  OK    OK    ERROR  
merida1macOS 12.7.6 Monterey / x86_64  OK    OK    ERROR    OK  
kjohnson1macOS 13.7.5 Ventura / arm64  OK    OK    ERROR    OK  
kunpeng2Linux (openEuler 24.03 LTS) / aarch64  OK    OK    ERROR  
Package 17/33HostnameOS / ArchINSTALLBUILDCHECKBUILD BIN
HarmonizR 1.6.0  (landing page)
Simon Schlumbohm
git_last_commit: 81d2433
git_last_commit_date: 2025-04-15 13:18:49 -0400
nebbiolo1Linux (Ubuntu 24.04.3 LTS) / x86_64  OK    OK    OK  UNNEEDED, same version is already published
merida1macOS 12.7.6 Monterey / x86_64  OK    OK    OK    OK  UNNEEDED, same version is already published
kjohnson1macOS 13.7.5 Ventura / arm64  OK    OK    OK    OK  UNNEEDED, same version is already published
kunpeng2Linux (openEuler 24.03 LTS) / aarch64  OK    OK    OK  
Package 18/33HostnameOS / ArchINSTALLBUILDCHECKBUILD BIN
IsoformSwitchAnalyzeR 2.8.0  (landing page)
Kristoffer Vitting-Seerup
git_last_commit: b2397a0
git_last_commit_date: 2025-04-15 11:11:37 -0400
nebbiolo1Linux (Ubuntu 24.04.3 LTS) / x86_64  OK    OK    OK  UNNEEDED, same version is already published
merida1macOS 12.7.6 Monterey / x86_64  OK    OK    OK    OK  UNNEEDED, same version is already published
kjohnson1macOS 13.7.5 Ventura / arm64  OK    OK    OK    OK  UNNEEDED, same version is already published
kunpeng2Linux (openEuler 24.03 LTS) / aarch64  OK    OK    OK  
Package 19/33HostnameOS / ArchINSTALLBUILDCHECKBUILD BIN
KnowSeq 1.22.0  (landing page)
Daniel Castillo-Secilla
git_last_commit: 1e76e4c
git_last_commit_date: 2025-04-15 11:47:28 -0400
nebbiolo1Linux (Ubuntu 24.04.3 LTS) / x86_64  OK    OK    OK  UNNEEDED, same version is already published
merida1macOS 12.7.6 Monterey / x86_64  OK    OK    OK    OK  UNNEEDED, same version is already published
kjohnson1macOS 13.7.5 Ventura / arm64  OK    OK    OK    OK  UNNEEDED, same version is already published
kunpeng2Linux (openEuler 24.03 LTS) / aarch64  OK    OK    OK  
Package 20/33HostnameOS / ArchINSTALLBUILDCHECKBUILD BIN
MatrixQCvis 1.16.0  (landing page)
Thomas Naake
git_last_commit: 0abd041
git_last_commit_date: 2025-04-15 12:30:49 -0400
nebbiolo1Linux (Ubuntu 24.04.3 LTS) / x86_64  OK    OK    OK  UNNEEDED, same version is already published
merida1macOS 12.7.6 Monterey / x86_64  OK    OK    OK    OK  UNNEEDED, same version is already published
kjohnson1macOS 13.7.5 Ventura / arm64  OK    OK    OK    OK  UNNEEDED, same version is already published
kunpeng2Linux (openEuler 24.03 LTS) / aarch64  OK    ERROR  skipped
Package 21/33HostnameOS / ArchINSTALLBUILDCHECKBUILD BIN
MBECS 1.12.0  (landing page)
Michael Olbrich
git_last_commit: 6f746d2
git_last_commit_date: 2025-04-15 12:46:50 -0400
nebbiolo1Linux (Ubuntu 24.04.3 LTS) / x86_64  OK    OK    OK  UNNEEDED, same version is already published
merida1macOS 12.7.6 Monterey / x86_64  OK    OK    OK    OK  UNNEEDED, same version is already published
kjohnson1macOS 13.7.5 Ventura / arm64  OK    OK    OK    OK  UNNEEDED, same version is already published
kunpeng2Linux (openEuler 24.03 LTS) / aarch64  OK    OK    OK  
Package 22/33HostnameOS / ArchINSTALLBUILDCHECKBUILD BIN
MSPrep 1.18.0  (landing page)
Max McGrath
git_last_commit: 556b08a
git_last_commit_date: 2025-04-15 12:10:24 -0400
nebbiolo1Linux (Ubuntu 24.04.3 LTS) / x86_64  OK    OK    OK  UNNEEDED, same version is already published
merida1macOS 12.7.6 Monterey / x86_64  OK    OK    OK    OK  UNNEEDED, same version is already published
kjohnson1macOS 13.7.5 Ventura / arm64  OK    OK    ERROR    OK  
kunpeng2Linux (openEuler 24.03 LTS) / aarch64  OK    OK    ERROR  
Package 23/33HostnameOS / ArchINSTALLBUILDCHECKBUILD BIN
omicRexposome 1.30.0  (landing page)
Xavier Escribà Montagut
git_last_commit: d563c4f
git_last_commit_date: 2025-04-15 11:14:52 -0400
nebbiolo1Linux (Ubuntu 24.04.3 LTS) / x86_64  OK    OK    OK  UNNEEDED, same version is already published
merida1macOS 12.7.6 Monterey / x86_64  OK    OK    OK    OK  UNNEEDED, same version is already published
kjohnson1macOS 13.7.5 Ventura / arm64  OK    OK    OK    OK  UNNEEDED, same version is already published
kunpeng2Linux (openEuler 24.03 LTS) / aarch64  OK    ERROR  skipped
Package 24/33HostnameOS / ArchINSTALLBUILDCHECKBUILD BIN
PAA 1.42.0  (landing page)
Michael Turewicz , Martin Eisenacher
git_last_commit: 0f1a222
git_last_commit_date: 2025-04-15 10:35:06 -0400
nebbiolo1Linux (Ubuntu 24.04.3 LTS) / x86_64  OK    OK    OK  UNNEEDED, same version is already published
merida1macOS 12.7.6 Monterey / x86_64  OK    OK    OK    OK  UNNEEDED, same version is already published
kjohnson1macOS 13.7.5 Ventura / arm64  OK    OK    OK    OK  UNNEEDED, same version is already published
kunpeng2Linux (openEuler 24.03 LTS) / aarch64  OK    OK    OK  
Package 25/33HostnameOS / ArchINSTALLBUILDCHECKBUILD BIN
pairedGSEA 1.8.0  (landing page)
Søren Helweg Dam
git_last_commit: 4931001
git_last_commit_date: 2025-04-15 13:14:23 -0400
nebbiolo1Linux (Ubuntu 24.04.3 LTS) / x86_64  OK    OK    OK  UNNEEDED, same version is already published
merida1macOS 12.7.6 Monterey / x86_64  OK    OK    OK    OK  UNNEEDED, same version is already published
kjohnson1macOS 13.7.5 Ventura / arm64  OK    OK    OK    OK  UNNEEDED, same version is already published
kunpeng2Linux (openEuler 24.03 LTS) / aarch64  OK    OK    ERROR  
Package 26/33HostnameOS / ArchINSTALLBUILDCHECKBUILD BIN
POMA 1.18.0  (landing page)
Pol Castellano-Escuder
git_last_commit: beb9b36
git_last_commit_date: 2025-04-15 12:05:54 -0400
nebbiolo1Linux (Ubuntu 24.04.3 LTS) / x86_64  OK    OK    OK  UNNEEDED, same version is already published
merida1macOS 12.7.6 Monterey / x86_64  OK    OK    OK    OK  UNNEEDED, same version is already published
kjohnson1macOS 13.7.5 Ventura / arm64  OK    OK    OK    OK  UNNEEDED, same version is already published
kunpeng2Linux (openEuler 24.03 LTS) / aarch64  OK    OK    OK  
Package 27/33HostnameOS / ArchINSTALLBUILDCHECKBUILD BIN
PROPS 1.30.0  (landing page)
Lichy Han
git_last_commit: 8111b33
git_last_commit_date: 2025-04-15 11:15:55 -0400
nebbiolo1Linux (Ubuntu 24.04.3 LTS) / x86_64  OK    OK    OK  UNNEEDED, same version is already published
merida1macOS 12.7.6 Monterey / x86_64  OK    OK    OK    OK  UNNEEDED, same version is already published
kjohnson1macOS 13.7.5 Ventura / arm64  OK    OK    OK    OK  UNNEEDED, same version is already published
kunpeng2Linux (openEuler 24.03 LTS) / aarch64  OK    OK    OK  
Package 28/33HostnameOS / ArchINSTALLBUILDCHECKBUILD BIN
qsmooth 1.24.0  (landing page)
Stephanie C. Hicks
git_last_commit: 23f4184
git_last_commit_date: 2025-04-15 11:42:33 -0400
nebbiolo1Linux (Ubuntu 24.04.3 LTS) / x86_64  OK    OK    WARNINGS  UNNEEDED, same version is already published
merida1macOS 12.7.6 Monterey / x86_64  OK    OK    WARNINGS    OK  UNNEEDED, same version is already published
kjohnson1macOS 13.7.5 Ventura / arm64  OK    OK    WARNINGS    OK  UNNEEDED, same version is already published
kunpeng2Linux (openEuler 24.03 LTS) / aarch64  OK    OK    WARNINGS  
Package 29/33HostnameOS / ArchINSTALLBUILDCHECKBUILD BIN
qsvaR 1.12.0  (landing page)
Hedia Tnani
git_last_commit: 2dffda2
git_last_commit_date: 2025-04-15 12:48:19 -0400
nebbiolo1Linux (Ubuntu 24.04.3 LTS) / x86_64  OK    OK    ERROR  
merida1macOS 12.7.6 Monterey / x86_64  OK    OK    ERROR    OK  
kjohnson1macOS 13.7.5 Ventura / arm64  OK    OK    ERROR    OK  
kunpeng2Linux (openEuler 24.03 LTS) / aarch64  OK    OK    ERROR  
Package 30/33HostnameOS / ArchINSTALLBUILDCHECKBUILD BIN
SCAN.UPC 2.50.0  (landing page)
Stephen R. Piccolo
git_last_commit: ad3cd0f
git_last_commit_date: 2025-04-15 10:15:44 -0400
nebbiolo1Linux (Ubuntu 24.04.3 LTS) / x86_64  OK    OK    OK  UNNEEDED, same version is already published
merida1macOS 12.7.6 Monterey / x86_64  OK    OK    OK    OK  UNNEEDED, same version is already published
kjohnson1macOS 13.7.5 Ventura / arm64  OK    OK    OK    OK  UNNEEDED, same version is already published
kunpeng2Linux (openEuler 24.03 LTS) / aarch64  OK    OK    OK  
Package 31/33HostnameOS / ArchINSTALLBUILDCHECKBUILD BIN
SEtools 1.22.0  (landing page)
Pierre-Luc Germain
git_last_commit: eaa5616
git_last_commit_date: 2025-04-15 11:49:47 -0400
nebbiolo1Linux (Ubuntu 24.04.3 LTS) / x86_64  OK    OK    OK  UNNEEDED, same version is already published
merida1macOS 12.7.6 Monterey / x86_64  OK    OK    OK    OK  UNNEEDED, same version is already published
kjohnson1macOS 13.7.5 Ventura / arm64  OK    OK    OK    OK  UNNEEDED, same version is already published
kunpeng2Linux (openEuler 24.03 LTS) / aarch64  OK    OK    OK  
Package 32/33HostnameOS / ArchINSTALLBUILDCHECKBUILD BIN
singleCellTK 2.18.2  (landing page)
Joshua David Campbell
git_last_commit: 6d6c3dd3
git_last_commit_date: 2025-09-25 17:05:42 -0400
nebbiolo1Linux (Ubuntu 24.04.3 LTS) / x86_64  OK    OK    OK  UNNEEDED, same version is already published
merida1macOS 12.7.6 Monterey / x86_64  OK    OK    OK    OK  UNNEEDED, same version is already published
kjohnson1macOS 13.7.5 Ventura / arm64  OK    OK    OK    OK  UNNEEDED, same version is already published
kunpeng2Linux (openEuler 24.03 LTS) / aarch64  OK    OK    ERROR  
Package 33/33HostnameOS / ArchINSTALLBUILDCHECKBUILD BIN
trigger 1.54.0  (landing page)
John D. Storey
git_last_commit: c93275c
git_last_commit_date: 2025-04-15 10:11:43 -0400
nebbiolo1Linux (Ubuntu 24.04.3 LTS) / x86_64  ERROR    ERROR  skipped
merida1macOS 12.7.6 Monterey / x86_64  ERROR    ERROR  skippedskipped
kjohnson1macOS 13.7.5 Ventura / arm64  ERROR    ERROR  skippedskipped
kunpeng2Linux (openEuler 24.03 LTS) / aarch64  ERROR    ERROR  skipped