| Back to Multiple platform build/check report for BioC 3.22: simplified long |
|
This page was generated on 2025-11-01 12:03 -0400 (Sat, 01 Nov 2025).
| Hostname | OS | Arch (*) | R version | Installed pkgs |
|---|---|---|---|---|
| nebbiolo2 | Linux (Ubuntu 24.04.3 LTS) | x86_64 | 4.5.1 Patched (2025-08-23 r88802) -- "Great Square Root" | 4901 |
| lconway | macOS 12.7.6 Monterey | x86_64 | 4.5.1 Patched (2025-09-10 r88807) -- "Great Square Root" | 4691 |
| kjohnson3 | macOS 13.7.7 Ventura | arm64 | 4.5.1 Patched (2025-09-10 r88807) -- "Great Square Root" | 4637 |
| Click on any hostname to see more info about the system (e.g. compilers) (*) as reported by 'uname -p', except on Windows and Mac OS X | ||||
| Package 2101/2361 | Hostname | OS / Arch | INSTALL | BUILD | CHECK | BUILD BIN | ||||||||
| spiky 1.16.0 (landing page) Tim Triche
| nebbiolo2 | Linux (Ubuntu 24.04.3 LTS) / x86_64 | OK | OK | OK | |||||||||
| lconway | macOS 12.7.6 Monterey / x86_64 | OK | OK | OK | OK | |||||||||
| kjohnson3 | macOS 13.7.7 Ventura / arm64 | OK | OK | OK | OK | |||||||||
|
To the developers/maintainers of the spiky package: - Allow up to 24 hours (and sometimes 48 hours) for your latest push to git@git.bioconductor.org:packages/spiky.git to reflect on this report. See Troubleshooting Build Report for more information. - Use the following Renviron settings to reproduce errors and warnings. - If 'R CMD check' started to fail recently on the Linux builder(s) over a missing dependency, add the missing dependency to 'Suggests:' in your DESCRIPTION file. See Renviron.bioc for more information. |
| Package: spiky |
| Version: 1.16.0 |
| Command: /home/biocbuild/bbs-3.22-bioc/R/bin/R CMD check --install=check:spiky.install-out.txt --library=/home/biocbuild/bbs-3.22-bioc/R/site-library --timings spiky_1.16.0.tar.gz |
| StartedAt: 2025-11-01 04:36:27 -0400 (Sat, 01 Nov 2025) |
| EndedAt: 2025-11-01 04:42:25 -0400 (Sat, 01 Nov 2025) |
| EllapsedTime: 357.3 seconds |
| RetCode: 0 |
| Status: OK |
| CheckDir: spiky.Rcheck |
| Warnings: 0 |
##############################################################################
##############################################################################
###
### Running command:
###
### /home/biocbuild/bbs-3.22-bioc/R/bin/R CMD check --install=check:spiky.install-out.txt --library=/home/biocbuild/bbs-3.22-bioc/R/site-library --timings spiky_1.16.0.tar.gz
###
##############################################################################
##############################################################################
* using log directory ‘/home/biocbuild/bbs-3.22-bioc/meat/spiky.Rcheck’
* using R version 4.5.1 Patched (2025-08-23 r88802)
* using platform: x86_64-pc-linux-gnu
* R was compiled by
gcc (Ubuntu 13.3.0-6ubuntu2~24.04) 13.3.0
GNU Fortran (Ubuntu 13.3.0-6ubuntu2~24.04) 13.3.0
* running under: Ubuntu 24.04.3 LTS
* using session charset: UTF-8
* checking for file ‘spiky/DESCRIPTION’ ... OK
* checking extension type ... Package
* this is package ‘spiky’ version ‘1.16.0’
* package encoding: UTF-8
* checking package namespace information ... OK
* checking package dependencies ... OK
* checking if this is a source package ... OK
* checking if there is a namespace ... OK
* checking for hidden files and directories ... OK
* checking for portable file names ... OK
* checking for sufficient/correct file permissions ... OK
* checking whether package ‘spiky’ can be installed ... OK
* checking installed package size ... INFO
installed size is 16.3Mb
sub-directories of 1Mb or more:
data 3.1Mb
extdata 12.9Mb
* checking package directory ... OK
* checking ‘build’ directory ... OK
* checking DESCRIPTION meta-information ... OK
* checking top-level files ... OK
* checking for left-over files ... OK
* checking index information ... OK
* checking package subdirectories ... OK
* checking code files for non-ASCII characters ... OK
* checking R files for syntax errors ... OK
* checking whether the package can be loaded ... OK
* checking whether the package can be loaded with stated dependencies ... OK
* checking whether the package can be unloaded cleanly ... OK
* checking whether the namespace can be loaded with stated dependencies ... OK
* checking whether the namespace can be unloaded cleanly ... OK
* checking loading without being on the library search path ... OK
* checking dependencies in R code ... OK
* checking S3 generic/method consistency ... OK
* checking replacement functions ... OK
* checking foreign function calls ... OK
* checking R code for possible problems ... NOTE
.toGRs: warning in grep("(chrom|seqnames|start|end)1", colnames(x), val
= TRUE): partial argument match of 'val' to 'value'
.toGRs: warning in grep("(chrom|seqnames|start|end)2", colnames(x), val
= TRUE): partial argument match of 'val' to 'value'
* checking Rd files ... OK
* checking Rd metadata ... OK
* checking Rd cross-references ... OK
* checking for missing documentation entries ... OK
* checking for code/documentation mismatches ... OK
* checking Rd \usage sections ... OK
* checking Rd contents ... OK
* checking for unstated dependencies in examples ... OK
* checking contents of ‘data’ directory ... OK
* checking data for non-ASCII characters ... OK
* checking LazyData ... OK
* checking data for ASCII and uncompressed saves ... OK
* checking files in ‘vignettes’ ... OK
* checking examples ... OK
Examples with CPU (user + system) or elapsed time > 5s
user system elapsed
scan_genomic_contigs 14.167 2.121 16.289
scan_genomic_bedpe 14.205 0.793 14.999
model_bam_standards 5.681 0.193 5.874
* checking for unstated dependencies in vignettes ... OK
* checking package vignettes ... OK
* checking re-building of vignette outputs ... OK
* checking PDF version of manual ... OK
* DONE
Status: 1 NOTE
See
‘/home/biocbuild/bbs-3.22-bioc/meat/spiky.Rcheck/00check.log’
for details.
spiky.Rcheck/00install.out
############################################################################## ############################################################################## ### ### Running command: ### ### /home/biocbuild/bbs-3.22-bioc/R/bin/R CMD INSTALL spiky ### ############################################################################## ############################################################################## * installing to library ‘/home/biocbuild/bbs-3.22-bioc/R/site-library’ * installing *source* package ‘spiky’ ... ** this is package ‘spiky’ version ‘1.16.0’ ** using staged installation ** R ** data *** moving datasets to lazyload DB ** inst ** byte-compile and prepare package for lazy loading ** help *** installing help indices ** building package indices ** installing vignettes ** testing if installed package can be loaded from temporary location ** testing if installed package can be loaded from final location ** testing if installed package keeps a record of temporary installation path * DONE (spiky)
spiky.Rcheck/spiky-Ex.timings
| name | user | system | elapsed | |
| add_frag_info | 0.135 | 0.013 | 0.148 | |
| bam_to_bins | 0.131 | 0.003 | 0.135 | |
| bin_pmol | 3.364 | 0.304 | 3.699 | |
| covg_to_df | 0.073 | 0.005 | 0.077 | |
| find_spike_contigs | 0.019 | 0.001 | 0.020 | |
| generate_spike_fasta | 0.089 | 0.001 | 0.090 | |
| get_base_name | 0.008 | 0.000 | 0.008 | |
| get_binned_coverage | 0.189 | 0.005 | 0.194 | |
| get_merged_gr | 0.053 | 0.000 | 0.053 | |
| get_spike_depth | 0.238 | 0.017 | 0.255 | |
| get_spiked_coverage | 0.203 | 0.014 | 0.218 | |
| kmax | 0.041 | 0.000 | 0.041 | |
| kmers | 0.030 | 0.001 | 0.031 | |
| methylation_specificity | 0.071 | 0.000 | 0.070 | |
| model_bam_standards | 5.681 | 0.193 | 5.874 | |
| model_glm_pmol | 0.052 | 0.000 | 0.052 | |
| predict_pmol | 1.928 | 0.361 | 2.289 | |
| process_spikes | 0.166 | 0.003 | 0.169 | |
| read_bedpe | 0 | 0 | 0 | |
| scan_genomic_bedpe | 14.205 | 0.793 | 14.999 | |
| scan_genomic_contigs | 14.167 | 2.121 | 16.289 | |
| scan_methylation_specificity | 0.029 | 0.001 | 0.030 | |
| scan_spike_bedpe | 3.731 | 0.081 | 3.813 | |
| scan_spike_contigs | 0.339 | 0.012 | 0.351 | |
| scan_spike_counts | 0.049 | 0.002 | 0.051 | |
| scan_spiked_bam | 0.399 | 0.012 | 0.411 | |
| seqinfo_from_header | 0.087 | 0.003 | 0.090 | |
| spike_bland_altman_plot | 0.284 | 0.035 | 0.320 | |
| spike_counts | 0.052 | 0.008 | 0.061 | |
| tile_bins | 0.036 | 0.003 | 0.040 | |