| Back to Multiple platform build/check report for BioC 3.21: simplified long |
|
This page was generated on 2025-10-16 11:39 -0400 (Thu, 16 Oct 2025).
| Hostname | OS | Arch (*) | R version | Installed pkgs |
|---|---|---|---|---|
| nebbiolo1 | Linux (Ubuntu 24.04.3 LTS) | x86_64 | 4.5.1 (2025-06-13) -- "Great Square Root" | 4833 |
| merida1 | macOS 12.7.6 Monterey | x86_64 | 4.5.1 RC (2025-06-05 r88288) -- "Great Square Root" | 4614 |
| kjohnson1 | macOS 13.7.5 Ventura | arm64 | 4.5.1 Patched (2025-06-14 r88325) -- "Great Square Root" | 4555 |
| kunpeng2 | Linux (openEuler 24.03 LTS) | aarch64 | R Under development (unstable) (2025-02-19 r87757) -- "Unsuffered Consequences" | 4586 |
| Click on any hostname to see more info about the system (e.g. compilers) (*) as reported by 'uname -p', except on Windows and Mac OS X | ||||
| Package 2067/2341 | Hostname | OS / Arch | INSTALL | BUILD | CHECK | BUILD BIN | ||||||||
| specL 1.42.0 (landing page) Christian Panse
| nebbiolo1 | Linux (Ubuntu 24.04.3 LTS) / x86_64 | OK | OK | OK | |||||||||
| merida1 | macOS 12.7.6 Monterey / x86_64 | OK | OK | OK | OK | |||||||||
| kjohnson1 | macOS 13.7.5 Ventura / arm64 | OK | OK | OK | OK | |||||||||
| kunpeng2 | Linux (openEuler 24.03 LTS) / aarch64 | OK | OK | OK | ||||||||||
|
To the developers/maintainers of the specL package: - Allow up to 24 hours (and sometimes 48 hours) for your latest push to git@git.bioconductor.org:packages/specL.git to reflect on this report. See Troubleshooting Build Report for more information. - Use the following Renviron settings to reproduce errors and warnings. - If 'R CMD check' started to fail recently on the Linux builder(s) over a missing dependency, add the missing dependency to 'Suggests:' in your DESCRIPTION file. See Renviron.bioc for more information. |
| Package: specL |
| Version: 1.42.0 |
| Command: /Library/Frameworks/R.framework/Resources/bin/R CMD check --install=check:specL.install-out.txt --library=/Library/Frameworks/R.framework/Resources/library --no-vignettes --timings specL_1.42.0.tar.gz |
| StartedAt: 2025-10-14 10:53:35 -0400 (Tue, 14 Oct 2025) |
| EndedAt: 2025-10-14 10:55:36 -0400 (Tue, 14 Oct 2025) |
| EllapsedTime: 121.7 seconds |
| RetCode: 0 |
| Status: OK |
| CheckDir: specL.Rcheck |
| Warnings: 0 |
##############################################################################
##############################################################################
###
### Running command:
###
### /Library/Frameworks/R.framework/Resources/bin/R CMD check --install=check:specL.install-out.txt --library=/Library/Frameworks/R.framework/Resources/library --no-vignettes --timings specL_1.42.0.tar.gz
###
##############################################################################
##############################################################################
* using log directory ‘/Users/biocbuild/bbs-3.21-bioc/meat/specL.Rcheck’
* using R version 4.5.1 RC (2025-06-05 r88288)
* using platform: x86_64-apple-darwin20
* R was compiled by
Apple clang version 14.0.0 (clang-1400.0.29.202)
GNU Fortran (GCC) 14.2.0
* running under: macOS Monterey 12.7.6
* using session charset: UTF-8
* using option ‘--no-vignettes’
* checking for file ‘specL/DESCRIPTION’ ... OK
* checking extension type ... Package
* this is package ‘specL’ version ‘1.42.0’
* checking package namespace information ... OK
* checking package dependencies ... OK
* checking if this is a source package ... OK
* checking if there is a namespace ... OK
* checking for hidden files and directories ... OK
* checking for portable file names ... OK
* checking for sufficient/correct file permissions ... OK
* checking whether package ‘specL’ can be installed ... OK
* checking installed package size ... OK
* checking package directory ... OK
* checking ‘build’ directory ... OK
* checking DESCRIPTION meta-information ... OK
* checking top-level files ... OK
* checking for left-over files ... OK
* checking index information ... OK
* checking package subdirectories ... OK
* checking code files for non-ASCII characters ... OK
* checking R files for syntax errors ... OK
* checking whether the package can be loaded ... OK
* checking whether the package can be loaded with stated dependencies ... OK
* checking whether the package can be unloaded cleanly ... OK
* checking whether the namespace can be loaded with stated dependencies ... OK
* checking whether the namespace can be unloaded cleanly ... OK
* checking whether startup messages can be suppressed ... OK
* checking dependencies in R code ... OK
* checking S3 generic/method consistency ... OK
* checking replacement functions ... OK
* checking foreign function calls ... OK
* checking R code for possible problems ... NOTE
.retentiontimePlotFile : <anonymous>: no visible global function
definition for ‘head’
summary,specLSet : <anonymous>: no visible binding for global variable
‘iRTpeptides’
Undefined global functions or variables:
head iRTpeptides
Consider adding
importFrom("utils", "head")
to your NAMESPACE file.
* checking Rd files ... OK
* checking Rd metadata ... OK
* checking Rd cross-references ... OK
* checking for missing documentation entries ... OK
* checking for code/documentation mismatches ... OK
* checking Rd \usage sections ... OK
* checking Rd contents ... OK
* checking for unstated dependencies in examples ... OK
* checking contents of ‘data’ directory ... OK
* checking data for non-ASCII characters ... OK
* checking LazyData ... OK
* checking data for ASCII and uncompressed saves ... OK
* checking files in ‘vignettes’ ... OK
* checking examples ... OK
* checking for unstated dependencies in ‘tests’ ... OK
* checking tests ...
Running ‘runTests.R’
OK
* checking for unstated dependencies in vignettes ... OK
* checking package vignettes ... OK
* checking running R code from vignettes ... SKIPPED
* checking re-building of vignette outputs ... SKIPPED
* checking PDF version of manual ... OK
* DONE
Status: 1 NOTE
See
‘/Users/biocbuild/bbs-3.21-bioc/meat/specL.Rcheck/00check.log’
for details.
specL.Rcheck/00install.out
############################################################################## ############################################################################## ### ### Running command: ### ### /Library/Frameworks/R.framework/Resources/bin/R CMD INSTALL specL ### ############################################################################## ############################################################################## * installing to library ‘/Library/Frameworks/R.framework/Versions/4.5-x86_64/Resources/library’ * installing *source* package ‘specL’ ... ** this is package ‘specL’ version ‘1.42.0’ ** using staged installation ** R ** data *** moving datasets to lazyload DB ** inst ** byte-compile and prepare package for lazy loading ** help *** installing help indices ** building package indices ** installing vignettes ** testing if installed package can be loaded from temporary location ** testing if installed package can be loaded from final location ** testing if installed package keeps a record of temporary installation path * DONE (specL)
specL.Rcheck/tests/runTests.Rout
R version 4.5.1 RC (2025-06-05 r88288) -- "Great Square Root"
Copyright (C) 2025 The R Foundation for Statistical Computing
Platform: x86_64-apple-darwin20
R is free software and comes with ABSOLUTELY NO WARRANTY.
You are welcome to redistribute it under certain conditions.
Type 'license()' or 'licence()' for distribution details.
R is a collaborative project with many contributors.
Type 'contributors()' for more information and
'citation()' on how to cite R or R packages in publications.
Type 'demo()' for some demos, 'help()' for on-line help, or
'help.start()' for an HTML browser interface to help.
Type 'q()' to quit R.
> BiocGenerics:::testPackage("specL")
Attaching package: 'specL'
The following objects are masked from 'package:protViz':
plot.psm, plot.psmSet, summary.psmSet
start protein annotation ...
time taken: 0.000947233041127523 minutes
start protein annotation ...
time taken: 0.000602817535400391 minutes
normalizing RT ...
found 7 iRT peptide(s) in s:\p1239\Proteomics\QEXACTIVE_3\ctrachse_20140910_Nuclei_diff_extraction_methods\20140910_01_fetuin_400amol_1.raw
found 7 iRT peptide(s) in s:\p1239\Proteomics\QEXACTIVE_3\ctrachse_20140910_Nuclei_diff_extraction_methods\20140910_07_fetuin_400amol_2.raw
building model ...
generating ion library ...
start generating specLSet object ...
length of findNN idx 137
length of genSwathIonLibSpecL 137
time taken: 0.673122882843018 secs
length of genSwathIonLibSpecL after fragmentIonRange filtering 137
normalizing RT ...
found 7 iRT peptide(s) in s:\p1239\Proteomics\QEXACTIVE_3\ctrachse_20140910_Nuclei_diff_extraction_methods\20140910_01_fetuin_400amol_1.raw
found 7 iRT peptide(s) in s:\p1239\Proteomics\QEXACTIVE_3\ctrachse_20140910_Nuclei_diff_extraction_methods\20140910_07_fetuin_400amol_2.raw
building model ...
generating ion library ...
start generating specLSet object ...
length of findNN idx 137
length of genSwathIonLibSpecL 137
time taken: 0.61652398109436 secs
length of genSwathIonLibSpecL after fragmentIonRange filtering 137
normalizing RT ...
found 7 iRT peptide(s) in s:\p1239\Proteomics\QEXACTIVE_3\ctrachse_20140910_Nuclei_diff_extraction_methods\20140910_01_fetuin_400amol_1.raw
found 7 iRT peptide(s) in s:\p1239\Proteomics\QEXACTIVE_3\ctrachse_20140910_Nuclei_diff_extraction_methods\20140910_07_fetuin_400amol_2.raw
building model ...
generating ion library ...
start generating specLSet object ...
length of findNN idx 137
length of genSwathIonLibSpecL 137
time taken: 0.515969038009644 secs
length of genSwathIonLibSpecL after fragmentIonRange filtering 137
normalizing RT ...
no iRT peptides found for building the model.
=> no iRT regression applied, using orgiginal rt instead!
generating ion library ...
start generating specLSet object ...
length of findNN idx 137
length of genSwathIonLibSpecL 137
time taken: 0.594288110733032 secs
length of genSwathIonLibSpecL after fragmentIonRange filtering 137
normalizing RT ...
found 7 iRT peptide(s) in s:\p1239\Proteomics\QEXACTIVE_3\ctrachse_20140910_Nuclei_diff_extraction_methods\20140910_01_fetuin_400amol_1.raw
found 7 iRT peptide(s) in s:\p1239\Proteomics\QEXACTIVE_3\ctrachse_20140910_Nuclei_diff_extraction_methods\20140910_07_fetuin_400amol_2.raw
building model ...
model with only one file.
generating ion library ...
start generating specLSet object ...
length of findNN idx 1
length of genSwathIonLibSpecL 1
time taken: 0.0234808921813965 secs
length of genSwathIonLibSpecL after fragmentIonRange filtering 1
normalizing RT ...
found 7 iRT peptide(s) in s:\p1239\Proteomics\QEXACTIVE_3\ctrachse_20140910_Nuclei_diff_extraction_methods\20140910_01_fetuin_400amol_1.raw
found 7 iRT peptide(s) in s:\p1239\Proteomics\QEXACTIVE_3\ctrachse_20140910_Nuclei_diff_extraction_methods\20140910_07_fetuin_400amol_2.raw
building model ...
model with only one file.
generating ion library ...
start generating specLSet object ...
length of findNN idx 1
length of genSwathIonLibSpecL 1
time taken: 0.0245981216430664 secs
length of genSwathIonLibSpecL after fragmentIonRange filtering 1
normalizing RT ...
found 7 iRT peptide(s) in s:\p1239\Proteomics\QEXACTIVE_3\ctrachse_20140910_Nuclei_diff_extraction_methods\20140910_01_fetuin_400amol_1.raw
found 7 iRT peptide(s) in s:\p1239\Proteomics\QEXACTIVE_3\ctrachse_20140910_Nuclei_diff_extraction_methods\20140910_07_fetuin_400amol_2.raw
building model ...
generating ion library ...
start generating specLSet object ...
length of findNN idx 137
length of genSwathIonLibSpecL 137
time taken: 0.506706953048706 secs
length of genSwathIonLibSpecL after fragmentIonRange filtering 137
normalizing RT ...
no iRT peptides found for building the model.
=> no iRT regression applied, using orgiginal rt instead!
generating ion library ...
start generating specLSet object ...
length of findNN idx 137
length of genSwathIonLibSpecL 137
time taken: 0.615653991699219 secs
length of genSwathIonLibSpecL after fragmentIonRange filtering 137
normalizing RT ...
found 7 iRT peptide(s) in s:\p1239\Proteomics\QEXACTIVE_3\ctrachse_20140910_Nuclei_diff_extraction_methods\20140910_01_fetuin_400amol_1.raw
found 7 iRT peptide(s) in s:\p1239\Proteomics\QEXACTIVE_3\ctrachse_20140910_Nuclei_diff_extraction_methods\20140910_07_fetuin_400amol_2.raw
building model ...
model with only one file.
generating ion library ...
start generating specLSet object ...
length of findNN idx 1
length of genSwathIonLibSpecL 1
time taken: 0.020190954208374 secs
length of genSwathIonLibSpecL after fragmentIonRange filtering 1
normalizing RT ...
found 7 iRT peptide(s) in s:\p1239\Proteomics\QEXACTIVE_3\ctrachse_20140910_Nuclei_diff_extraction_methods\20140910_01_fetuin_400amol_1.raw
found 7 iRT peptide(s) in s:\p1239\Proteomics\QEXACTIVE_3\ctrachse_20140910_Nuclei_diff_extraction_methods\20140910_07_fetuin_400amol_2.raw
building model ...
model with only one file.
generating ion library ...
start generating specLSet object ...
length of findNN idx 1
length of genSwathIonLibSpecL 1
time taken: 0.0221798419952393 secs
length of genSwathIonLibSpecL after fragmentIonRange filtering 1
normalizing RT ...
found 7 iRT peptide(s) in s:\p1239\Proteomics\QEXACTIVE_3\ctrachse_20140910_Nuclei_diff_extraction_methods\20140910_01_fetuin_400amol_1.raw
found 7 iRT peptide(s) in s:\p1239\Proteomics\QEXACTIVE_3\ctrachse_20140910_Nuclei_diff_extraction_methods\20140910_07_fetuin_400amol_2.raw
building model ...
generating ion library ...
start generating specLSet object ...
length of findNN idx 69
length of genSwathIonLibSpecL 69
time taken: 0.312653064727783 secs
length of genSwathIonLibSpecL after fragmentIonRange filtering 69
normalizing RT ...
found 7 iRT peptide(s) in s:\p1239\Proteomics\QEXACTIVE_3\ctrachse_20140910_Nuclei_diff_extraction_methods\20140910_01_fetuin_400amol_1.raw
found 7 iRT peptide(s) in s:\p1239\Proteomics\QEXACTIVE_3\ctrachse_20140910_Nuclei_diff_extraction_methods\20140910_07_fetuin_400amol_2.raw
building model ...
generating ion library ...
start generating specLSet object ...
length of findNN idx 68
length of genSwathIonLibSpecL 68
time taken: 0.31623911857605 secs
length of genSwathIonLibSpecL after fragmentIonRange filtering 68
normalizing RT ...
found 7 iRT peptide(s) in s:\p1239\Proteomics\QEXACTIVE_3\ctrachse_20140910_Nuclei_diff_extraction_methods\20140910_01_fetuin_400amol_1.raw
found 7 iRT peptide(s) in s:\p1239\Proteomics\QEXACTIVE_3\ctrachse_20140910_Nuclei_diff_extraction_methods\20140910_07_fetuin_400amol_2.raw
building model ...
generating ion library ...
start generating specLSet object ...
length of findNN idx 137
length of genSwathIonLibSpecL 137
time taken: 0.59808611869812 secs
length of genSwathIonLibSpecL after fragmentIonRange filtering 137
normalizing RT ...
found 7 iRT peptide(s) in s:\p1239\Proteomics\QEXACTIVE_3\ctrachse_20140910_Nuclei_diff_extraction_methods\20140910_01_fetuin_400amol_1.raw
found 7 iRT peptide(s) in s:\p1239\Proteomics\QEXACTIVE_3\ctrachse_20140910_Nuclei_diff_extraction_methods\20140910_07_fetuin_400amol_2.raw
building model ...
generating ion library ...
start generating specLSet object ...
length of findNN idx 69
length of genSwathIonLibSpecL 69
time taken: 0.320704936981201 secs
length of genSwathIonLibSpecL after fragmentIonRange filtering 69
normalizing RT ...
found 7 iRT peptide(s) in s:\p1239\Proteomics\QEXACTIVE_3\ctrachse_20140910_Nuclei_diff_extraction_methods\20140910_01_fetuin_400amol_1.raw
found 7 iRT peptide(s) in s:\p1239\Proteomics\QEXACTIVE_3\ctrachse_20140910_Nuclei_diff_extraction_methods\20140910_07_fetuin_400amol_2.raw
building model ...
generating ion library ...
start generating specLSet object ...
length of findNN idx 68
length of genSwathIonLibSpecL 68
time taken: 0.330734014511108 secs
length of genSwathIonLibSpecL after fragmentIonRange filtering 68
normalizing RT ...
found 7 iRT peptide(s) in s:\p1239\Proteomics\QEXACTIVE_3\ctrachse_20140910_Nuclei_diff_extraction_methods\20140910_01_fetuin_400amol_1.raw
found 7 iRT peptide(s) in s:\p1239\Proteomics\QEXACTIVE_3\ctrachse_20140910_Nuclei_diff_extraction_methods\20140910_07_fetuin_400amol_2.raw
building model ...
generating ion library ...
start generating specLSet object ...
length of findNN idx 137
length of genSwathIonLibSpecL 137
time taken: 0.633149862289429 secs
length of genSwathIonLibSpecL after fragmentIonRange filtering 137
fetched 137 rows.
assigning 28 modifications ...
fetched 184 rows.
assigning 37 modifications ...
normalizing RT ...
found 7 iRT peptide(s) in s:\p1239\Proteomics\QEXACTIVE_3\ctrachse_20140910_Nuclei_diff_extraction_methods\20140910_01_fetuin_400amol_1.raw
found 7 iRT peptide(s) in s:\p1239\Proteomics\QEXACTIVE_3\ctrachse_20140910_Nuclei_diff_extraction_methods\20140910_07_fetuin_400amol_2.raw
building model ...
generating ion library ...
start generating specLSet object ...
length of findNN idx 137
length of genSwathIonLibSpecL 137
time taken: 0.506390810012817 secs
length of genSwathIonLibSpecL after fragmentIonRange filtering 137
fetched 137 rows.
assigning 28 modifications ...
fetched 184 rows.
assigning 37 modifications ...
normalizing RT ...
found 7 iRT peptide(s) in s:\p1239\Proteomics\QEXACTIVE_3\ctrachse_20140910_Nuclei_diff_extraction_methods\20140910_01_fetuin_400amol_1.raw
found 7 iRT peptide(s) in s:\p1239\Proteomics\QEXACTIVE_3\ctrachse_20140910_Nuclei_diff_extraction_methods\20140910_07_fetuin_400amol_2.raw
building model ...
generating ion library ...
start generating specLSet object ...
length of findNN idx 137
length of genSwathIonLibSpecL 137
time taken: 0.520807027816772 secs
length of genSwathIonLibSpecL after fragmentIonRange filtering 137
RUNIT TEST PROTOCOL -- Tue Oct 14 10:55:24 2025
***********************************************
Number of test functions: 9
Number of errors: 0
Number of failures: 0
1 Test Suite :
specL RUnit Tests - 9 test functions, 0 errors, 0 failures
Number of test functions: 9
Number of errors: 0
Number of failures: 0
There were 13 warnings (use warnings() to see them)
>
>
> proc.time()
user system elapsed
12.018 0.535 13.073
specL.Rcheck/specL-Ex.timings
| name | user | system | elapsed | |
| annotate.protein_id | 0.048 | 0.014 | 0.069 | |
| cdsw | 0.026 | 0.006 | 0.033 | |
| genSwathIonLib | 0.833 | 0.028 | 0.866 | |
| iRTpeptides | 0.007 | 0.003 | 0.010 | |
| peptideStd | 0.014 | 0.007 | 0.022 | |
| read.bibliospec | 0.002 | 0.001 | 0.003 | |
| specL-class | 0.001 | 0.001 | 0.003 | |
| specLSet-class | 0.003 | 0.002 | 0.005 | |