Back to Multiple platform build/check report for BioC 3.22:   simplified   long
ABCDEFGHIJKLMNOPQR[S]TUVWXYZ

This page was generated on 2025-10-31 12:03 -0400 (Fri, 31 Oct 2025).

HostnameOSArch (*)R versionInstalled pkgs
nebbiolo2Linux (Ubuntu 24.04.3 LTS)x86_644.5.1 Patched (2025-08-23 r88802) -- "Great Square Root" 4901
lconwaymacOS 12.7.6 Montereyx86_644.5.1 Patched (2025-09-10 r88807) -- "Great Square Root" 4691
kjohnson3macOS 13.7.7 Venturaarm644.5.1 Patched (2025-09-10 r88807) -- "Great Square Root" 4637
Click on any hostname to see more info about the system (e.g. compilers)      (*) as reported by 'uname -p', except on Windows and Mac OS X

Package 2082/2361HostnameOS / ArchINSTALLBUILDCHECKBUILD BIN
spatialFDA 1.2.0  (landing page)
Martin Emons
Snapshot Date: 2025-10-30 13:45 -0400 (Thu, 30 Oct 2025)
git_url: https://git.bioconductor.org/packages/spatialFDA
git_branch: RELEASE_3_22
git_last_commit: 6860169
git_last_commit_date: 2025-10-29 11:33:57 -0400 (Wed, 29 Oct 2025)
nebbiolo2Linux (Ubuntu 24.04.3 LTS) / x86_64  OK    OK    OK  UNNEEDED, same version is already published
lconwaymacOS 12.7.6 Monterey / x86_64  OK    OK    OK    OK  UNNEEDED, same version is already published
kjohnson3macOS 13.7.7 Ventura / arm64  OK    OK    OK    OK  UNNEEDED, same version is already published


CHECK results for spatialFDA on nebbiolo2

To the developers/maintainers of the spatialFDA package:
- Allow up to 24 hours (and sometimes 48 hours) for your latest push to git@git.bioconductor.org:packages/spatialFDA.git to reflect on this report. See Troubleshooting Build Report for more information.
- Use the following Renviron settings to reproduce errors and warnings.
- If 'R CMD check' started to fail recently on the Linux builder(s) over a missing dependency, add the missing dependency to 'Suggests:' in your DESCRIPTION file. See Renviron.bioc for more information.

raw results


Summary

Package: spatialFDA
Version: 1.2.0
Command: /home/biocbuild/bbs-3.22-bioc/R/bin/R CMD check --install=check:spatialFDA.install-out.txt --library=/home/biocbuild/bbs-3.22-bioc/R/site-library --timings spatialFDA_1.2.0.tar.gz
StartedAt: 2025-10-31 04:23:06 -0400 (Fri, 31 Oct 2025)
EndedAt: 2025-10-31 04:40:34 -0400 (Fri, 31 Oct 2025)
EllapsedTime: 1048.0 seconds
RetCode: 0
Status:   OK  
CheckDir: spatialFDA.Rcheck
Warnings: 0

Command output

##############################################################################
##############################################################################
###
### Running command:
###
###   /home/biocbuild/bbs-3.22-bioc/R/bin/R CMD check --install=check:spatialFDA.install-out.txt --library=/home/biocbuild/bbs-3.22-bioc/R/site-library --timings spatialFDA_1.2.0.tar.gz
###
##############################################################################
##############################################################################


* using log directory ‘/home/biocbuild/bbs-3.22-bioc/meat/spatialFDA.Rcheck’
* using R version 4.5.1 Patched (2025-08-23 r88802)
* using platform: x86_64-pc-linux-gnu
* R was compiled by
    gcc (Ubuntu 13.3.0-6ubuntu2~24.04) 13.3.0
    GNU Fortran (Ubuntu 13.3.0-6ubuntu2~24.04) 13.3.0
* running under: Ubuntu 24.04.3 LTS
* using session charset: UTF-8
* checking for file ‘spatialFDA/DESCRIPTION’ ... OK
* this is package ‘spatialFDA’ version ‘1.2.0’
* package encoding: UTF-8
* checking package namespace information ... OK
* checking package dependencies ... OK
* checking if this is a source package ... OK
* checking if there is a namespace ... OK
* checking for hidden files and directories ... OK
* checking for portable file names ... OK
* checking for sufficient/correct file permissions ... OK
* checking whether package ‘spatialFDA’ can be installed ... OK
* checking installed package size ... OK
* checking package directory ... OK
* checking ‘build’ directory ... OK
* checking DESCRIPTION meta-information ... OK
* checking top-level files ... OK
* checking for left-over files ... OK
* checking index information ... OK
* checking package subdirectories ... OK
* checking code files for non-ASCII characters ... OK
* checking R files for syntax errors ... OK
* checking whether the package can be loaded ... OK
* checking whether the package can be loaded with stated dependencies ... OK
* checking whether the package can be unloaded cleanly ... OK
* checking whether the namespace can be loaded with stated dependencies ... OK
* checking whether the namespace can be unloaded cleanly ... OK
* checking loading without being on the library search path ... OK
* checking dependencies in R code ... OK
* checking S3 generic/method consistency ... OK
* checking replacement functions ... OK
* checking foreign function calls ... OK
* checking R code for possible problems ... OK
* checking Rd files ... OK
* checking Rd metadata ... OK
* checking Rd cross-references ... OK
* checking for missing documentation entries ... OK
* checking for code/documentation mismatches ... OK
* checking Rd \usage sections ... OK
* checking Rd contents ... OK
* checking for unstated dependencies in examples ... OK
* checking files in ‘vignettes’ ... OK
* checking examples ... OK
Examples with CPU (user + system) or elapsed time > 5s
                            user system elapsed
plotCrossHeatmap          24.096  2.718  27.165
extractCrossInferenceData 23.731  1.508  25.559
crossSpatialInference     23.024  1.443  24.749
calcCrossMetricPerFov     22.458  1.731  24.520
plotCrossMetricPerFov     22.475  0.744  23.496
spatialInference          12.342  0.399  13.020
plotMdl                   11.303  0.362  11.970
functionalGam             10.755  0.843  11.880
functionalPCA              8.900  0.980  10.167
plotMetricPerFov           9.009  0.324   9.652
plotFbPlot                 8.954  0.369   9.644
plotFpca                   8.846  0.322   9.500
prepData                   8.777  0.300   9.355
calcMetricPerFov           8.330  0.549   9.160
print.fpca                 8.336  0.234   8.854
dot-extractMetric          6.752  0.916   8.017
dot-dfToppp                6.775  0.719   7.771
dot-speToDf                6.404  0.701   7.429
dot-loadExample            5.879  0.661   6.816
rMaxHeuristic              6.011  0.238   6.587
* checking for unstated dependencies in ‘tests’ ... OK
* checking tests ...
  Running ‘testthat.R’
 OK
* checking for unstated dependencies in vignettes ... OK
* checking package vignettes ... OK
* checking re-building of vignette outputs ... OK
* checking PDF version of manual ... OK
* DONE

Status: OK


Installation output

spatialFDA.Rcheck/00install.out

##############################################################################
##############################################################################
###
### Running command:
###
###   /home/biocbuild/bbs-3.22-bioc/R/bin/R CMD INSTALL spatialFDA
###
##############################################################################
##############################################################################


* installing to library ‘/home/biocbuild/bbs-3.22-bioc/R/site-library’
* installing *source* package ‘spatialFDA’ ...
** this is package ‘spatialFDA’ version ‘1.2.0’
** using staged installation
** R
** inst
** byte-compile and prepare package for lazy loading
** help
*** installing help indices
** building package indices
** installing vignettes
** testing if installed package can be loaded from temporary location
** testing if installed package can be loaded from final location
** testing if installed package keeps a record of temporary installation path
* DONE (spatialFDA)

Tests output

spatialFDA.Rcheck/tests/testthat.Rout


R version 4.5.1 Patched (2025-08-23 r88802) -- "Great Square Root"
Copyright (C) 2025 The R Foundation for Statistical Computing
Platform: x86_64-pc-linux-gnu

R is free software and comes with ABSOLUTELY NO WARRANTY.
You are welcome to redistribute it under certain conditions.
Type 'license()' or 'licence()' for distribution details.

R is a collaborative project with many contributors.
Type 'contributors()' for more information and
'citation()' on how to cite R or R packages in publications.

Type 'demo()' for some demos, 'help()' for on-line help, or
'help.start()' for an HTML browser interface to help.
Type 'q()' to quit R.

> # This file is part of the standard setup for testthat.
> # It is recommended that you do not modify it.
> #
> # Where should you do additional test configuration?
> # Learn more about the roles of various files in:
> # * https://r-pkgs.org/testing-design.html#sec-tests-files-overview
> # * https://testthat.r-lib.org/articles/special-files.html
> 
> library(testthat)
> library(spatialFDA)
> 
> test_check("spatialFDA")
imcdatasets not installed.
  Full functionality, documentation, and loading of data might not be possible without installing
loading from cache
require("SingleCellExperiment")
Calculating Gest of alpha
Calculating markcorr of alpha
Calculating Gcross from alpha to Tc
Calculating Gest of alpha
Calculating Gcross from alpha to beta
Calculating Gcross from alpha to alpha
Calculating Gcross from beta to alpha
Calculating Gcross from delta to alpha
Calculating Gcross from alpha to beta
Calculating Gcross from beta to beta
Calculating Gcross from delta to beta
Calculating Gcross from alpha to delta
Calculating Gcross from beta to delta
Calculating Gcross from delta to delta
alpha
Calculating Kdot of alpha
beta
Calculating Kdot of beta
delta
Calculating Kdot of delta
Calculating Lcross from alpha to Tc
Calculating Gcross from alpha to Tc
Calculating Gcross from alpha to Tc
Calculating Gest of beta

Attaching package: 'tidyr'

The following object is masked from 'package:S4Vectors':

    expand

The following object is masked from 'package:testthat':

    matches


Attaching package: 'dplyr'

The following object is masked from 'package:Biobase':

    combine

The following objects are masked from 'package:GenomicRanges':

    intersect, setdiff, union

The following object is masked from 'package:Seqinfo':

    intersect

The following objects are masked from 'package:IRanges':

    collapse, desc, intersect, setdiff, slice, union

The following objects are masked from 'package:S4Vectors':

    first, intersect, rename, setdiff, setequal, union

The following objects are masked from 'package:BiocGenerics':

    combine, intersect, setdiff, setequal, union

The following object is masked from 'package:generics':

    explain

The following object is masked from 'package:matrixStats':

    count

The following object is masked from 'package:testthat':

    matches

The following objects are masked from 'package:stats':

    filter, lag

The following objects are masked from 'package:base':

    intersect, setdiff, setequal, union

imcdatasets not installed.
  Full functionality, documentation, and loading of data might not be possible without installing
loading from cache
Calculating Gest of alpha
Creating design matrix with Non-diabetic as reference
The adjusted R-squared of the model is 0.989755562666548
Calculating Gcross from alpha to alpha
Creating design matrix with Non-diabetic as reference
The adjusted R-squared of the model is 0.989755562666548
Calculating Gcross from Tc to alpha
Creating design matrix with Non-diabetic as reference
The adjusted R-squared of the model is 0.697877461129732
Calculating Gcross from alpha to Tc
Creating design matrix with Non-diabetic as reference
The adjusted R-squared of the model is 0.82317681350734
Calculating Gcross from Tc to Tc
Creating design matrix with Non-diabetic as reference
The adjusted R-squared of the model is 0.828441693125797
Calculating Gcross from alpha to Tc
Creating design matrix with Non-diabetic as reference
The adjusted R-squared of the model is 0.82317681350734
imcdatasets not installed.
  Full functionality, documentation, and loading of data might not be possible without installing
loading from cache
Calculating Gcross from alpha to Tc
imcdatasets not installed.
  Full functionality, documentation, and loading of data might not be possible without installing
loading from cache
Calculating Gcross from alpha to Tc
imcdatasets not installed.
  Full functionality, documentation, and loading of data might not be possible without installing
loading from cache
Calculating Gcross from alpha to Tc
Calculating Gcross from alpha to Tc
Creating design matrix with Non-diabetic as reference
The adjusted R-squared of the model is 0.82317681350734
Calculating Gest of beta
Can not fit a model if one condition has no images with curves
Calculating Gcross from alpha to Tc
Creating design matrix with Non-diabetic as reference
The adjusted R-squared of the model is 0.836697817694868
Calculating Gcross from alpha to Tc
Creating design matrix with Non-diabetic as reference
The adjusted R-squared of the model is 0.817679285661609
Calculating Gcross from alpha to Tc
Creating design matrix with Non-diabetic as reference
The adjusted R-squared of the model is 0.778212685014441
Calculating Gcross from alpha to Tc
Creating design matrix with Onset as reference
The adjusted R-squared of the model is 0.778169684435465
[ FAIL 0 | WARN 6 | SKIP 0 | PASS 55 ]

[ FAIL 0 | WARN 6 | SKIP 0 | PASS 55 ]
> 
> proc.time()
   user  system elapsed 
185.913   4.136 191.735 

Example timings

spatialFDA.Rcheck/spatialFDA-Ex.timings

nameusersystemelapsed
calcCrossMetricPerFov22.458 1.73124.520
calcMetricPerFov8.3300.5499.160
crossSpatialInference23.024 1.44324.749
dot-dfToppp6.7750.7197.771
dot-extractMetric6.7520.9168.017
dot-loadExample5.8790.6616.816
dot-speToDf6.4040.7017.429
extractCrossInferenceData23.731 1.50825.559
functionalGam10.755 0.84311.880
functionalPCA 8.900 0.98010.167
plotCrossHeatmap24.096 2.71827.165
plotCrossMetricPerFov22.475 0.74423.496
plotFbPlot8.9540.3699.644
plotFpca8.8460.3229.500
plotMdl11.303 0.36211.970
plotMetricPerFov9.0090.3249.652
prepData8.7770.3009.355
print.fpca8.3360.2348.854
rMaxHeuristic6.0110.2386.587
spatialInference12.342 0.39913.020