| Back to Multiple platform build/check report for BioC 3.21: simplified long |
|
This page was generated on 2025-10-16 11:39 -0400 (Thu, 16 Oct 2025).
| Hostname | OS | Arch (*) | R version | Installed pkgs |
|---|---|---|---|---|
| nebbiolo1 | Linux (Ubuntu 24.04.3 LTS) | x86_64 | 4.5.1 (2025-06-13) -- "Great Square Root" | 4833 |
| merida1 | macOS 12.7.6 Monterey | x86_64 | 4.5.1 RC (2025-06-05 r88288) -- "Great Square Root" | 4614 |
| kjohnson1 | macOS 13.7.5 Ventura | arm64 | 4.5.1 Patched (2025-06-14 r88325) -- "Great Square Root" | 4555 |
| kunpeng2 | Linux (openEuler 24.03 LTS) | aarch64 | R Under development (unstable) (2025-02-19 r87757) -- "Unsuffered Consequences" | 4586 |
| Click on any hostname to see more info about the system (e.g. compilers) (*) as reported by 'uname -p', except on Windows and Mac OS X | ||||
| Package 2046/2341 | Hostname | OS / Arch | INSTALL | BUILD | CHECK | BUILD BIN | ||||||||
| spacexr 1.0.0 (landing page) Gabriel Grajeda
| nebbiolo1 | Linux (Ubuntu 24.04.3 LTS) / x86_64 | OK | OK | OK | |||||||||
| merida1 | macOS 12.7.6 Monterey / x86_64 | OK | OK | OK | OK | |||||||||
| kjohnson1 | macOS 13.7.5 Ventura / arm64 | OK | OK | OK | OK | |||||||||
| kunpeng2 | Linux (openEuler 24.03 LTS) / aarch64 | OK | OK | OK | ||||||||||
|
To the developers/maintainers of the spacexr package: - Allow up to 24 hours (and sometimes 48 hours) for your latest push to git@git.bioconductor.org:packages/spacexr.git to reflect on this report. See Troubleshooting Build Report for more information. - Use the following Renviron settings to reproduce errors and warnings. - If 'R CMD check' started to fail recently on the Linux builder(s) over a missing dependency, add the missing dependency to 'Suggests:' in your DESCRIPTION file. See Renviron.bioc for more information. |
| Package: spacexr |
| Version: 1.0.0 |
| Command: /Library/Frameworks/R.framework/Resources/bin/R CMD check --install=check:spacexr.install-out.txt --library=/Library/Frameworks/R.framework/Resources/library --no-vignettes --timings spacexr_1.0.0.tar.gz |
| StartedAt: 2025-10-14 10:43:41 -0400 (Tue, 14 Oct 2025) |
| EndedAt: 2025-10-14 11:00:42 -0400 (Tue, 14 Oct 2025) |
| EllapsedTime: 1020.8 seconds |
| RetCode: 0 |
| Status: OK |
| CheckDir: spacexr.Rcheck |
| Warnings: 0 |
##############################################################################
##############################################################################
###
### Running command:
###
### /Library/Frameworks/R.framework/Resources/bin/R CMD check --install=check:spacexr.install-out.txt --library=/Library/Frameworks/R.framework/Resources/library --no-vignettes --timings spacexr_1.0.0.tar.gz
###
##############################################################################
##############################################################################
* using log directory ‘/Users/biocbuild/bbs-3.21-bioc/meat/spacexr.Rcheck’
* using R version 4.5.1 RC (2025-06-05 r88288)
* using platform: x86_64-apple-darwin20
* R was compiled by
Apple clang version 14.0.0 (clang-1400.0.29.202)
GNU Fortran (GCC) 14.2.0
* running under: macOS Monterey 12.7.6
* using session charset: UTF-8
* using option ‘--no-vignettes’
* checking for file ‘spacexr/DESCRIPTION’ ... OK
* checking extension type ... Package
* this is package ‘spacexr’ version ‘1.0.0’
* package encoding: UTF-8
* checking package namespace information ... OK
* checking package dependencies ... OK
* checking if this is a source package ... OK
* checking if there is a namespace ... OK
* checking for hidden files and directories ... OK
* checking for portable file names ... OK
* checking for sufficient/correct file permissions ... OK
* checking whether package ‘spacexr’ can be installed ... OK
* checking installed package size ... OK
* checking package directory ... OK
* checking ‘build’ directory ... OK
* checking DESCRIPTION meta-information ... OK
* checking top-level files ... OK
* checking for left-over files ... OK
* checking index information ... OK
* checking package subdirectories ... OK
* checking code files for non-ASCII characters ... OK
* checking R files for syntax errors ... OK
* checking whether the package can be loaded ... OK
* checking whether the package can be loaded with stated dependencies ... OK
* checking whether the package can be unloaded cleanly ... OK
* checking whether the namespace can be loaded with stated dependencies ... OK
* checking whether the namespace can be unloaded cleanly ... OK
* checking dependencies in R code ... OK
* checking S3 generic/method consistency ... OK
* checking replacement functions ... OK
* checking foreign function calls ... OK
* checking R code for possible problems ... OK
* checking Rd files ... OK
* checking Rd metadata ... OK
* checking Rd cross-references ... OK
* checking for missing documentation entries ... OK
* checking for code/documentation mismatches ... OK
* checking Rd \usage sections ... OK
* checking Rd contents ... OK
* checking for unstated dependencies in examples ... OK
* checking contents of ‘data’ directory ... OK
* checking data for non-ASCII characters ... OK
* checking data for ASCII and uncompressed saves ... OK
* checking files in ‘vignettes’ ... OK
* checking examples ... OK
Examples with CPU (user + system) or elapsed time > 5s
user system elapsed
chooseSigmaC 91.625 3.329 97.108
runRCTD 75.086 1.677 78.438
fitBulk 74.656 1.656 78.273
fitPixels 74.277 1.699 77.056
createRCTD 73.709 1.702 76.121
createRctdConfig 73.023 1.618 75.216
* checking for unstated dependencies in ‘tests’ ... OK
* checking tests ...
Running ‘testthat.R’
OK
* checking for unstated dependencies in vignettes ... OK
* checking package vignettes ... OK
* checking running R code from vignettes ... SKIPPED
* checking re-building of vignette outputs ... SKIPPED
* checking PDF version of manual ... OK
* DONE
Status: OK
spacexr.Rcheck/00install.out
############################################################################## ############################################################################## ### ### Running command: ### ### /Library/Frameworks/R.framework/Resources/bin/R CMD INSTALL spacexr ### ############################################################################## ############################################################################## * installing to library ‘/Library/Frameworks/R.framework/Versions/4.5-x86_64/Resources/library’ * installing *source* package ‘spacexr’ ... ** this is package ‘spacexr’ version ‘1.0.0’ ** using staged installation ** R ** data ** inst ** byte-compile and prepare package for lazy loading ** help *** installing help indices ** building package indices ** installing vignettes ** testing if installed package can be loaded from temporary location ** testing if installed package can be loaded from final location ** testing if installed package keeps a record of temporary installation path * DONE (spacexr)
spacexr.Rcheck/tests/testthat.Rout
R version 4.5.1 RC (2025-06-05 r88288) -- "Great Square Root"
Copyright (C) 2025 The R Foundation for Statistical Computing
Platform: x86_64-apple-darwin20
R is free software and comes with ABSOLUTELY NO WARRANTY.
You are welcome to redistribute it under certain conditions.
Type 'license()' or 'licence()' for distribution details.
R is a collaborative project with many contributors.
Type 'contributors()' for more information and
'citation()' on how to cite R or R packages in publications.
Type 'demo()' for some demos, 'help()' for on-line help, or
'help.start()' for an HTML browser interface to help.
Type 'q()' to quit R.
> # This file is part of the standard setup for testthat.
> # It is recommended that you do not modify it.
> #
> # Where should you do additional test configuration?
> # Learn more about the roles of various files in:
> # * https://r-pkgs.org/testing-design.html#sec-tests-files-overview
> # * https://testthat.r-lib.org/articles/special-files.html
>
> library(testthat)
> library(spacexr)
>
> test_check("spacexr")
Number of cells in reference: 75
Number of genes in reference: 750
ct1 ct2 ct3
25 25 25
Getting regression differentially expressed genes:
ct1 found DE genes: 41
ct2 found DE genes: 59
ct3 found DE genes: 40
Total DE genes: 140
Getting bulk differentially expressed genes:
ct1 found DE genes: 87
ct2 found DE genes: 74
ct3 found DE genes: 83
Total DE genes: 241
fitBulk: decomposing bulk
chooseSigma: using initial Q_mat with sigma = 1
Likelihood value: 3961.33853547069
Sigma value: 0.84
Likelihood value: 3791.98494190263
Sigma value: 0.69
Likelihood value: 3623.91234201635
Sigma value: 0.61
Likelihood value: 3531.60891769768
Sigma value: 0.53
Likelihood value: 3438.65505895824
Sigma value: 0.45
Likelihood value: 3346.69454643973
Sigma value: 0.37
Likelihood value: 3258.2616761035
Sigma value: 0.29
Likelihood value: 3177.07883682933
Sigma value: 0.21
[ FAIL 0 | WARN 0 | SKIP 1 | PASS 0 ]
══ Skipped tests (1) ═══════════════════════════════════════════════════════════
• On CRAN (1): 'test-rctd-simulation.R:40:5'
[ FAIL 0 | WARN 0 | SKIP 1 | PASS 0 ]
>
> proc.time()
user system elapsed
111.583 4.046 120.017
spacexr.Rcheck/spacexr-Ex.timings
| name | user | system | elapsed | |
| Reference-class | 0.095 | 0.010 | 0.111 | |
| SpatialRNA-class | 0.062 | 0.004 | 0.074 | |
| chooseSigmaC | 91.625 | 3.329 | 97.108 | |
| createRCTD | 73.709 | 1.702 | 76.121 | |
| createRctdConfig | 73.023 | 1.618 | 75.216 | |
| createReference | 0.056 | 0.015 | 0.075 | |
| createSpatialRNA | 0.059 | 0.012 | 0.073 | |
| fitBulk | 74.656 | 1.656 | 78.273 | |
| fitPixels | 74.277 | 1.699 | 77.056 | |
| plotAllWeights | 1.121 | 0.019 | 1.149 | |
| plotCellTypeWeight | 0.921 | 0.048 | 1.072 | |
| rctdSim | 0.552 | 0.032 | 0.593 | |
| runRCTD | 75.086 | 1.677 | 78.438 | |