| Back to Multiple platform build/check report for BioC 3.21: simplified long |
|
This page was generated on 2025-10-16 11:41 -0400 (Thu, 16 Oct 2025).
| Hostname | OS | Arch (*) | R version | Installed pkgs |
|---|---|---|---|---|
| nebbiolo1 | Linux (Ubuntu 24.04.3 LTS) | x86_64 | 4.5.1 (2025-06-13) -- "Great Square Root" | 4833 |
| merida1 | macOS 12.7.6 Monterey | x86_64 | 4.5.1 RC (2025-06-05 r88288) -- "Great Square Root" | 4614 |
| kjohnson1 | macOS 13.7.5 Ventura | arm64 | 4.5.1 Patched (2025-06-14 r88325) -- "Great Square Root" | 4555 |
| kunpeng2 | Linux (openEuler 24.03 LTS) | aarch64 | R Under development (unstable) (2025-02-19 r87757) -- "Unsuffered Consequences" | 4586 |
| Click on any hostname to see more info about the system (e.g. compilers) (*) as reported by 'uname -p', except on Windows and Mac OS X | ||||
| Package 2028/2341 | Hostname | OS / Arch | INSTALL | BUILD | CHECK | BUILD BIN | ||||||||
| smartid 1.4.0 (landing page) Jinjin Chen
| nebbiolo1 | Linux (Ubuntu 24.04.3 LTS) / x86_64 | OK | OK | OK | |||||||||
| merida1 | macOS 12.7.6 Monterey / x86_64 | OK | OK | OK | OK | |||||||||
| kjohnson1 | macOS 13.7.5 Ventura / arm64 | OK | OK | OK | OK | |||||||||
| kunpeng2 | Linux (openEuler 24.03 LTS) / aarch64 | OK | OK | OK | ||||||||||
|
To the developers/maintainers of the smartid package: - Allow up to 24 hours (and sometimes 48 hours) for your latest push to git@git.bioconductor.org:packages/smartid.git to reflect on this report. See Troubleshooting Build Report for more information. - Use the following Renviron settings to reproduce errors and warnings. - If 'R CMD check' started to fail recently on the Linux builder(s) over a missing dependency, add the missing dependency to 'Suggests:' in your DESCRIPTION file. See Renviron.bioc for more information. - See Martin Grigorov's blog post for how to debug Linux ARM64 related issues on a x86_64 host. |
| Package: smartid |
| Version: 1.4.0 |
| Command: /home/biocbuild/R/R/bin/R CMD check --install=check:smartid.install-out.txt --library=/home/biocbuild/R/R/site-library --no-vignettes --timings smartid_1.4.0.tar.gz |
| StartedAt: 2025-10-14 14:26:23 -0000 (Tue, 14 Oct 2025) |
| EndedAt: 2025-10-14 14:31:25 -0000 (Tue, 14 Oct 2025) |
| EllapsedTime: 302.4 seconds |
| RetCode: 0 |
| Status: OK |
| CheckDir: smartid.Rcheck |
| Warnings: 0 |
##############################################################################
##############################################################################
###
### Running command:
###
### /home/biocbuild/R/R/bin/R CMD check --install=check:smartid.install-out.txt --library=/home/biocbuild/R/R/site-library --no-vignettes --timings smartid_1.4.0.tar.gz
###
##############################################################################
##############################################################################
* using log directory ‘/home/biocbuild/bbs-3.21-bioc/meat/smartid.Rcheck’
* using R Under development (unstable) (2025-02-19 r87757)
* using platform: aarch64-unknown-linux-gnu
* R was compiled by
aarch64-unknown-linux-gnu-gcc (GCC) 14.2.0
GNU Fortran (GCC) 14.2.0
* running under: openEuler 24.03 (LTS-SP1)
* using session charset: UTF-8
* using option ‘--no-vignettes’
* checking for file ‘smartid/DESCRIPTION’ ... OK
* this is package ‘smartid’ version ‘1.4.0’
* package encoding: UTF-8
* checking package namespace information ... OK
* checking package dependencies ... OK
* checking if this is a source package ... OK
* checking if there is a namespace ... OK
* checking for hidden files and directories ... OK
* checking for portable file names ... OK
* checking for sufficient/correct file permissions ... OK
* checking whether package ‘smartid’ can be installed ... OK
* checking installed package size ... OK
* checking package directory ... OK
* checking ‘build’ directory ... OK
* checking DESCRIPTION meta-information ... OK
* checking top-level files ... OK
* checking for left-over files ... OK
* checking index information ... OK
* checking package subdirectories ... OK
* checking code files for non-ASCII characters ... OK
* checking R files for syntax errors ... OK
* checking whether the package can be loaded ... OK
* checking whether the package can be loaded with stated dependencies ... OK
* checking whether the package can be unloaded cleanly ... OK
* checking whether the namespace can be loaded with stated dependencies ... OK
* checking whether the namespace can be unloaded cleanly ... OK
* checking loading without being on the library search path ... OK
* checking dependencies in R code ... OK
* checking S3 generic/method consistency ... OK
* checking replacement functions ... OK
* checking foreign function calls ... OK
* checking R code for possible problems ... OK
* checking Rd files ... OK
* checking Rd metadata ... OK
* checking Rd cross-references ... OK
* checking for missing documentation entries ... OK
* checking for code/documentation mismatches ... OK
* checking Rd \usage sections ... OK
* checking Rd contents ... OK
* checking for unstated dependencies in examples ... OK
* checking contents of ‘data’ directory ... OK
* checking data for non-ASCII characters ... OK
* checking data for ASCII and uncompressed saves ... OK
* checking files in ‘vignettes’ ... OK
* checking examples ... OK
* checking for unstated dependencies in ‘tests’ ... OK
* checking tests ...
Running ‘testthat.R’
OK
* checking for unstated dependencies in vignettes ... OK
* checking package vignettes ... OK
* checking running R code from vignettes ... SKIPPED
* checking re-building of vignette outputs ... SKIPPED
* checking PDF version of manual ... OK
* DONE
Status: OK
smartid.Rcheck/00install.out
############################################################################## ############################################################################## ### ### Running command: ### ### /home/biocbuild/R/R/bin/R CMD INSTALL smartid ### ############################################################################## ############################################################################## * installing to library ‘/home/biocbuild/R/R-devel_2025-02-19/site-library’ * installing *source* package ‘smartid’ ... ** this is package ‘smartid’ version ‘1.4.0’ ** using staged installation ** R ** data ** inst ** byte-compile and prepare package for lazy loading ** help *** installing help indices ** building package indices ** installing vignettes ** testing if installed package can be loaded from temporary location ** testing if installed package can be loaded from final location ** testing if installed package keeps a record of temporary installation path * DONE (smartid)
smartid.Rcheck/tests/testthat.Rout
R Under development (unstable) (2025-02-19 r87757) -- "Unsuffered Consequences"
Copyright (C) 2025 The R Foundation for Statistical Computing
Platform: aarch64-unknown-linux-gnu
R is free software and comes with ABSOLUTELY NO WARRANTY.
You are welcome to redistribute it under certain conditions.
Type 'license()' or 'licence()' for distribution details.
R is a collaborative project with many contributors.
Type 'contributors()' for more information and
'citation()' on how to cite R or R packages in publications.
Type 'demo()' for some demos, 'help()' for on-line help, or
'help.start()' for an HTML browser interface to help.
Type 'q()' to quit R.
> # This file is part of the standard setup for testthat.
> # It is recommended that you do not modify it.
> #
> # Where should you do additional test configuration?
> # Learn more about the roles of various files in:
> # * https://r-pkgs.org/testing-design.html#sec-tests-files-overview
> # * https://testthat.r-lib.org/articles/special-files.html
>
> library(testthat)
> library(smartid)
>
> test_check("smartid")
One of the variances is going to zero; trying new starting values.
One of the variances is going to zero; trying new starting values.
One of the variances is going to zero; trying new starting values.
One of the variances is going to zero; trying new starting values.
One of the variances is going to zero; trying new starting values.
One of the variances is going to zero; trying new starting values.
One of the variances is going to zero; trying new starting values.
One of the variances is going to zero; trying new starting values.
One of the variances is going to zero; trying new starting values.
One of the variances is going to zero; trying new starting values.
number of iterations= 15
number of iterations= 69
One of the variances is going to zero; trying new starting values.
One of the variances is going to zero; trying new starting values.
One of the variances is going to zero; trying new starting values.
number of iterations= 39
number of iterations= 20751
number of iterations= 38
number of iterations= 84
number of iterations= 575
number of iterations= 212
number of iterations= 245
[ FAIL 0 | WARN 7 | SKIP 0 | PASS 44 ]
[ FAIL 0 | WARN 7 | SKIP 0 | PASS 44 ]
>
> proc.time()
user system elapsed
37.254 0.531 41.009
smartid.Rcheck/smartid-Ex.timings
| name | user | system | elapsed | |
| cal_score | 0.220 | 0.020 | 0.261 | |
| cal_score_init | 0.003 | 0.000 | 0.003 | |
| gs_score | 0.002 | 0.000 | 0.001 | |
| gs_score_init | 0.001 | 0.000 | 0.000 | |
| iae | 0.001 | 0.000 | 0.000 | |
| iae_hdb | 0.016 | 0.004 | 0.019 | |
| iae_igm | 0.001 | 0.000 | 0.001 | |
| iae_m | 0.002 | 0.000 | 0.001 | |
| iae_prob | 0.001 | 0.000 | 0.001 | |
| iae_rf | 0.001 | 0.000 | 0.001 | |
| iae_sd | 0.002 | 0.000 | 0.002 | |
| idf | 0.000 | 0.000 | 0.001 | |
| idf_hdb | 0.030 | 0.000 | 0.031 | |
| idf_iae_methods | 0.001 | 0.000 | 0.000 | |
| idf_igm | 0.001 | 0.000 | 0.001 | |
| idf_m | 0.000 | 0.000 | 0.001 | |
| idf_prob | 0.001 | 0.000 | 0.001 | |
| idf_rf | 0.001 | 0.000 | 0.001 | |
| idf_sd | 0.000 | 0.000 | 0.001 | |
| markers_hdbscan | 0.134 | 0.004 | 0.139 | |
| markers_mclust | 0.089 | 0.012 | 0.101 | |
| markers_mixmdl | 0.873 | 0.040 | 0.955 | |
| ova_score_boxplot | 1.051 | 0.040 | 1.477 | |
| scale_mgm | 0.001 | 0.000 | 0.000 | |
| score_barplot | 1.807 | 0.064 | 2.040 | |
| sin_score_boxplot | 1.126 | 0.076 | 1.268 | |
| tf | 0.000 | 0.000 | 0.001 | |
| top_markers | 0.076 | 0.012 | 0.088 | |
| top_markers_abs | 0.053 | 0.008 | 0.061 | |
| top_markers_glm | 0.088 | 0.000 | 0.089 | |
| top_markers_init | 0.060 | 0.000 | 0.059 | |