Back to Multiple platform build/check report for BioC 3.20: simplified long |
|
This page was generated on 2024-11-20 12:08 -0500 (Wed, 20 Nov 2024).
Hostname | OS | Arch (*) | R version | Installed pkgs |
---|---|---|---|---|
teran2 | Linux (Ubuntu 24.04.1 LTS) | x86_64 | 4.4.2 (2024-10-31) -- "Pile of Leaves" | 4481 |
nebbiolo2 | Linux (Ubuntu 24.04.1 LTS) | x86_64 | 4.4.2 (2024-10-31) -- "Pile of Leaves" | 4479 |
palomino8 | Windows Server 2022 Datacenter | x64 | 4.4.2 (2024-10-31 ucrt) -- "Pile of Leaves" | 4359 |
lconway | macOS 12.7.1 Monterey | x86_64 | 4.4.1 (2024-06-14) -- "Race for Your Life" | 4539 |
kunpeng2 | Linux (openEuler 22.03 LTS-SP1) | aarch64 | 4.4.1 (2024-06-14) -- "Race for Your Life" | 4493 |
Click on any hostname to see more info about the system (e.g. compilers) (*) as reported by 'uname -p', except on Windows and Mac OS X |
Package 1983/2289 | Hostname | OS / Arch | INSTALL | BUILD | CHECK | BUILD BIN | ||||||||
sitePath 1.22.0 (landing page) Chengyang Ji
| teran2 | Linux (Ubuntu 24.04.1 LTS) / x86_64 | OK | OK | OK | |||||||||
nebbiolo2 | Linux (Ubuntu 24.04.1 LTS) / x86_64 | OK | OK | OK | ||||||||||
palomino8 | Windows Server 2022 Datacenter / x64 | OK | OK | OK | OK | |||||||||
lconway | macOS 12.7.1 Monterey / x86_64 | OK | OK | OK | OK | |||||||||
kunpeng2 | Linux (openEuler 22.03 LTS-SP1) / aarch64 | OK | OK | OK | ||||||||||
To the developers/maintainers of the sitePath package: - Allow up to 24 hours (and sometimes 48 hours) for your latest push to git@git.bioconductor.org:packages/sitePath.git to reflect on this report. See Troubleshooting Build Report for more information. - Use the following Renviron settings to reproduce errors and warnings. - If 'R CMD check' started to fail recently on the Linux builder(s) over a missing dependency, add the missing dependency to 'Suggests:' in your DESCRIPTION file. See Renviron.bioc for more information. - See Martin Grigorov's blog post for how to debug Linux ARM64 related issues on a x86_64 host. |
Package: sitePath |
Version: 1.22.0 |
Command: /home/biocbuild/R/R/bin/R CMD check --install=check:sitePath.install-out.txt --library=/home/biocbuild/R/R/site-library --no-vignettes --timings sitePath_1.22.0.tar.gz |
StartedAt: 2024-11-20 12:35:34 -0000 (Wed, 20 Nov 2024) |
EndedAt: 2024-11-20 12:46:00 -0000 (Wed, 20 Nov 2024) |
EllapsedTime: 626.1 seconds |
RetCode: 0 |
Status: OK |
CheckDir: sitePath.Rcheck |
Warnings: 0 |
############################################################################## ############################################################################## ### ### Running command: ### ### /home/biocbuild/R/R/bin/R CMD check --install=check:sitePath.install-out.txt --library=/home/biocbuild/R/R/site-library --no-vignettes --timings sitePath_1.22.0.tar.gz ### ############################################################################## ############################################################################## * using log directory ‘/home/biocbuild/bbs-3.20-bioc/meat/sitePath.Rcheck’ * using R version 4.4.1 (2024-06-14) * using platform: aarch64-unknown-linux-gnu * R was compiled by gcc (GCC) 12.2.1 20220819 (openEuler 12.2.1-14) GNU Fortran (GCC) 10.3.1 * running under: openEuler 22.03 (LTS-SP1) * using session charset: UTF-8 * using option ‘--no-vignettes’ * checking for file ‘sitePath/DESCRIPTION’ ... OK * checking extension type ... Package * this is package ‘sitePath’ version ‘1.22.0’ * package encoding: UTF-8 * checking package namespace information ... OK * checking package dependencies ... OK * checking if this is a source package ... OK * checking if there is a namespace ... OK * checking for hidden files and directories ... OK * checking for portable file names ... OK * checking for sufficient/correct file permissions ... OK * checking whether package ‘sitePath’ can be installed ... OK * used C++ compiler: ‘g++ (conda-forge gcc 14.2.0-1) 14.2.0’ * checking installed package size ... NOTE installed size is 7.4Mb sub-directories of 1Mb or more: extdata 1.3Mb libs 5.4Mb * checking package directory ... OK * checking ‘build’ directory ... OK * checking DESCRIPTION meta-information ... NOTE License stub is invalid DCF. * checking top-level files ... OK * checking for left-over files ... OK * checking index information ... OK * checking package subdirectories ... OK * checking code files for non-ASCII characters ... OK * checking R files for syntax errors ... OK * checking whether the package can be loaded ... OK * checking whether the package can be loaded with stated dependencies ... OK * checking whether the package can be unloaded cleanly ... OK * checking whether the namespace can be loaded with stated dependencies ... OK * checking whether the namespace can be unloaded cleanly ... OK * checking loading without being on the library search path ... OK * checking dependencies in R code ... OK * checking S3 generic/method consistency ... OK * checking replacement functions ... OK * checking foreign function calls ... OK * checking R code for possible problems ... NOTE .createSNPplot: no visible binding for global variable ‘Pos’ .createSNPplot: no visible binding for global variable ‘Accession’ .createSNPplot: no visible binding for global variable ‘SNP’ plot.fixationPath: no visible binding for global variable ‘branch’ plot.fixationPath: no visible binding for global variable ‘SNPs’ plot.fixationSites: no visible binding for global variable ‘group’ plot.fixationSites: no visible binding for global variable ‘branch’ plot.fixationSites: no visible binding for global variable ‘SNPs’ plot.parallelSites: no visible binding for global variable ‘branch’ plot.parallelSites: no visible binding for global variable ‘SNPs’ plot.sitePath: no visible binding for global variable ‘branch’ plot.sitePath: no visible binding for global variable ‘SNPs’ plotMutSites.lineagePath: no visible binding for global variable ‘node’ plotMutSites.paraFixSites: no visible binding for global variable ‘group’ plotMutSites.paraFixSites: no visible binding for global variable ‘branch’ plotMutSites.paraFixSites: no visible binding for global variable ‘SNPs’ plotSingleSite.parallelSites: no visible binding for global variable ‘branch’ plotSingleSite.parallelSites: no visible binding for global variable ‘SNPs’ Undefined global functions or variables: Accession Pos SNP SNPs branch group node * checking Rd files ... OK * checking Rd metadata ... OK * checking Rd cross-references ... OK * checking for missing documentation entries ... OK * checking for code/documentation mismatches ... OK * checking Rd \usage sections ... OK * checking Rd contents ... OK * checking for unstated dependencies in examples ... OK * checking contents of ‘data’ directory ... OK * checking data for non-ASCII characters ... OK * checking data for ASCII and uncompressed saves ... OK * checking line endings in C/C++/Fortran sources/headers ... OK * checking compiled code ... NOTE Note: information on .o files is not available * checking files in ‘vignettes’ ... OK * checking examples ... OK Examples with CPU (user + system) or elapsed time > 5s user system elapsed plotFunctions 19.277 0.107 19.420 plotSingleSite 11.175 0.008 11.205 plotParallelSites 10.840 0.039 10.900 * checking for unstated dependencies in ‘tests’ ... OK * checking tests ... Running ‘testthat.R’ OK * checking for unstated dependencies in vignettes ... OK * checking package vignettes ... OK * checking running R code from vignettes ... SKIPPED * checking re-building of vignette outputs ... SKIPPED * checking PDF version of manual ... OK * DONE Status: 4 NOTEs See ‘/home/biocbuild/bbs-3.20-bioc/meat/sitePath.Rcheck/00check.log’ for details.
sitePath.Rcheck/00install.out
############################################################################## ############################################################################## ### ### Running command: ### ### /home/biocbuild/R/R/bin/R CMD INSTALL sitePath ### ############################################################################## ############################################################################## * installing to library ‘/home/biocbuild/R/R-4.4.1/site-library’ * installing *source* package ‘sitePath’ ... ** using staged installation ** libs using C++ compiler: ‘g++ (conda-forge gcc 14.2.0-1) 14.2.0’ g++ -std=gnu++17 -I"/home/biocbuild/R/R-4.4.1/include" -DNDEBUG -I'/home/biocbuild/R/R-4.4.1/site-library/Rcpp/include' -I/usr/local/include -fPIC -g -O2 -Wall -c RcppExports.cpp -o RcppExports.o g++ -std=gnu++17 -I"/home/biocbuild/R/R-4.4.1/include" -DNDEBUG -I'/home/biocbuild/R/R-4.4.1/site-library/Rcpp/include' -I/usr/local/include -fPIC -g -O2 -Wall -c lumpyCluster.cpp -o lumpyCluster.o lumpyCluster.cpp: In member function 'void LumpyCluster::Base::mergeClusters(const Treemer::clusters&, int)': lumpyCluster.cpp:96:24: warning: comparison of integer expressions of different signedness: 'std::vector<Treemer::TipSeqLinker*>::size_type' {aka 'long unsigned int'} and 'const int' [-Wsign-compare] 96 | if (allTips.size() >= m_maxSNPnum) { | ~~~~~~~~~~~~~~~^~~~~~~~~~~~~~ g++ -std=gnu++17 -I"/home/biocbuild/R/R-4.4.1/include" -DNDEBUG -I'/home/biocbuild/R/R-4.4.1/site-library/Rcpp/include' -I/usr/local/include -fPIC -g -O2 -Wall -c minEntropy.cpp -o minEntropy.o g++ -std=gnu++17 -I"/home/biocbuild/R/R-4.4.1/include" -DNDEBUG -I'/home/biocbuild/R/R-4.4.1/site-library/Rcpp/include' -I/usr/local/include -fPIC -g -O2 -Wall -c searchNode.cpp -o searchNode.o g++ -std=gnu++17 -I"/home/biocbuild/R/R-4.4.1/include" -DNDEBUG -I'/home/biocbuild/R/R-4.4.1/site-library/Rcpp/include' -I/usr/local/include -fPIC -g -O2 -Wall -c searchTree.cpp -o searchTree.o g++ -std=gnu++17 -I"/home/biocbuild/R/R-4.4.1/include" -DNDEBUG -I'/home/biocbuild/R/R-4.4.1/site-library/Rcpp/include' -I/usr/local/include -fPIC -g -O2 -Wall -c treemer.cpp -o treemer.o g++ -std=gnu++17 -I"/home/biocbuild/R/R-4.4.1/include" -DNDEBUG -I'/home/biocbuild/R/R-4.4.1/site-library/Rcpp/include' -I/usr/local/include -fPIC -g -O2 -Wall -c util.cpp -o util.o g++ -std=gnu++17 -shared -L/home/biocbuild/R/R-4.4.1/lib -L/usr/local/lib -o sitePath.so RcppExports.o lumpyCluster.o minEntropy.o searchNode.o searchTree.o treemer.o util.o -L/home/biocbuild/R/R-4.4.1/lib -lR installing to /home/biocbuild/R/R-4.4.1/site-library/00LOCK-sitePath/00new/sitePath/libs ** R ** data ** inst ** byte-compile and prepare package for lazy loading ** help *** installing help indices ** building package indices ** installing vignettes ** testing if installed package can be loaded from temporary location ** checking absolute paths in shared objects and dynamic libraries ** testing if installed package can be loaded from final location ** testing if installed package keeps a record of temporary installation path * DONE (sitePath)
sitePath.Rcheck/tests/testthat.Rout
R version 4.4.1 (2024-06-14) -- "Race for Your Life" Copyright (C) 2024 The R Foundation for Statistical Computing Platform: aarch64-unknown-linux-gnu R is free software and comes with ABSOLUTELY NO WARRANTY. You are welcome to redistribute it under certain conditions. Type 'license()' or 'licence()' for distribution details. R is a collaborative project with many contributors. Type 'contributors()' for more information and 'citation()' on how to cite R or R packages in publications. Type 'demo()' for some demos, 'help()' for on-line help, or 'help.start()' for an HTML browser interface to help. Type 'q()' to quit R. > library(testthat) > library(sitePath) > > test_check("sitePath") Using 2 cores.. Multiprocessing ended. Using 2 cores.. Multiprocessing ended. [ FAIL 0 | WARN 1 | SKIP 0 | PASS 2312 ] [ FAIL 0 | WARN 1 | SKIP 0 | PASS 2312 ] > > proc.time() user system elapsed 370.314 2.115 483.213
sitePath.Rcheck/sitePath-Ex.timings
name | user | system | elapsed | |
SNPsites | 0.797 | 0.040 | 0.838 | |
addMSA | 2.329 | 0.016 | 2.350 | |
allSitesName | 2.835 | 0.024 | 2.864 | |
as.data.frame | 1.796 | 0.024 | 1.824 | |
extractSite | 1.824 | 0.020 | 1.848 | |
extractTips | 1.900 | 0.004 | 1.908 | |
fixationIndels | 1.936 | 0.052 | 1.992 | |
fixationPath | 1.771 | 0.000 | 1.774 | |
fixationSites | 1.843 | 0.020 | 1.867 | |
groupTips | 2.401 | 0.004 | 2.409 | |
lineagePath | 4.466 | 0.036 | 4.511 | |
paraFixSites | 1.844 | 0.004 | 1.851 | |
parallelSites | 1.829 | 0.044 | 1.876 | |
plotFixationSites | 2.435 | 0.008 | 2.447 | |
plotFunctions | 19.277 | 0.107 | 19.420 | |
plotMutSites | 1.504 | 0.008 | 1.515 | |
plotParallelSites | 10.840 | 0.039 | 10.900 | |
plotSingleSite | 11.175 | 0.008 | 11.205 | |
setSiteNumbering | 2.899 | 0.004 | 2.909 | |
similarityMatrix | 2.907 | 0.052 | 2.964 | |
sitesMinEntropy | 1.711 | 0.003 | 1.717 | |