| Back to Multiple platform build/check report for BioC 3.22: simplified long |
|
This page was generated on 2025-11-01 12:05 -0400 (Sat, 01 Nov 2025).
| Hostname | OS | Arch (*) | R version | Installed pkgs |
|---|---|---|---|---|
| nebbiolo2 | Linux (Ubuntu 24.04.3 LTS) | x86_64 | 4.5.1 Patched (2025-08-23 r88802) -- "Great Square Root" | 4901 |
| lconway | macOS 12.7.6 Monterey | x86_64 | 4.5.1 Patched (2025-09-10 r88807) -- "Great Square Root" | 4691 |
| kjohnson3 | macOS 13.7.7 Ventura | arm64 | 4.5.1 Patched (2025-09-10 r88807) -- "Great Square Root" | 4637 |
| Click on any hostname to see more info about the system (e.g. compilers) (*) as reported by 'uname -p', except on Windows and Mac OS X | ||||
| Package 1987/2361 | Hostname | OS / Arch | INSTALL | BUILD | CHECK | BUILD BIN | ||||||||
| seqsetvis 1.30.0 (landing page) Joseph R Boyd
| nebbiolo2 | Linux (Ubuntu 24.04.3 LTS) / x86_64 | OK | OK | OK | |||||||||
| lconway | macOS 12.7.6 Monterey / x86_64 | OK | OK | OK | OK | |||||||||
| kjohnson3 | macOS 13.7.7 Ventura / arm64 | OK | OK | OK | OK | |||||||||
|
To the developers/maintainers of the seqsetvis package: - Allow up to 24 hours (and sometimes 48 hours) for your latest push to git@git.bioconductor.org:packages/seqsetvis.git to reflect on this report. See Troubleshooting Build Report for more information. - Use the following Renviron settings to reproduce errors and warnings. - If 'R CMD check' started to fail recently on the Linux builder(s) over a missing dependency, add the missing dependency to 'Suggests:' in your DESCRIPTION file. See Renviron.bioc for more information. |
| Package: seqsetvis |
| Version: 1.30.0 |
| Command: /Library/Frameworks/R.framework/Resources/bin/R CMD check --install=check:seqsetvis.install-out.txt --library=/Library/Frameworks/R.framework/Resources/library --no-vignettes --timings seqsetvis_1.30.0.tar.gz |
| StartedAt: 2025-10-31 22:06:21 -0400 (Fri, 31 Oct 2025) |
| EndedAt: 2025-10-31 22:09:49 -0400 (Fri, 31 Oct 2025) |
| EllapsedTime: 207.6 seconds |
| RetCode: 0 |
| Status: OK |
| CheckDir: seqsetvis.Rcheck |
| Warnings: 0 |
##############################################################################
##############################################################################
###
### Running command:
###
### /Library/Frameworks/R.framework/Resources/bin/R CMD check --install=check:seqsetvis.install-out.txt --library=/Library/Frameworks/R.framework/Resources/library --no-vignettes --timings seqsetvis_1.30.0.tar.gz
###
##############################################################################
##############################################################################
* using log directory ‘/Users/biocbuild/bbs-3.22-bioc/meat/seqsetvis.Rcheck’
* using R version 4.5.1 Patched (2025-09-10 r88807)
* using platform: aarch64-apple-darwin20
* R was compiled by
Apple clang version 16.0.0 (clang-1600.0.26.6)
GNU Fortran (GCC) 14.2.0
* running under: macOS Ventura 13.7.7
* using session charset: UTF-8
* using option ‘--no-vignettes’
* checking for file ‘seqsetvis/DESCRIPTION’ ... OK
* checking extension type ... Package
* this is package ‘seqsetvis’ version ‘1.30.0’
* package encoding: UTF-8
* checking package namespace information ... OK
* checking package dependencies ... OK
* checking if this is a source package ... OK
* checking if there is a namespace ... OK
* checking for hidden files and directories ... OK
* checking for portable file names ... OK
* checking for sufficient/correct file permissions ... OK
* checking whether package ‘seqsetvis’ can be installed ... OK
* checking installed package size ... OK
* checking package directory ... OK
* checking ‘build’ directory ... OK
* checking DESCRIPTION meta-information ... OK
* checking top-level files ... OK
* checking for left-over files ... OK
* checking index information ... OK
* checking package subdirectories ... OK
* checking code files for non-ASCII characters ... OK
* checking R files for syntax errors ... OK
* checking whether the package can be loaded ... OK
* checking whether the package can be loaded with stated dependencies ... OK
* checking whether the package can be unloaded cleanly ... OK
* checking whether the namespace can be loaded with stated dependencies ... OK
* checking whether the namespace can be unloaded cleanly ... OK
* checking dependencies in R code ... OK
* checking S3 generic/method consistency ... OK
* checking replacement functions ... OK
* checking foreign function calls ... OK
* checking R code for possible problems ... OK
* checking Rd files ... OK
* checking Rd metadata ... OK
* checking Rd cross-references ... OK
* checking for missing documentation entries ... OK
* checking for code/documentation mismatches ... OK
* checking Rd \usage sections ... OK
* checking Rd contents ... OK
* checking for unstated dependencies in examples ... OK
* checking contents of ‘data’ directory ... OK
* checking data for non-ASCII characters ... OK
* checking data for ASCII and uncompressed saves ... OK
* checking files in ‘vignettes’ ... OK
* checking examples ... OK
* checking for unstated dependencies in ‘tests’ ... OK
* checking tests ...
Running ‘testthat.R’
OK
* checking for unstated dependencies in vignettes ... OK
* checking package vignettes ... OK
* checking running R code from vignettes ... SKIPPED
* checking re-building of vignette outputs ... SKIPPED
* checking PDF version of manual ... OK
* DONE
Status: OK
seqsetvis.Rcheck/00install.out
############################################################################## ############################################################################## ### ### Running command: ### ### /Library/Frameworks/R.framework/Resources/bin/R CMD INSTALL seqsetvis ### ############################################################################## ############################################################################## * installing to library ‘/Library/Frameworks/R.framework/Versions/4.5-arm64/Resources/library’ * installing *source* package ‘seqsetvis’ ... ** this is package ‘seqsetvis’ version ‘1.30.0’ ** using staged installation ** R ** data ** inst ** byte-compile and prepare package for lazy loading ** help *** installing help indices ** building package indices ** installing vignettes ** testing if installed package can be loaded from temporary location ** testing if installed package can be loaded from final location ** testing if installed package keeps a record of temporary installation path * DONE (seqsetvis)
seqsetvis.Rcheck/tests/testthat.Rout
R version 4.5.1 Patched (2025-09-10 r88807) -- "Great Square Root" Copyright (C) 2025 The R Foundation for Statistical Computing Platform: aarch64-apple-darwin20 R is free software and comes with ABSOLUTELY NO WARRANTY. You are welcome to redistribute it under certain conditions. Type 'license()' or 'licence()' for distribution details. R is a collaborative project with many contributors. Type 'contributors()' for more information and 'citation()' on how to cite R or R packages in publications. Type 'demo()' for some demos, 'help()' for on-line help, or 'help.start()' for an HTML browser interface to help. Type 'q()' to quit R. > > ## load dependencies > library(testthat) > library(seqsetvis) Loading required package: ggplot2 > library(data.table) > > ## test package > test_check(package = "seqsetvis") [ FAIL 0 | WARN 3 | SKIP 0 | PASS 1291 ] [ FAIL 0 | WARN 3 | SKIP 0 | PASS 1291 ] > > proc.time() user system elapsed 80.372 1.710 82.541
seqsetvis.Rcheck/seqsetvis-Ex.timings
| name | user | system | elapsed | |
| add_cluster_annotation | 1.208 | 0.025 | 1.261 | |
| append_ynorm | 0.019 | 0.004 | 0.028 | |
| applyMovingAverage | 0.295 | 0.004 | 0.315 | |
| applySpline | 0.147 | 0.006 | 0.210 | |
| assemble_heatmap_cluster_bars | 0.290 | 0.007 | 0.330 | |
| calc_norm_factors | 0.011 | 0.002 | 0.017 | |
| centerAtMax | 0.081 | 0.005 | 0.125 | |
| centerFixedSizeGRanges | 0.048 | 0.003 | 0.056 | |
| centerGRangesAtMax | 0.171 | 0.007 | 0.196 | |
| clusteringKmeans | 0.012 | 0.004 | 0.017 | |
| clusteringKmeansNestedHclust | 0.013 | 0.002 | 0.034 | |
| col2hex | 0.000 | 0.000 | 0.001 | |
| collapse_gr | 0.210 | 0.004 | 0.223 | |
| convert_collapsed_coord | 0.058 | 0.005 | 0.062 | |
| copy_clust_info | 0.531 | 0.013 | 0.592 | |
| crossCorrByRle | 0.140 | 0.004 | 0.149 | |
| easyLoad_FUN | 0.015 | 0.000 | 0.016 | |
| easyLoad_IDRmerged | 0.013 | 0.001 | 0.020 | |
| easyLoad_bed | 0.038 | 0.001 | 0.041 | |
| easyLoad_broadPeak | 0.011 | 0.000 | 0.011 | |
| easyLoad_narrowPeak | 0.010 | 0.001 | 0.011 | |
| easyLoad_seacr | 0.013 | 0.001 | 0.015 | |
| expandCigar | 0.047 | 0.004 | 0.061 | |
| findMaxPos | 0.013 | 0.004 | 0.016 | |
| fragLen_calcStranded | 0.478 | 0.011 | 0.502 | |
| fragLen_fromMacs2Xls | 0.001 | 0.000 | 0.002 | |
| getReadLength | 0.017 | 0.002 | 0.018 | |
| get_mapped_reads | 0.003 | 0.000 | 0.003 | |
| ggellipse | 0.258 | 0.003 | 0.260 | |
| harmonize_seqlengths | 0.035 | 0.004 | 0.039 | |
| make_clustering_matrix | 0.027 | 0.002 | 0.029 | |
| merge_clusters | 1.243 | 0.024 | 1.283 | |
| prepare_fetch_GRanges | 0.008 | 0.001 | 0.010 | |
| prepare_fetch_GRanges_names | 0.022 | 0.001 | 0.023 | |
| prepare_fetch_GRanges_width | 0.008 | 0.001 | 0.009 | |
| quantileGRangesWidth | 0.001 | 0.001 | 0.001 | |
| reorder_clusters_hclust | 0.714 | 0.005 | 0.765 | |
| reorder_clusters_manual | 0.392 | 0.006 | 0.400 | |
| reorder_clusters_stepdown | 1.104 | 0.014 | 1.120 | |
| reverse_clusters | 0.754 | 0.013 | 0.770 | |
| safeBrew | 0.008 | 0.001 | 0.010 | |
| split_cluster | 0.666 | 0.009 | 0.678 | |
| ssvAnnotateSubjectGRanges | 0.270 | 0.006 | 0.277 | |
| ssvConsensusIntervalSets | 0.098 | 0.002 | 0.100 | |
| ssvFactorizeMembTable | 0.004 | 0.001 | 0.005 | |
| ssvFeatureBars | 0.268 | 0.002 | 0.269 | |
| ssvFeatureBinaryHeatmap | 3.129 | 0.214 | 3.347 | |
| ssvFeatureEuler | 0.266 | 0.013 | 0.280 | |
| ssvFeaturePie | 0.197 | 0.002 | 0.199 | |
| ssvFeatureUpset | 1.010 | 0.010 | 1.028 | |
| ssvFeatureVenn | 0.460 | 0.004 | 0.471 | |
| ssvFetchBam | 1.712 | 0.047 | 1.774 | |
| ssvFetchBamPE | 0.559 | 0.038 | 0.597 | |
| ssvFetchBamPE.RNA | 0.465 | 0.022 | 0.493 | |
| ssvFetchBigwig | 0.410 | 0.006 | 0.418 | |
| ssvFetchGRanges | 0.219 | 0.002 | 0.221 | |
| ssvFetchSignal | 0.433 | 0.017 | 0.459 | |
| ssvMakeMembTable-methods | 0.160 | 0.003 | 0.163 | |
| ssvOverlapIntervalSets | 0.079 | 0.003 | 0.081 | |
| ssvSignalBandedQuantiles | 1.611 | 0.039 | 1.678 | |
| ssvSignalClustering | 0.948 | 0.018 | 0.974 | |
| ssvSignalHeatmap.ClusterBars | 1.275 | 0.016 | 1.302 | |
| ssvSignalHeatmap | 1.375 | 0.028 | 1.418 | |
| ssvSignalLineplot | 0.865 | 0.007 | 0.885 | |
| ssvSignalLineplotAgg | 0.355 | 0.010 | 0.371 | |
| ssvSignalScatterplot | 0.376 | 0.010 | 0.395 | |
| viewGRangesWinSample_dt | 0.350 | 0.016 | 0.369 | |
| viewGRangesWinSummary_dt | 0.351 | 0.013 | 0.367 | |
| within_clust_sort | 0.574 | 0.012 | 0.602 | |