Back to Multiple platform build/check report for BioC 3.22:   simplified   long
ABCDEFGHIJKLMNOPQR[S]TUVWXYZ

This page was generated on 2025-11-20 12:04 -0500 (Thu, 20 Nov 2025).

HostnameOSArch (*)R versionInstalled pkgs
nebbiolo2Linux (Ubuntu 24.04.3 LTS)x86_644.5.2 (2025-10-31) -- "[Not] Part in a Rumble" 4615
merida1macOS 12.7.6 Montereyx86_644.5.2 Patched (2025-11-05 r88990) -- "[Not] Part in a Rumble" 4610
kjohnson1macOS 13.7.5 Venturaarm644.5.2 Patched (2025-11-04 r88984) -- "[Not] Part in a Rumble" 4598
taishanLinux (openEuler 24.03 LTS)aarch644.5.0 (2025-04-11) -- "How About a Twenty-Six" 4668
Click on any hostname to see more info about the system (e.g. compilers)      (*) as reported by 'uname -p', except on Windows and Mac OS X

Package 1970/2361HostnameOS / ArchINSTALLBUILDCHECKBUILD BIN
segmentSeq 2.44.0  (landing page)
Samuel Granjeaud
Snapshot Date: 2025-11-17 13:45 -0500 (Mon, 17 Nov 2025)
git_url: https://git.bioconductor.org/packages/segmentSeq
git_branch: RELEASE_3_22
git_last_commit: cab2d96
git_last_commit_date: 2025-10-29 10:04:32 -0500 (Wed, 29 Oct 2025)
nebbiolo2Linux (Ubuntu 24.04.3 LTS) / x86_64  OK    OK    OK  UNNEEDED, same version is already published
merida1macOS 12.7.6 Monterey / x86_64  OK    OK    OK    OK  UNNEEDED, same version is already published
kjohnson1macOS 13.7.5 Ventura / arm64  OK    OK    OK    OK  UNNEEDED, same version is already published
taishanLinux (openEuler 24.03 LTS) / aarch64  OK    OK    OK  


CHECK results for segmentSeq on nebbiolo2

To the developers/maintainers of the segmentSeq package:
- Allow up to 24 hours (and sometimes 48 hours) for your latest push to git@git.bioconductor.org:packages/segmentSeq.git to reflect on this report. See Troubleshooting Build Report for more information.
- Use the following Renviron settings to reproduce errors and warnings.
- If 'R CMD check' started to fail recently on the Linux builder(s) over a missing dependency, add the missing dependency to 'Suggests:' in your DESCRIPTION file. See Renviron.bioc for more information.

raw results


Summary

Package: segmentSeq
Version: 2.44.0
Command: /home/biocbuild/bbs-3.22-bioc/R/bin/R CMD check --install=check:segmentSeq.install-out.txt --library=/home/biocbuild/bbs-3.22-bioc/R/site-library --timings segmentSeq_2.44.0.tar.gz
StartedAt: 2025-11-18 08:27:18 -0500 (Tue, 18 Nov 2025)
EndedAt: 2025-11-18 08:35:27 -0500 (Tue, 18 Nov 2025)
EllapsedTime: 488.5 seconds
RetCode: 0
Status:   OK  
CheckDir: segmentSeq.Rcheck
Warnings: 0

Command output

##############################################################################
##############################################################################
###
### Running command:
###
###   /home/biocbuild/bbs-3.22-bioc/R/bin/R CMD check --install=check:segmentSeq.install-out.txt --library=/home/biocbuild/bbs-3.22-bioc/R/site-library --timings segmentSeq_2.44.0.tar.gz
###
##############################################################################
##############################################################################


* using log directory ‘/home/biocbuild/bbs-3.22-bioc/meat/segmentSeq.Rcheck’
* using R version 4.5.2 (2025-10-31)
* using platform: x86_64-pc-linux-gnu
* R was compiled by
    gcc (Ubuntu 13.3.0-6ubuntu2~24.04) 13.3.0
    GNU Fortran (Ubuntu 13.3.0-6ubuntu2~24.04) 13.3.0
* running under: Ubuntu 24.04.3 LTS
* using session charset: UTF-8
* checking for file ‘segmentSeq/DESCRIPTION’ ... OK
* checking extension type ... Package
* this is package ‘segmentSeq’ version ‘2.44.0’
* checking package namespace information ... OK
* checking package dependencies ... OK
* checking if this is a source package ... OK
* checking if there is a namespace ... OK
* checking for hidden files and directories ... OK
* checking for portable file names ... OK
* checking for sufficient/correct file permissions ... OK
* checking whether package ‘segmentSeq’ can be installed ... OK
* checking installed package size ... OK
* checking package directory ... OK
* checking ‘build’ directory ... OK
* checking DESCRIPTION meta-information ... OK
* checking top-level files ... OK
* checking for left-over files ... OK
* checking index information ... OK
* checking package subdirectories ... OK
* checking code files for non-ASCII characters ... OK
* checking R files for syntax errors ... OK
* checking whether the package can be loaded ... OK
* checking whether the package can be loaded with stated dependencies ... OK
* checking whether the package can be unloaded cleanly ... OK
* checking whether the namespace can be loaded with stated dependencies ... OK
* checking whether the namespace can be unloaded cleanly ... OK
* checking loading without being on the library search path ... OK
* checking dependencies in R code ... OK
* checking S3 generic/method consistency ... OK
* checking replacement functions ... OK
* checking foreign function calls ... OK
* checking R code for possible problems ... OK
* checking Rd files ... OK
* checking Rd metadata ... OK
* checking Rd cross-references ... NOTE
Found the following Rd file(s) with Rd \link{} targets missing package
anchors:
  averageMethylationRegions.Rd: GRanges-class
  findChunks.Rd: GRanges-class, GRanges
  lociData-class.Rd: countData, countData-class
  methData-class.Rd: countData, countData-class
Please provide package anchors for all Rd \link{} targets not in the
package itself and the base packages.
* checking for missing documentation entries ... OK
* checking for code/documentation mismatches ... OK
* checking Rd \usage sections ... OK
* checking Rd contents ... OK
* checking for unstated dependencies in examples ... OK
* checking contents of ‘data’ directory ... OK
* checking data for non-ASCII characters ... OK
* checking data for ASCII and uncompressed saves ... OK
* checking files in ‘vignettes’ ... OK
* checking examples ... OK
Examples with CPU (user + system) or elapsed time > 5s
                  user system elapsed
classifySeg     40.773  0.128  40.909
lociLikelihoods 17.153  0.009  17.164
heuristicSeg    15.027  0.093  15.121
plotGenome       9.190  0.013   9.204
getCounts        8.072  0.601   8.673
findChunks       5.649  0.002   5.651
normaliseNC      5.269  0.070   5.343
processAD        5.007  0.000   5.009
* checking for unstated dependencies in vignettes ... OK
* checking package vignettes ... OK
* checking re-building of vignette outputs ... OK
* checking PDF version of manual ... OK
* DONE

Status: 1 NOTE
See
  ‘/home/biocbuild/bbs-3.22-bioc/meat/segmentSeq.Rcheck/00check.log’
for details.


Installation output

segmentSeq.Rcheck/00install.out

##############################################################################
##############################################################################
###
### Running command:
###
###   /home/biocbuild/bbs-3.22-bioc/R/bin/R CMD INSTALL segmentSeq
###
##############################################################################
##############################################################################


* installing to library ‘/home/biocbuild/bbs-3.22-bioc/R/site-library’
* installing *source* package ‘segmentSeq’ ...
** this is package ‘segmentSeq’ version ‘2.44.0’
** using staged installation
** R
** data
** inst
** byte-compile and prepare package for lazy loading
** help
*** installing help indices
** building package indices
** installing vignettes
** testing if installed package can be loaded from temporary location
** testing if installed package can be loaded from final location
** testing if installed package keeps a record of temporary installation path
* DONE (segmentSeq)

Tests output


Example timings

segmentSeq.Rcheck/segmentSeq-Ex.timings

nameusersystemelapsed
alignmentData-class4.2530.0014.255
classifySeg40.773 0.12840.909
findChunks5.6490.0025.651
getCounts8.0720.6018.673
getOverlaps4.1480.3084.455
heuristicSeg15.027 0.09315.121
lociLikelihoods17.153 0.00917.164
normaliseNC5.2690.0705.343
plotGenome9.1900.0139.204
processAD5.0070.0005.009
readMethods3.8410.0023.843
readMeths2.4930.0762.568
segData-class4.9630.0154.977
segmentSeq-package4.5210.0014.522
thresholdFinder2.4480.0742.522