| Back to Multiple platform build/check report for BioC 3.21: simplified long |
|
This page was generated on 2025-10-16 11:39 -0400 (Thu, 16 Oct 2025).
| Hostname | OS | Arch (*) | R version | Installed pkgs |
|---|---|---|---|---|
| nebbiolo1 | Linux (Ubuntu 24.04.3 LTS) | x86_64 | 4.5.1 (2025-06-13) -- "Great Square Root" | 4833 |
| merida1 | macOS 12.7.6 Monterey | x86_64 | 4.5.1 RC (2025-06-05 r88288) -- "Great Square Root" | 4614 |
| kjohnson1 | macOS 13.7.5 Ventura | arm64 | 4.5.1 Patched (2025-06-14 r88325) -- "Great Square Root" | 4555 |
| kunpeng2 | Linux (openEuler 24.03 LTS) | aarch64 | R Under development (unstable) (2025-02-19 r87757) -- "Unsuffered Consequences" | 4586 |
| Click on any hostname to see more info about the system (e.g. compilers) (*) as reported by 'uname -p', except on Windows and Mac OS X | ||||
| Package 1927/2341 | Hostname | OS / Arch | INSTALL | BUILD | CHECK | BUILD BIN | ||||||||
| scoup 1.2.0 (landing page) Hassan Sadiq
| nebbiolo1 | Linux (Ubuntu 24.04.3 LTS) / x86_64 | OK | OK | OK | |||||||||
| merida1 | macOS 12.7.6 Monterey / x86_64 | OK | OK | OK | OK | |||||||||
| kjohnson1 | macOS 13.7.5 Ventura / arm64 | OK | OK | OK | OK | |||||||||
| kunpeng2 | Linux (openEuler 24.03 LTS) / aarch64 | OK | OK | OK | ||||||||||
|
To the developers/maintainers of the scoup package: - Allow up to 24 hours (and sometimes 48 hours) for your latest push to git@git.bioconductor.org:packages/scoup.git to reflect on this report. See Troubleshooting Build Report for more information. - Use the following Renviron settings to reproduce errors and warnings. - If 'R CMD check' started to fail recently on the Linux builder(s) over a missing dependency, add the missing dependency to 'Suggests:' in your DESCRIPTION file. See Renviron.bioc for more information. |
| Package: scoup |
| Version: 1.2.0 |
| Command: /Library/Frameworks/R.framework/Resources/bin/R CMD check --install=check:scoup.install-out.txt --library=/Library/Frameworks/R.framework/Resources/library --no-vignettes --timings scoup_1.2.0.tar.gz |
| StartedAt: 2025-10-14 10:02:15 -0400 (Tue, 14 Oct 2025) |
| EndedAt: 2025-10-14 10:08:21 -0400 (Tue, 14 Oct 2025) |
| EllapsedTime: 366.2 seconds |
| RetCode: 0 |
| Status: OK |
| CheckDir: scoup.Rcheck |
| Warnings: 0 |
##############################################################################
##############################################################################
###
### Running command:
###
### /Library/Frameworks/R.framework/Resources/bin/R CMD check --install=check:scoup.install-out.txt --library=/Library/Frameworks/R.framework/Resources/library --no-vignettes --timings scoup_1.2.0.tar.gz
###
##############################################################################
##############################################################################
* using log directory ‘/Users/biocbuild/bbs-3.21-bioc/meat/scoup.Rcheck’
* using R version 4.5.1 RC (2025-06-05 r88288)
* using platform: x86_64-apple-darwin20
* R was compiled by
Apple clang version 14.0.0 (clang-1400.0.29.202)
GNU Fortran (GCC) 14.2.0
* running under: macOS Monterey 12.7.6
* using session charset: UTF-8
* using option ‘--no-vignettes’
* checking for file ‘scoup/DESCRIPTION’ ... OK
* this is package ‘scoup’ version ‘1.2.0’
* checking package namespace information ... OK
* checking package dependencies ... OK
* checking if this is a source package ... OK
* checking if there is a namespace ... OK
* checking for hidden files and directories ... OK
* checking for portable file names ... OK
* checking for sufficient/correct file permissions ... OK
* checking whether package ‘scoup’ can be installed ... OK
* checking installed package size ... OK
* checking package directory ... OK
* checking ‘build’ directory ... OK
* checking DESCRIPTION meta-information ... OK
* checking top-level files ... OK
* checking for left-over files ... OK
* checking index information ... OK
* checking package subdirectories ... OK
* checking code files for non-ASCII characters ... OK
* checking R files for syntax errors ... OK
* checking whether the package can be loaded ... OK
* checking whether the package can be loaded with stated dependencies ... OK
* checking whether the package can be unloaded cleanly ... OK
* checking whether the namespace can be loaded with stated dependencies ... OK
* checking whether the namespace can be unloaded cleanly ... OK
* checking dependencies in R code ... OK
* checking S3 generic/method consistency ... OK
* checking replacement functions ... OK
* checking foreign function calls ... OK
* checking R code for possible problems ... OK
* checking Rd files ... OK
* checking Rd metadata ... OK
* checking Rd cross-references ... OK
* checking for missing documentation entries ... OK
* checking for code/documentation mismatches ... OK
* checking Rd \usage sections ... OK
* checking Rd contents ... OK
* checking for unstated dependencies in examples ... OK
* checking files in ‘vignettes’ ... OK
* checking examples ... OK
Examples with CPU (user + system) or elapsed time > 5s
user system elapsed
seqWriter 18.424 0.112 18.892
* checking for unstated dependencies in ‘tests’ ... OK
* checking tests ...
Running ‘branchWise.R’
Running ‘ouSensitivity.R’
Running ‘sensitiveVnVs.R’
Running ‘siteWise.R’
Running ‘testthat.R’
OK
* checking for unstated dependencies in vignettes ... OK
* checking package vignettes ... OK
* checking running R code from vignettes ... SKIPPED
* checking re-building of vignette outputs ... SKIPPED
* checking PDF version of manual ... OK
* DONE
Status: OK
scoup.Rcheck/00install.out
############################################################################## ############################################################################## ### ### Running command: ### ### /Library/Frameworks/R.framework/Resources/bin/R CMD INSTALL scoup ### ############################################################################## ############################################################################## * installing to library ‘/Library/Frameworks/R.framework/Versions/4.5-x86_64/Resources/library’ * installing *source* package ‘scoup’ ... ** this is package ‘scoup’ version ‘1.2.0’ ** using staged installation ** R ** inst ** byte-compile and prepare package for lazy loading ** help *** installing help indices ** building package indices ** installing vignettes ** testing if installed package can be loaded from temporary location ** testing if installed package can be loaded from final location ** testing if installed package keeps a record of temporary installation path * DONE (scoup)
scoup.Rcheck/tests/branchWise.Rout
R version 4.5.1 RC (2025-06-05 r88288) -- "Great Square Root"
Copyright (C) 2025 The R Foundation for Statistical Computing
Platform: x86_64-apple-darwin20
R is free software and comes with ABSOLUTELY NO WARRANTY.
You are welcome to redistribute it under certain conditions.
Type 'license()' or 'licence()' for distribution details.
R is a collaborative project with many contributors.
Type 'contributors()' for more information and
'citation()' on how to cite R or R packages in publications.
Type 'demo()' for some demos, 'help()' for on-line help, or
'help.start()' for an HTML browser interface to help.
Type 'q()' to quit R.
> # ><>< ================================================================= ><>< #
> # ><>< Branch-wise Analyses. ><>< #
> # ><>< ~~~~~~~~~ ><>< #
> # ><>< NOTE:- The edited (commented out) values were deemed necessary to ><>< #
> # ><>< avoid unnecessary delays during package installation. ><>< #
> # ><>< ================================================================= ><>< #
>
> # Make package accessible in R session
> library(scoup)
Loading required package: Matrix
>
> # Number of internal nodes on the desired balanced tree
> iNode <- 3
>
> # Variance of non-synonymous selection coefficients
> nsnV <- 0.01
>
> # Number of data replications for each parameter combination
> nsim <- 1 # 50
>
> # Ratio of the variance of the non-synonymous to synonymous coeff.
> vNvSvec <- c(0) # c(0, 1e-06, 1e-03, 0.1, 1, 10, 100)
>
> # Sequence alignment size information
> seqsBwise <- seqDetails(c(nsite=1000, blength=0.10))
>
> # Iterate over all listed coefficient variance ratios
> for(h in 1:length(vNvSvec)){
+
+ # Iterate over the specified number of replicates
+ for(i in 1:nsim){
+
+ # Create the parameter set applicable at each internal tree node
+ scInput <- rbind(vNvS=c(rep(0,iNode-1),vNvSvec[h]),
+ nsynVar=rep(nsnV,iNode))
+
+ # Create the applicable ("discrete") object for simulation function
+ adaptBranch <- discreteInput(list(p02xnodes=scInput))
+
+ # Execute simulation
+ genSeq <- alignsim(adaptBranch, seqsBwise, NA)
+ }
+ }
>
> # ><>< ================================================================= ><>< #
> # ><>< CODE ENDS HERE. ><>< #
> # ><>< ================================================================= ><>< #
>
> proc.time()
user system elapsed
40.777 0.694 43.110
scoup.Rcheck/tests/ouSensitivity.Rout
R version 4.5.1 RC (2025-06-05 r88288) -- "Great Square Root"
Copyright (C) 2025 The R Foundation for Statistical Computing
Platform: x86_64-apple-darwin20
R is free software and comes with ABSOLUTELY NO WARRANTY.
You are welcome to redistribute it under certain conditions.
Type 'license()' or 'licence()' for distribution details.
R is a collaborative project with many contributors.
Type 'contributors()' for more information and
'citation()' on how to cite R or R packages in publications.
Type 'demo()' for some demos, 'help()' for on-line help, or
'help.start()' for an HTML browser interface to help.
Type 'q()' to quit R.
> # ><>< ================================================================= ><>< #
> # ><>< OU Sensitivity Analyses ><>< #
> # ><>< ~~~~~~~~~ ><>< #
> # ><>< NOTE:- The edited (commented out) values were deemed necessary to ><>< #
> # ><>< avoid unnecessary delays during package installation. ><>< #
> # ><>< ================================================================= ><>< #
>
> # Make package accessible in R session
> library(scoup)
Loading required package: Matrix
>
> # Number of extant taxa
> leaves <- 64
>
> # Number of data replications for each parameter combination
> sims <- 1 # 50
>
> # OU reversion parameter (Theta) value
> eThta <- c(0.01) # c(0.01, 0.1, 1)
>
> # OU asymptotic variance value
> eVary <- c(0.0001) # c(0.0001, 0.01, 1)
>
> # OU landscape shift parameters
> hbrunoStat <- hbInput(c(vNvS=1, nsynVar=0.01))
>
> # Sequence alignment size information
> seqStat <- seqDetails(c(nsite=250, ntaxa=leaves))
>
> # Iterate over all listed OU variance values
> for(g in 1:length(eVary)){
+
+ # Iterate over all listed OU reversion parameter values
+ for(h in 1:length(eThta)){
+
+ # Create appropriate simulation function ("ou") object
+ adaptStat <- ouInput(c(eVar=eVary[g],Theta=eThta[h]))
+
+ # Iterate over the specified number of replicates
+ for(i in 1:sims){
+
+ # Execute simulation
+ simData <- alignsim(adaptStat, seqStat, hbrunoStat, NA)
+ }
+ }
+ }
>
> # ><>< ================================================================= ><>< #
> # ><>< CODE ENDS HERE. ><>< #
> # ><>< ================================================================= ><>< #
>
> proc.time()
user system elapsed
25.798 0.580 26.618
scoup.Rcheck/tests/sensitiveVnVs.Rout
R version 4.5.1 RC (2025-06-05 r88288) -- "Great Square Root"
Copyright (C) 2025 The R Foundation for Statistical Computing
Platform: x86_64-apple-darwin20
R is free software and comes with ABSOLUTELY NO WARRANTY.
You are welcome to redistribute it under certain conditions.
Type 'license()' or 'licence()' for distribution details.
R is a collaborative project with many contributors.
Type 'contributors()' for more information and
'citation()' on how to cite R or R packages in publications.
Type 'demo()' for some demos, 'help()' for on-line help, or
'help.start()' for an HTML browser interface to help.
Type 'q()' to quit R.
> # ><>< ================================================================= ><>< #
> # ><>< vN/vS Sensitivity Analyses. ><>< #
> # ><>< ~~~~~~~~~ ><>< #
> # ><>< NOTE:- The edited (commented out) values were deemed necessary to ><>< #
> # ><>< avoid unnecessary delays during package installation. ><>< #
> # ><>< ================================================================= ><>< #
>
> # Make package accessible in R session
> library(scoup)
Loading required package: Matrix
>
> # Number of extant taxa
> xtant <- 64
>
> # Number of data replications for each parameter combination
> simSize <- 1 # 50
>
> # Variance of the non-synonymous selection coefficients
> nsynVary <- c(0) # c(0, 0.001, 0.1)
>
> # Ratio of the variance of the non-synonymous to synonymous coeff.
> vNvSvec <- c(0) # c(0, 0.001, 1, 10)
>
> # Sequence alignment size information
> seqStat <- seqDetails(c(nsite=250, ntaxa=xtant))
>
> # Iterate over all listed coefficient variance ratios
> for(a in 1:length(vNvSvec)){
+
+ # Iterate over all listed non-synonymous coefficients variance
+ for(b in 1:length(nsynVary)){
+
+ # Create appropriate simulation function ("omega") object
+ adaptData <- wInput(list(vNvS=vNvSvec[a],nsynVar=nsynVary[b]))
+
+ # Iterate over the specified number of replicates
+ for(i in 1:simSize){
+
+ # Execute simulation
+ simulateSeq <- alignsim(adaptData, seqStat, NA)
+ }
+ }
+ }
>
> # ><>< ================================================================= ><>< #
> # ><>< CODE ENDS HERE. ><>< #
> # ><>< ================================================================= ><>< #
>
> proc.time()
user system elapsed
42.061 0.696 43.268
scoup.Rcheck/tests/siteWise.Rout
R version 4.5.1 RC (2025-06-05 r88288) -- "Great Square Root"
Copyright (C) 2025 The R Foundation for Statistical Computing
Platform: x86_64-apple-darwin20
R is free software and comes with ABSOLUTELY NO WARRANTY.
You are welcome to redistribute it under certain conditions.
Type 'license()' or 'licence()' for distribution details.
R is a collaborative project with many contributors.
Type 'contributors()' for more information and
'citation()' on how to cite R or R packages in publications.
Type 'demo()' for some demos, 'help()' for on-line help, or
'help.start()' for an HTML browser interface to help.
Type 'q()' to quit R.
> # ><>< ================================================================= ><>< #
> # ><>< Site-wise Analyses. ><>< #
> # ><>< ~~~~~~~~~ ><>< #
> # ><>< NOTE:- The edited (commented out) values were deemed necessary to ><>< #
> # ><>< avoid unnecessary delays during package installation. ><>< #
> # ><>< ================================================================= ><>< #
>
> # Make package accessible in R session
> library(scoup)
Loading required package: Matrix
>
> # Number of codon sites
> sitesize<- 100
>
> # Variance of non-synonymous selection coefficients
> nsynVary <- 0.01
>
> # Number of extant taxa
> taxasize <- 1024
>
> # Sequence alignment size information
> seqsEntry <- seqDetails(c(nsite=sitesize, ntaxa=taxasize))
>
> # Create the applicable ("ou") object for simulation function
> ## eVar= OU asymptotic variance, Theta=OU reversion parameter
> adaptEntry <- ouInput(c(eVar=0.1,Theta=1))
>
> # Ratio of the variance of the non-synonymous to synonymous coeff.
> sratio <- c(0) # c(0, 1e-06, 1e-03, 0.1, 1, 10, 1000)
>
> # Iterate over all listed coefficient variance ratios
> for(a0 in 1:length(sratio)){
+
+ # OU landscape shift parameters
+ mValues <- hbInput(c(vNvS=sratio[a0], nsynVar=nsynVary))
+
+ # Execute simulation
+ simSeq <- alignsim(adaptEntry, seqsEntry, mValues, NA)
+ }
>
>
> # ><>< ================================================================= ><>< #
> # ><>< CODE ENDS HERE. ><>< #
> # ><>< ================================================================= ><>< #
>
> proc.time()
user system elapsed
28.460 0.655 29.216
scoup.Rcheck/tests/testthat.Rout
R version 4.5.1 RC (2025-06-05 r88288) -- "Great Square Root"
Copyright (C) 2025 The R Foundation for Statistical Computing
Platform: x86_64-apple-darwin20
R is free software and comes with ABSOLUTELY NO WARRANTY.
You are welcome to redistribute it under certain conditions.
Type 'license()' or 'licence()' for distribution details.
R is a collaborative project with many contributors.
Type 'contributors()' for more information and
'citation()' on how to cite R or R packages in publications.
Type 'demo()' for some demos, 'help()' for on-line help, or
'help.start()' for an HTML browser interface to help.
Type 'q()' to quit R.
> # ><>< ================================================================ ><>< #
> # ><>< scoup: Simulate Codon Sequences with Darwinian Selection ><>< #
> # ><>< Incorporated as an Ornstein-Uhlenbeck Process ><>< #
> # ><>< ~~~~~~~~~~~~~~~~~~~~ ><>< #
> # ><>< Master Function Test File. ><>< #
> # ><>< ================================================================ ><>< #
>
> library(testthat)
> library(scoup)
Loading required package: Matrix
>
> test_check("scoup")
[ FAIL 0 | WARN 1 | SKIP 0 | PASS 30 ]
[ FAIL 0 | WARN 1 | SKIP 0 | PASS 30 ]
>
> # ><>< ================================================================ ><>< #
> # ><>< CODE ENDS HERE ><>< #
> # ><>< ================================================================ ><>< #
>
> proc.time()
user system elapsed
8.595 0.552 9.524
scoup.Rcheck/scoup-Ex.timings
| name | user | system | elapsed | |
| aaGamma | 0.003 | 0.002 | 0.005 | |
| aaGauss | 0.002 | 0.003 | 0.004 | |
| alignsim | 3.247 | 0.075 | 3.341 | |
| aminoSC-class | 0.001 | 0.002 | 0.002 | |
| biTree | 0.002 | 0.001 | 0.003 | |
| codonCoeffs | 0.009 | 0.003 | 0.012 | |
| codonFreq | 0.004 | 0.002 | 0.005 | |
| codonvalues-class | 0.004 | 0.003 | 0.007 | |
| discrete-class | 0.001 | 0.001 | 0.003 | |
| discreteInput | 0.002 | 0.000 | 0.002 | |
| dndsCalculator | 0.010 | 0.001 | 0.010 | |
| fixMatrix | 0.029 | 0.063 | 0.092 | |
| hbInput | 0.002 | 0.001 | 0.003 | |
| hbParameters-class | 0.002 | 0.001 | 0.003 | |
| omega-class | 0.002 | 0.001 | 0.003 | |
| ou-class | 0.001 | 0.001 | 0.001 | |
| ouEvolve | 0.014 | 0.001 | 0.015 | |
| ouInput | 0.002 | 0.001 | 0.002 | |
| scoup-class | 0.523 | 0.007 | 0.532 | |
| seqDetails | 0.004 | 0.000 | 0.005 | |
| seqParameters-class | 0.003 | 0.000 | 0.003 | |
| seqWriter | 18.424 | 0.112 | 18.892 | |
| subsMatrix | 0.030 | 0.084 | 0.114 | |
| wInput | 0.003 | 0.001 | 0.004 | |