| Back to Multiple platform build/check report for BioC 3.21: simplified long |
|
This page was generated on 2025-10-16 11:39 -0400 (Thu, 16 Oct 2025).
| Hostname | OS | Arch (*) | R version | Installed pkgs |
|---|---|---|---|---|
| nebbiolo1 | Linux (Ubuntu 24.04.3 LTS) | x86_64 | 4.5.1 (2025-06-13) -- "Great Square Root" | 4833 |
| merida1 | macOS 12.7.6 Monterey | x86_64 | 4.5.1 RC (2025-06-05 r88288) -- "Great Square Root" | 4614 |
| kjohnson1 | macOS 13.7.5 Ventura | arm64 | 4.5.1 Patched (2025-06-14 r88325) -- "Great Square Root" | 4555 |
| kunpeng2 | Linux (openEuler 24.03 LTS) | aarch64 | R Under development (unstable) (2025-02-19 r87757) -- "Unsuffered Consequences" | 4586 |
| Click on any hostname to see more info about the system (e.g. compilers) (*) as reported by 'uname -p', except on Windows and Mac OS X | ||||
| Package 1897/2341 | Hostname | OS / Arch | INSTALL | BUILD | CHECK | BUILD BIN | ||||||||
| sccomp 2.0.0 (landing page) Stefano Mangiola
| nebbiolo1 | Linux (Ubuntu 24.04.3 LTS) / x86_64 | OK | OK | OK | |||||||||
| merida1 | macOS 12.7.6 Monterey / x86_64 | OK | OK | OK | OK | |||||||||
| kjohnson1 | macOS 13.7.5 Ventura / arm64 | OK | OK | OK | OK | |||||||||
| kunpeng2 | Linux (openEuler 24.03 LTS) / aarch64 | OK | OK | OK | ||||||||||
|
To the developers/maintainers of the sccomp package: - Allow up to 24 hours (and sometimes 48 hours) for your latest push to git@git.bioconductor.org:packages/sccomp.git to reflect on this report. See Troubleshooting Build Report for more information. - Use the following Renviron settings to reproduce errors and warnings. - If 'R CMD check' started to fail recently on the Linux builder(s) over a missing dependency, add the missing dependency to 'Suggests:' in your DESCRIPTION file. See Renviron.bioc for more information. |
| Package: sccomp |
| Version: 2.0.0 |
| Command: /Library/Frameworks/R.framework/Resources/bin/R CMD check --install=check:sccomp.install-out.txt --library=/Library/Frameworks/R.framework/Resources/library --no-vignettes --timings sccomp_2.0.0.tar.gz |
| StartedAt: 2025-10-14 09:49:27 -0400 (Tue, 14 Oct 2025) |
| EndedAt: 2025-10-14 09:56:32 -0400 (Tue, 14 Oct 2025) |
| EllapsedTime: 424.3 seconds |
| RetCode: 0 |
| Status: OK |
| CheckDir: sccomp.Rcheck |
| Warnings: 0 |
##############################################################################
##############################################################################
###
### Running command:
###
### /Library/Frameworks/R.framework/Resources/bin/R CMD check --install=check:sccomp.install-out.txt --library=/Library/Frameworks/R.framework/Resources/library --no-vignettes --timings sccomp_2.0.0.tar.gz
###
##############################################################################
##############################################################################
* using log directory ‘/Users/biocbuild/bbs-3.21-bioc/meat/sccomp.Rcheck’
* using R version 4.5.1 RC (2025-06-05 r88288)
* using platform: x86_64-apple-darwin20
* R was compiled by
Apple clang version 14.0.0 (clang-1400.0.29.202)
GNU Fortran (GCC) 14.2.0
* running under: macOS Monterey 12.7.6
* using session charset: UTF-8
* using option ‘--no-vignettes’
* checking for file ‘sccomp/DESCRIPTION’ ... OK
* this is package ‘sccomp’ version ‘2.0.0’
* package encoding: UTF-8
* checking package namespace information ... OK
* checking package dependencies ... OK
* checking if this is a source package ... OK
* checking if there is a namespace ... OK
* checking for hidden files and directories ... OK
* checking for portable file names ... OK
* checking for sufficient/correct file permissions ... OK
* checking whether package ‘sccomp’ can be installed ... OK
* checking installed package size ... INFO
installed size is 6.5Mb
sub-directories of 1Mb or more:
data 3.9Mb
figures 1.9Mb
* checking package directory ... OK
* checking ‘build’ directory ... OK
* checking DESCRIPTION meta-information ... OK
* checking top-level files ... NOTE
File
LICENSE
is not mentioned in the DESCRIPTION file.
* checking for left-over files ... OK
* checking index information ... OK
* checking package subdirectories ... OK
* checking code files for non-ASCII characters ... OK
* checking R files for syntax errors ... OK
* checking whether the package can be loaded ... OK
* checking whether the package can be loaded with stated dependencies ... OK
* checking whether the package can be unloaded cleanly ... OK
* checking whether the namespace can be loaded with stated dependencies ... OK
* checking whether the namespace can be unloaded cleanly ... OK
* checking dependencies in R code ... OK
* checking S3 generic/method consistency ... OK
* checking replacement functions ... OK
* checking foreign function calls ... OK
* checking R code for possible problems ... NOTE
check_if_columns_right_class: no visible global function definition for
‘is’
check_if_count_integer: no visible global function definition for ‘is’
check_if_sample_is_a_unique_identifier: no visible binding for global
variable ‘n___’
check_sample_consistency_of_factors: no visible binding for global
variable ‘name’
check_sample_consistency_of_factors: no visible binding for global
variable ‘correct_size’
data_to_spread: no visible binding for global variable ‘exposure’
draws_to_statistics: no visible binding for global variable ‘rhat’
draws_to_statistics: no visible binding for global variable ‘ess_bulk’
draws_to_statistics: no visible binding for global variable ‘ess_tail’
draws_to_statistics: no visible binding for global variable ‘.value’
draws_to_tibble_x_y: no visible binding for global variable ‘parameter’
find_optimal_number_of_chains: no visible binding for global variable
‘.’
fit_model: no visible binding for global variable ‘pf’
get_abundance_contrast_draws: no visible binding for global variable
‘.’
get_abundance_contrast_draws: no visible binding for global variable
‘parameters_name’
get_abundance_contrast_draws: no visible binding for global variable
‘n_random_eff’
get_abundance_contrast_draws: no visible binding for global variable
‘.chain’
get_abundance_contrast_draws: no visible binding for global variable
‘.iteration’
get_abundance_contrast_draws: no visible binding for global variable
‘.draw’
get_abundance_contrast_draws: no visible global function definition for
‘sd’
get_abundance_contrast_draws: no visible binding for global variable
‘point_estimate’
get_abundance_contrast_draws: no visible binding for global variable
‘sd_of_point_estimates’
get_abundance_contrast_draws: no visible binding for global variable
‘X_random_effect_2’
get_model_from_data: no visible global function definition for
‘stan_model’
get_probability_non_zero: no visible binding for global variable ‘M’
get_probability_non_zero: no visible binding for global variable
‘C_name’
get_probability_non_zero: no visible binding for global variable
‘bigger_zero’
get_probability_non_zero: no visible binding for global variable
‘smaller_zero’
get_probability_non_zero_: no visible binding for global variable
‘name’
get_probability_non_zero_: no visible binding for global variable
‘value’
get_probability_non_zero_OLD: no visible binding for global variable
‘.’
get_variability_contrast_draws: no visible binding for global variable
‘parameters_name’
get_variability_contrast_draws: no visible binding for global variable
‘.variable’
get_variability_contrast_draws: no visible binding for global variable
‘.’
mutate_from_expr_list: no visible binding for global variable ‘M’
mutate_from_expr_list: no visible binding for global variable ‘.chain’
mutate_from_expr_list: no visible binding for global variable
‘.iteration’
mutate_from_expr_list: no visible binding for global variable ‘.draw’
parse_formula: no visible binding for global variable ‘.’
plot_2D_intervals: no visible binding for global variable ‘.’
plot_2D_intervals: no visible binding for global variable
‘multipanel_theme’
plot_boxplot: no visible binding for global variable ‘is_zero’
print_red_tibble: no visible global function definition for
‘capture.output’
replicate_data: no visible binding for global variable ‘count_data’
replicate_data: no visible global function definition for ‘is’
replicate_data: no visible binding for global variable ‘exposure’
replicate_data: no visible binding for global variable ‘dummy’
replicate_data: no visible global function definition for ‘tail’
replicate_data: no visible binding for global variable ‘.’
replicate_data: no visible global function definition for ‘na.omit’
replicate_data: no visible binding for global variable ‘Xa’
replicate_data: no visible binding for global variable
‘intercept_in_design’
replicate_data: no visible binding for global variable ‘design’
replicate_data: no visible binding for global variable ‘design_matrix’
replicate_data: no visible binding for global variable
‘X_random_effect’
replicate_data: no visible binding for global variable
‘X_random_effect_2’
sccomp_boxplot: no visible binding for global variable ‘parameter’
sccomp_boxplot: no visible binding for global variable ‘count_data’
sccomp_boxplot: no visible binding for global variable ‘proportion’
sccomp_boxplot: no visible binding for global variable
‘adjusted_proportion’
sccomp_boxplot: no visible binding for global variable
‘multipanel_theme’
sccomp_calculate_residuals.sccomp_tbl: no visible binding for global
variable ‘proportion_mean’
sccomp_calculate_residuals.sccomp_tbl: no visible binding for global
variable ‘is_proportion’
sccomp_calculate_residuals.sccomp_tbl: no visible binding for global
variable ‘y_proportion’
sccomp_calculate_residuals.sccomp_tbl: no visible binding for global
variable ‘observed_proportion’
sccomp_calculate_residuals.sccomp_tbl: no visible binding for global
variable ‘residuals’
sccomp_calculate_residuals.sccomp_tbl: no visible binding for global
variable ‘exposure’
sccomp_glm_data_frame_counts: no visible global function definition for
‘is’
sccomp_glm_data_frame_counts: no visible binding for global variable
‘N’
sccomp_glm_data_frame_counts: no visible binding for global variable
‘M’
sccomp_glm_data_frame_counts: no visible global function definition for
‘na.omit’
sccomp_predict.sccomp_tbl: no visible binding for global variable
‘count_data’
sccomp_predict.sccomp_tbl: no visible global function definition for
‘is’
sccomp_predict.sccomp_tbl: no visible binding for global variable ‘M’
sccomp_predict.sccomp_tbl: no visible binding for global variable ‘N’
sccomp_predict.sccomp_tbl: no visible binding for global variable
‘2.5%’
sccomp_predict.sccomp_tbl: no visible binding for global variable
‘97.5%’
sccomp_predict.sccomp_tbl: no visible binding for global variable
‘.value’
sccomp_predict.sccomp_tbl: no visible binding for global variable
‘.draw’
sccomp_proportional_fold_change.sccomp_tbl: no visible binding for
global variable ‘ratio_mean’
sccomp_proportional_fold_change.sccomp_tbl: no visible binding for
global variable ‘ratio_upper’
sccomp_proportional_fold_change.sccomp_tbl: no visible binding for
global variable ‘proportion_fold_change’
sccomp_proportional_fold_change.sccomp_tbl: no visible binding for
global variable ‘ratio_lower’
sccomp_proportional_fold_change.sccomp_tbl: no visible binding for
global variable ‘difference_proportion_upper_fold_change’
sccomp_proportional_fold_change.sccomp_tbl: no visible binding for
global variable ‘difference_proportion_lower_fold_change’
sccomp_proportional_fold_change.sccomp_tbl: no visible binding for
global variable ‘average_uncertainty’
sccomp_proportional_fold_change.sccomp_tbl: no visible binding for
global variable ‘statement’
sccomp_remove_outliers.sccomp_tbl: no visible binding for global
variable ‘count_data’
sccomp_remove_outliers.sccomp_tbl: no visible global function
definition for ‘is’
sccomp_remove_outliers.sccomp_tbl: no visible binding for global
variable ‘N’
sccomp_remove_outliers.sccomp_tbl: no visible binding for global
variable ‘M’
sccomp_remove_outliers.sccomp_tbl: no visible binding for global
variable ‘5%’
sccomp_remove_outliers.sccomp_tbl: no visible binding for global
variable ‘95%’
sccomp_remove_outliers.sccomp_tbl: no visible binding for global
variable ‘truncation_up’
sccomp_remove_outliers.sccomp_tbl: no visible binding for global
variable ‘truncation_down’
sccomp_remove_outliers.sccomp_tbl: no visible binding for global
variable ‘value’
sccomp_remove_outliers.sccomp_tbl: no visible binding for global
variable ‘columns’
sccomp_remove_outliers.sccomp_tbl: no visible binding for global
variable ‘.lower’
sccomp_remove_outliers.sccomp_tbl: no visible binding for global
variable ‘50%’
sccomp_remove_outliers.sccomp_tbl: no visible binding for global
variable ‘.upper’
sccomp_remove_unwanted_variation.sccomp_tbl: no visible binding for
global variable ‘proportion_mean’
sccomp_remove_unwanted_variation.sccomp_tbl: no visible binding for
global variable ‘adjusted_proportion’
sccomp_remove_unwanted_variation.sccomp_tbl: no visible binding for
global variable ‘exposure’
sccomp_remove_unwanted_variation.sccomp_tbl: no visible binding for
global variable ‘adjusted_counts’
sccomp_replicate.sccomp_tbl: no visible binding for global variable
‘count_data’
sccomp_replicate.sccomp_tbl: no visible binding for global variable ‘N’
sccomp_replicate.sccomp_tbl: no visible binding for global variable ‘M’
sccomp_test.sccomp_tbl: no visible binding for global variable
‘design_matrix_col’
sccomp_test.sccomp_tbl: no visible binding for global variable
‘parameter’
sccomp_test.sccomp_tbl: no visible binding for global variable ‘M’
simulate_data.tbl: no visible binding for global variable ‘data___’
simulate_data.tbl: no visible binding for global variable ‘.exposure’
simulate_data.tbl: no visible binding for global variable ‘N’
simulate_data.tbl: no visible binding for global variable ‘M’
simulate_multinomial_logit_linear: no visible global function
definition for ‘rnorm’
summary_to_tibble: no visible binding for global variable ‘variable’
vb_iterative : <anonymous>: no visible binding for global variable
‘model_name’
Undefined global functions or variables:
. .chain .draw .exposure .iteration .lower .upper .value .variable
2.5% 5% 50% 95% 97.5% C_name M N X_random_effect X_random_effect_2 Xa
adjusted_counts adjusted_proportion average_uncertainty bigger_zero
capture.output columns correct_size count_data data___ design
design_matrix design_matrix_col
difference_proportion_lower_fold_change
difference_proportion_upper_fold_change dummy ess_bulk ess_tail
exposure intercept_in_design is is_proportion is_zero model_name
multipanel_theme n___ n_random_eff na.omit name observed_proportion
parameter parameters_name pf point_estimate proportion
proportion_fold_change proportion_mean ratio_lower ratio_mean
ratio_upper residuals rhat rnorm sd sd_of_point_estimates
smaller_zero stan_model statement tail truncation_down truncation_up
value variable y_proportion
Consider adding
importFrom("methods", "is")
importFrom("stats", "na.omit", "pf", "residuals", "rnorm", "sd")
importFrom("utils", "capture.output", "tail")
to your NAMESPACE file (and ensure that your DESCRIPTION Imports field
contains 'methods').
* checking Rd files ... OK
* checking Rd metadata ... OK
* checking Rd cross-references ... OK
* checking for missing documentation entries ... OK
* checking for code/documentation mismatches ... OK
* checking Rd \usage sections ... OK
* checking Rd contents ... OK
* checking for unstated dependencies in examples ... OK
* checking contents of ‘data’ directory ... OK
* checking data for non-ASCII characters ... OK
* checking LazyData ... OK
* checking data for ASCII and uncompressed saves ... OK
* checking line endings in shell scripts ... OK
* checking files in ‘vignettes’ ... OK
* checking examples ... OK
* checking for unstated dependencies in ‘tests’ ... OK
* checking tests ...
Running ‘testthat.R’
OK
* checking for unstated dependencies in vignettes ... OK
* checking package vignettes ... OK
* checking running R code from vignettes ... SKIPPED
* checking re-building of vignette outputs ... SKIPPED
* checking PDF version of manual ... OK
* DONE
Status: 2 NOTEs
See
‘/Users/biocbuild/bbs-3.21-bioc/meat/sccomp.Rcheck/00check.log’
for details.
sccomp.Rcheck/00install.out
############################################################################## ############################################################################## ### ### Running command: ### ### /Library/Frameworks/R.framework/Resources/bin/R CMD INSTALL sccomp ### ############################################################################## ############################################################################## * installing to library ‘/Library/Frameworks/R.framework/Versions/4.5-x86_64/Resources/library’ * installing *source* package ‘sccomp’ ... ** this is package ‘sccomp’ version ‘2.0.0’ ** using staged installation ** R ** data *** moving datasets to lazyload DB ** inst ** byte-compile and prepare package for lazy loading ** help *** installing help indices ** building package indices ** installing vignettes ** testing if installed package can be loaded from temporary location ** testing if installed package can be loaded from final location ** testing if installed package keeps a record of temporary installation path * DONE (sccomp)
sccomp.Rcheck/tests/testthat.Rout
R version 4.5.1 RC (2025-06-05 r88288) -- "Great Square Root"
Copyright (C) 2025 The R Foundation for Statistical Computing
Platform: x86_64-apple-darwin20
R is free software and comes with ABSOLUTELY NO WARRANTY.
You are welcome to redistribute it under certain conditions.
Type 'license()' or 'licence()' for distribution details.
R is a collaborative project with many contributors.
Type 'contributors()' for more information and
'citation()' on how to cite R or R packages in publications.
Type 'demo()' for some demos, 'help()' for on-line help, or
'help.start()' for an HTML browser interface to help.
Type 'q()' to quit R.
> library(testthat)
> library(sccomp)
>
> test_check("sccomp")
[ FAIL 0 | WARN 0 | SKIP 23 | PASS 1 ]
══ Skipped tests (23) ══════════════════════════════════════════════════════════
• On CRAN (23): 'test-sccomp_.R:107:3', 'test-sccomp_.R:126:3',
'test-sccomp_.R:177:3', 'test-sccomp_.R:191:3', 'test-sccomp_.R:238:3',
'test-sccomp_.R:279:3', 'test-sccomp_.R:343:3', 'test-sccomp_.R:369:3',
'test-sccomp_.R:382:3', 'test-sccomp_.R:419:3', 'test-sccomp_.R:475:3',
'test-sccomp_.R:494:3', 'test-sccomp_.R:508:3', 'test-sccomp_.R:520:3',
'test-sccomp_.R:537:3', 'test-sccomp_.R:550:3', 'test-sccomp_.R:562:3',
'test-sccomp_.R:610:3', 'test-sccomp_.R:641:3', 'test-sccomp_.R:660:3',
'test-sccomp_.R:763:3', 'test-sccomp_.R:827:3', 'test-sccomp_.R:870:3'
[ FAIL 0 | WARN 0 | SKIP 23 | PASS 1 ]
>
> proc.time()
user system elapsed
19.185 1.057 21.168
sccomp.Rcheck/sccomp-Ex.timings
| name | user | system | elapsed | |
| get_output_samples | 0.001 | 0.001 | 0.001 | |
| no_significance_df | 0.074 | 0.012 | 0.090 | |
| plot.sccomp_tbl | 0.000 | 0.001 | 0.002 | |
| plot_1D_intervals | 0.001 | 0.001 | 0.001 | |
| plot_2D_intervals | 0.000 | 0.001 | 0.000 | |
| plot_scatterplot | 0.000 | 0.001 | 0.001 | |
| sccomp_boxplot | 0.000 | 0.001 | 0.001 | |
| sccomp_calculate_residuals | 0 | 0 | 0 | |
| sccomp_estimate | 0.000 | 0.000 | 0.001 | |
| sccomp_predict | 0.001 | 0.000 | 0.000 | |
| sccomp_proportional_fold_change | 0.000 | 0.000 | 0.001 | |
| sccomp_remove_outliers | 0.000 | 0.000 | 0.001 | |
| sccomp_remove_unwanted_variation | 0 | 0 | 0 | |
| sccomp_replicate | 0 | 0 | 0 | |
| sccomp_test | 0.000 | 0.000 | 0.001 | |
| simulate_data | 0 | 0 | 0 | |