Back to Multiple platform build/check report for BioC 3.22:   simplified   long
ABCDEFGHIJKLMNOPQR[S]TUVWXYZ

This page was generated on 2025-11-27 12:03 -0500 (Thu, 27 Nov 2025).

HostnameOSArch (*)R versionInstalled pkgs
nebbiolo2Linux (Ubuntu 24.04.3 LTS)x86_644.5.2 (2025-10-31) -- "[Not] Part in a Rumble" 4876
merida1macOS 12.7.6 Montereyx86_644.5.2 Patched (2025-11-05 r88990) -- "[Not] Part in a Rumble" 4656
kjohnson1macOS 13.7.5 Venturaarm644.5.2 Patched (2025-11-04 r88984) -- "[Not] Part in a Rumble" 4602
taishanLinux (openEuler 24.03 LTS)aarch644.5.0 (2025-04-11) -- "How About a Twenty-Six" 4668
Click on any hostname to see more info about the system (e.g. compilers)      (*) as reported by 'uname -p', except on Windows and Mac OS X

Package 1905/2361HostnameOS / ArchINSTALLBUILDCHECKBUILD BIN
scater 1.38.0  (landing page)
Alan O'Callaghan
Snapshot Date: 2025-11-24 13:45 -0500 (Mon, 24 Nov 2025)
git_url: https://git.bioconductor.org/packages/scater
git_branch: RELEASE_3_22
git_last_commit: 64e2b5e
git_last_commit_date: 2025-10-29 10:30:01 -0500 (Wed, 29 Oct 2025)
nebbiolo2Linux (Ubuntu 24.04.3 LTS) / x86_64  OK    OK    OK  UNNEEDED, same version is already published
merida1macOS 12.7.6 Monterey / x86_64  OK    OK    OK    OK  UNNEEDED, same version is already published
kjohnson1macOS 13.7.5 Ventura / arm64  OK    OK    ERROR    NA  
taishanLinux (openEuler 24.03 LTS) / aarch64  OK    OK    OK  


CHECK results for scater on merida1

To the developers/maintainers of the scater package:
- Allow up to 24 hours (and sometimes 48 hours) for your latest push to git@git.bioconductor.org:packages/scater.git to reflect on this report. See Troubleshooting Build Report for more information.
- Use the following Renviron settings to reproduce errors and warnings.
- If 'R CMD check' started to fail recently on the Linux builder(s) over a missing dependency, add the missing dependency to 'Suggests:' in your DESCRIPTION file. See Renviron.bioc for more information.

raw results


Summary

Package: scater
Version: 1.38.0
Command: /Library/Frameworks/R.framework/Resources/bin/R CMD check --install=check:scater.install-out.txt --library=/Library/Frameworks/R.framework/Resources/library --no-vignettes --timings scater_1.38.0.tar.gz
StartedAt: 2025-11-25 10:25:05 -0500 (Tue, 25 Nov 2025)
EndedAt: 2025-11-25 10:41:17 -0500 (Tue, 25 Nov 2025)
EllapsedTime: 971.8 seconds
RetCode: 0
Status:   OK  
CheckDir: scater.Rcheck
Warnings: 0

Command output

##############################################################################
##############################################################################
###
### Running command:
###
###   /Library/Frameworks/R.framework/Resources/bin/R CMD check --install=check:scater.install-out.txt --library=/Library/Frameworks/R.framework/Resources/library --no-vignettes --timings scater_1.38.0.tar.gz
###
##############################################################################
##############################################################################


* using log directory ‘/Users/biocbuild/bbs-3.22-bioc/meat/scater.Rcheck’
* using R version 4.5.2 Patched (2025-11-05 r88990)
* using platform: x86_64-apple-darwin20
* R was compiled by
    Apple clang version 14.0.0 (clang-1400.0.29.202)
    GNU Fortran (GCC) 14.2.0
* running under: macOS Monterey 12.7.6
* using session charset: UTF-8
* using option ‘--no-vignettes’
* checking for file ‘scater/DESCRIPTION’ ... OK
* checking extension type ... Package
* this is package ‘scater’ version ‘1.38.0’
* package encoding: UTF-8
* checking package namespace information ... OK
* checking package dependencies ... INFO
Imports includes 21 non-default packages.
Importing from so many packages makes the package vulnerable to any of
them becoming unavailable.  Move as many as possible to Suggests and
use conditionally.
* checking if this is a source package ... OK
* checking if there is a namespace ... OK
* checking for hidden files and directories ... OK
* checking for portable file names ... OK
* checking for sufficient/correct file permissions ... OK
* checking whether package ‘scater’ can be installed ... OK
* checking installed package size ... OK
* checking package directory ... OK
* checking ‘build’ directory ... OK
* checking DESCRIPTION meta-information ... OK
* checking top-level files ... OK
* checking for left-over files ... OK
* checking index information ... OK
* checking package subdirectories ... OK
* checking code files for non-ASCII characters ... OK
* checking R files for syntax errors ... OK
* checking whether the package can be loaded ... OK
* checking whether the package can be loaded with stated dependencies ... OK
* checking whether the package can be unloaded cleanly ... OK
* checking whether the namespace can be loaded with stated dependencies ... OK
* checking whether the namespace can be unloaded cleanly ... OK
* checking dependencies in R code ... OK
* checking S3 generic/method consistency ... OK
* checking replacement functions ... OK
* checking foreign function calls ... OK
* checking R code for possible problems ... NOTE
.handle_truncval: no visible global function definition for ‘quantile’
Undefined global functions or variables:
  quantile
Consider adding
  importFrom("stats", "quantile")
to your NAMESPACE file.
* checking Rd files ... OK
* checking Rd metadata ... OK
* checking Rd cross-references ... NOTE
Found the following Rd file(s) with Rd \link{} targets missing package
anchors:
  accessors.Rd: SingleCellExperiment
  annotateBMFeatures.Rd: SingleCellExperiment,
    SingleCellExperiment-class, DataFrame-class, rowData
  bootstraps.Rd: SingleCellExperiment
  getExplanatoryPCs.Rd: SingleCellExperiment-class
  getVarianceExplained.Rd: SummarizedExperiment-class, DataFrame-class,
    BiocParallelParam-class
  ggsce.Rd: ggplot, SingleCellExperiment-class, aes
  nexprs.Rd: SummarizedExperiment-class, BiocParallelParam-class,
    DelayedMatrix-class
  plotColData.Rd: SingleCellExperiment-class, geom_hex, ggplot
  plotDots.Rd: SingleCellExperiment-class, colData,
    correctGroupSummary, ggplot
  plotExpression.Rd: geom_hex
  plotGroupedHeatmap.Rd: SingleCellExperiment-class, colData,
    correctGroupSummary
  plotHeatmap.Rd: SingleCellExperiment-class
  plotHighestExprs.Rd: ggplot
  plotRLE.Rd: BiocParallelParam-class, DelayedArray
  plotReducedDim.Rd: geom_hex
  plotRowData.Rd: ggplot
  plotScater.Rd: SingleCellExperiment-class, facet_wrap, ggplot
  plot_reddim.Rd: reducedDims, ggplot
  projectReducedDim.Rd: SummarizedExperiment-class,
    SingleCellExperiment-class
  retrieveCellInfo.Rd: SingleCellExperiment-class, DataFrame-class,
    colData, assay, altExps
  retrieveFeatureInfo.Rd: SingleCellExperiment-class, DataFrame-class,
    rowData, assay
  runColDataPCA.Rd: SingleCellExperiment-class,
    BiocSingularParam-class, BiocParallelParam-class
  runMDS.Rd: SummarizedExperiment-class, SingleCellExperiment-class,
    reducedDims, reducedDim, altExp
  runMultiUMAP.Rd: SummarizedExperiment-class,
    SingleCellExperiment-class, reducedDims, altExps
  runNMF.Rd: SummarizedExperiment-class, SingleCellExperiment-class,
    reducedDims, reducedDim, altExp
  runPCA.Rd: SummarizedExperiment-class, SingleCellExperiment-class,
    BiocSingularParam-class, BiocParallelParam-class, reducedDims,
    bsparam, reducedDim, altExp
  runTSNE.Rd: SummarizedExperiment-class, SingleCellExperiment-class,
    MulticoreParam-class, findKNN, BiocNeighborParam-class,
    BiocParallelParam-class, reducedDims, reducedDim, altExp
  runUMAP.Rd: SummarizedExperiment-class, SingleCellExperiment-class,
    MulticoreParam-class, findKNN, BiocNeighborParam-class,
    BiocParallelParam-class, reducedDims, reducedDim, altExp
  scater-plot-args.Rd: ggplot, DataFrame-class
  toSingleCellExperiment.Rd: SingleCellExperiment
Please provide package anchors for all Rd \link{} targets not in the
package itself and the base packages.
* checking for missing documentation entries ... OK
* checking for code/documentation mismatches ... OK
* checking Rd \usage sections ... OK
* checking Rd contents ... OK
* checking for unstated dependencies in examples ... OK
* checking files in ‘vignettes’ ... OK
* checking examples ... OK
Examples with CPU (user + system) or elapsed time > 5s
                    user system elapsed
plotReducedDim    23.771  0.397  23.580
plotExpression    14.552  0.203  14.738
plotRLE           14.086  0.311  14.576
plot_reddim       10.007  0.147  11.520
plotColData        9.097  0.218   9.297
runMultiUMAP       7.567  0.050   7.951
projectReducedDim  6.751  0.050   7.331
plotScater         5.862  0.175   6.895
ggsce              5.373  0.100   5.508
plotDots           4.955  0.049   5.027
runUMAP            4.746  0.039   5.022
* checking for unstated dependencies in ‘tests’ ... OK
* checking tests ...
  Running ‘testthat.R’
 OK
* checking for unstated dependencies in vignettes ... OK
* checking package vignettes ... OK
* checking running R code from vignettes ... SKIPPED
* checking re-building of vignette outputs ... SKIPPED
* checking PDF version of manual ... OK
* DONE

Status: 2 NOTEs
See
  ‘/Users/biocbuild/bbs-3.22-bioc/meat/scater.Rcheck/00check.log’
for details.


Installation output

scater.Rcheck/00install.out

##############################################################################
##############################################################################
###
### Running command:
###
###   /Library/Frameworks/R.framework/Resources/bin/R CMD INSTALL scater
###
##############################################################################
##############################################################################


* installing to library ‘/Library/Frameworks/R.framework/Versions/4.5-x86_64/Resources/library’
* installing *source* package ‘scater’ ...
** this is package ‘scater’ version ‘1.38.0’
** using staged installation
** R
** inst
** byte-compile and prepare package for lazy loading
** help
*** installing help indices
** building package indices
** installing vignettes
** testing if installed package can be loaded from temporary location
** testing if installed package can be loaded from final location
** testing if installed package keeps a record of temporary installation path
* DONE (scater)

Tests output

scater.Rcheck/tests/testthat.Rout


R version 4.5.2 Patched (2025-11-05 r88990) -- "[Not] Part in a Rumble"
Copyright (C) 2025 The R Foundation for Statistical Computing
Platform: x86_64-apple-darwin20

R is free software and comes with ABSOLUTELY NO WARRANTY.
You are welcome to redistribute it under certain conditions.
Type 'license()' or 'licence()' for distribution details.

R is a collaborative project with many contributors.
Type 'contributors()' for more information and
'citation()' on how to cite R or R packages in publications.

Type 'demo()' for some demos, 'help()' for on-line help, or
'help.start()' for an HTML browser interface to help.
Type 'q()' to quit R.

> Sys.setenv("R_TESTS" = "")
> library(testthat)
> library(scater)
Loading required package: SingleCellExperiment
Loading required package: SummarizedExperiment
Loading required package: MatrixGenerics
Loading required package: matrixStats

Attaching package: 'MatrixGenerics'

The following objects are masked from 'package:matrixStats':

    colAlls, colAnyNAs, colAnys, colAvgsPerRowSet, colCollapse,
    colCounts, colCummaxs, colCummins, colCumprods, colCumsums,
    colDiffs, colIQRDiffs, colIQRs, colLogSumExps, colMadDiffs,
    colMads, colMaxs, colMeans2, colMedians, colMins, colOrderStats,
    colProds, colQuantiles, colRanges, colRanks, colSdDiffs, colSds,
    colSums2, colTabulates, colVarDiffs, colVars, colWeightedMads,
    colWeightedMeans, colWeightedMedians, colWeightedSds,
    colWeightedVars, rowAlls, rowAnyNAs, rowAnys, rowAvgsPerColSet,
    rowCollapse, rowCounts, rowCummaxs, rowCummins, rowCumprods,
    rowCumsums, rowDiffs, rowIQRDiffs, rowIQRs, rowLogSumExps,
    rowMadDiffs, rowMads, rowMaxs, rowMeans2, rowMedians, rowMins,
    rowOrderStats, rowProds, rowQuantiles, rowRanges, rowRanks,
    rowSdDiffs, rowSds, rowSums2, rowTabulates, rowVarDiffs, rowVars,
    rowWeightedMads, rowWeightedMeans, rowWeightedMedians,
    rowWeightedSds, rowWeightedVars

Loading required package: GenomicRanges
Loading required package: stats4
Loading required package: BiocGenerics
Loading required package: generics

Attaching package: 'generics'

The following objects are masked from 'package:base':

    as.difftime, as.factor, as.ordered, intersect, is.element, setdiff,
    setequal, union


Attaching package: 'BiocGenerics'

The following objects are masked from 'package:stats':

    IQR, mad, sd, var, xtabs

The following objects are masked from 'package:base':

    Filter, Find, Map, Position, Reduce, anyDuplicated, aperm, append,
    as.data.frame, basename, cbind, colnames, dirname, do.call,
    duplicated, eval, evalq, get, grep, grepl, is.unsorted, lapply,
    mapply, match, mget, order, paste, pmax, pmax.int, pmin, pmin.int,
    rank, rbind, rownames, sapply, saveRDS, table, tapply, unique,
    unsplit, which.max, which.min

Loading required package: S4Vectors

Attaching package: 'S4Vectors'

The following object is masked from 'package:utils':

    findMatches

The following objects are masked from 'package:base':

    I, expand.grid, unname

Loading required package: IRanges
Loading required package: Seqinfo
Loading required package: Biobase
Welcome to Bioconductor

    Vignettes contain introductory material; view with
    'browseVignettes()'. To cite Bioconductor, see
    'citation("Biobase")', and for packages 'citation("pkgname")'.


Attaching package: 'Biobase'

The following object is masked from 'package:MatrixGenerics':

    rowMedians

The following objects are masked from 'package:matrixStats':

    anyMissing, rowMedians

Loading required package: scuttle
Loading required package: ggplot2
> 
> test_check("scater")
Loading required package: Matrix

Attaching package: 'Matrix'

The following object is masked from 'package:S4Vectors':

    expand

Loading required package: S4Arrays
Loading required package: abind

Attaching package: 'S4Arrays'

The following object is masked from 'package:abind':

    abind

The following object is masked from 'package:base':

    rowsum

Loading required package: SparseArray

Attaching package: 'DelayedArray'

The following objects are masked from 'package:base':

    apply, scale, sweep

[ FAIL 0 | WARN 1 | SKIP 0 | PASS 822 ]

[ FAIL 0 | WARN 1 | SKIP 0 | PASS 822 ]
> 
> proc.time()
   user  system elapsed 
389.385   4.991 435.823 

Example timings

scater.Rcheck/scater-Ex.timings

nameusersystemelapsed
accessors2.2200.0382.262
annotateBMFeatures0.0010.0000.001
bootstraps0.5100.0090.525
defunct0.0010.0000.002
getExplanatoryPCs1.4380.0261.470
getVarianceExplained0.7790.0120.795
ggsce5.3730.1005.508
nexprs0.5320.0050.537
plotColData9.0970.2189.297
plotDots4.9550.0495.027
plotExplanatoryPCs2.3090.0192.408
plotExplanatoryVariables1.6450.0201.734
plotExpression14.552 0.20314.738
plotGroupedHeatmap1.2020.0171.230
plotHeatmap1.1600.0231.203
plotHighestExprs2.6770.0302.718
plotPlatePosition2.9160.0242.951
plotRLE14.086 0.31114.576
plotReducedDim23.771 0.39723.580
plotRowData1.4260.0191.614
plotScater5.8620.1756.895
plot_reddim10.007 0.14711.520
projectReducedDim6.7510.0507.331
retrieveCellInfo0.6710.0210.695
retrieveFeatureInfo0.7140.0060.722
runColDataPCA1.2100.0131.245
runMDS0.8820.0070.921
runMultiUMAP7.5670.0507.951
runNMF0.8430.0090.888
runPCA1.1200.0161.187
runTSNE1.8270.0201.932
runUMAP4.7460.0395.022
toSingleCellExperiment0.0000.0010.001