| Back to Multiple platform build/check report for BioC 3.21: simplified long |
|
This page was generated on 2025-04-22 13:18 -0400 (Tue, 22 Apr 2025).
| Hostname | OS | Arch (*) | R version | Installed pkgs |
|---|---|---|---|---|
| nebbiolo1 | Linux (Ubuntu 24.04.1 LTS) | x86_64 | 4.5.0 RC (2025-04-04 r88126) -- "How About a Twenty-Six" | 4831 |
| palomino7 | Windows Server 2022 Datacenter | x64 | 4.5.0 RC (2025-04-04 r88126 ucrt) -- "How About a Twenty-Six" | 4573 |
| lconway | macOS 12.7.1 Monterey | x86_64 | 4.5.0 RC (2025-04-04 r88126) -- "How About a Twenty-Six" | 4599 |
| kjohnson3 | macOS 13.7.1 Ventura | arm64 | 4.5.0 RC (2025-04-04 r88126) -- "How About a Twenty-Six" | 4553 |
| kunpeng2 | Linux (openEuler 24.03 LTS) | aarch64 | R Under development (unstable) (2025-02-19 r87757) -- "Unsuffered Consequences" | 4570 |
| Click on any hostname to see more info about the system (e.g. compilers) (*) as reported by 'uname -p', except on Windows and Mac OS X | ||||
| Package 1904/2341 | Hostname | OS / Arch | INSTALL | BUILD | CHECK | BUILD BIN | ||||||||
| scDiagnostics 1.2.0 (landing page) Anthony Christidis
| nebbiolo1 | Linux (Ubuntu 24.04.1 LTS) / x86_64 | OK | OK | OK | |||||||||
| palomino7 | Windows Server 2022 Datacenter / x64 | OK | OK | OK | OK | |||||||||
| lconway | macOS 12.7.1 Monterey / x86_64 | OK | OK | OK | OK | |||||||||
| kjohnson3 | macOS 13.7.1 Ventura / arm64 | OK | OK | OK | OK | |||||||||
| kunpeng2 | Linux (openEuler 24.03 LTS) / aarch64 | OK | OK | OK | ||||||||||
|
To the developers/maintainers of the scDiagnostics package: - Allow up to 24 hours (and sometimes 48 hours) for your latest push to git@git.bioconductor.org:packages/scDiagnostics.git to reflect on this report. See Troubleshooting Build Report for more information. - Use the following Renviron settings to reproduce errors and warnings. - If 'R CMD check' started to fail recently on the Linux builder(s) over a missing dependency, add the missing dependency to 'Suggests:' in your DESCRIPTION file. See Renviron.bioc for more information. |
| Package: scDiagnostics |
| Version: 1.2.0 |
| Command: /Library/Frameworks/R.framework/Resources/bin/R CMD check --install=check:scDiagnostics.install-out.txt --library=/Library/Frameworks/R.framework/Resources/library --no-vignettes --timings scDiagnostics_1.2.0.tar.gz |
| StartedAt: 2025-04-21 21:29:10 -0400 (Mon, 21 Apr 2025) |
| EndedAt: 2025-04-21 21:32:03 -0400 (Mon, 21 Apr 2025) |
| EllapsedTime: 173.0 seconds |
| RetCode: 0 |
| Status: OK |
| CheckDir: scDiagnostics.Rcheck |
| Warnings: 0 |
##############################################################################
##############################################################################
###
### Running command:
###
### /Library/Frameworks/R.framework/Resources/bin/R CMD check --install=check:scDiagnostics.install-out.txt --library=/Library/Frameworks/R.framework/Resources/library --no-vignettes --timings scDiagnostics_1.2.0.tar.gz
###
##############################################################################
##############################################################################
* using log directory ‘/Users/biocbuild/bbs-3.21-bioc/meat/scDiagnostics.Rcheck’
* using R version 4.5.0 RC (2025-04-04 r88126)
* using platform: aarch64-apple-darwin20
* R was compiled by
Apple clang version 14.0.0 (clang-1400.0.29.202)
GNU Fortran (GCC) 14.2.0
* running under: macOS Ventura 13.7.1
* using session charset: UTF-8
* using option ‘--no-vignettes’
* checking for file ‘scDiagnostics/DESCRIPTION’ ... OK
* checking extension type ... Package
* this is package ‘scDiagnostics’ version ‘1.2.0’
* package encoding: UTF-8
* checking package namespace information ... OK
* checking package dependencies ... OK
* checking if this is a source package ... OK
* checking if there is a namespace ... OK
* checking for hidden files and directories ... OK
* checking for portable file names ... OK
* checking for sufficient/correct file permissions ... OK
* checking whether package ‘scDiagnostics’ can be installed ... OK
* checking installed package size ... OK
* checking package directory ... OK
* checking ‘build’ directory ... OK
* checking DESCRIPTION meta-information ... OK
* checking top-level files ... OK
* checking for left-over files ... OK
* checking index information ... OK
* checking package subdirectories ... OK
* checking code files for non-ASCII characters ... OK
* checking R files for syntax errors ... OK
* checking whether the package can be loaded ... OK
* checking whether the package can be loaded with stated dependencies ... OK
* checking whether the package can be unloaded cleanly ... OK
* checking whether the namespace can be loaded with stated dependencies ... OK
* checking whether the namespace can be unloaded cleanly ... OK
* checking dependencies in R code ... OK
* checking S3 generic/method consistency ... OK
* checking replacement functions ... OK
* checking foreign function calls ... OK
* checking R code for possible problems ... OK
* checking Rd files ... OK
* checking Rd metadata ... OK
* checking Rd cross-references ... NOTE
Found the following Rd file(s) with Rd \link{} targets missing package
anchors:
argumentCheck.Rd: SingleCellExperiment-class
boxplotPCA.Rd: SingleCellExperiment-class
calculateAveragePairwiseCorrelation.Rd: SingleCellExperiment-class
calculateCellDistances.Rd: SingleCellExperiment-class
calculateCellDistancesSimilarity.Rd: SingleCellExperiment-class
calculateCellSimilarityPCA.Rd: SingleCellExperiment-class
calculateCramerPValue.Rd: SingleCellExperiment-class
calculateDiscriminantSpace.Rd: SingleCellExperiment-class
calculateHotellingPValue.Rd: SingleCellExperiment-class
calculateNearestNeighborProbabilities.Rd: SingleCellExperiment-class
calculateSIRSpace.Rd: SingleCellExperiment-class
calculateVarImpOverlap.Rd: SingleCellExperiment-class
calculateWassersteinDistance.Rd: SingleCellExperiment-class
compareCCA.Rd: SingleCellExperiment-class
comparePCA.Rd: SingleCellExperiment-class
comparePCASubspace.Rd: SingleCellExperiment-class
detectAnomaly.Rd: SingleCellExperiment-class
histQCvsAnnotation.Rd: SingleCellExperiment-class
plotCellTypeMDS.Rd: SingleCellExperiment-class
plotCellTypePCA.Rd: SingleCellExperiment-class
plotGeneExpressionDimred.Rd: SingleCellExperiment-class
plotGeneSetScores.Rd: SingleCellExperiment-class
plotMarkerExpression.Rd: SingleCellExperiment-class
plotPairwiseDistancesDensity.Rd: SingleCellExperiment-class
plotQCvsAnnotation.Rd: SingleCellExperiment-class
projectPCA.Rd: SingleCellExperiment-class
projectSIR.Rd: SingleCellExperiment-class
regressPC.Rd: SingleCellExperiment-class
Please provide package anchors for all Rd \link{} targets not in the
package itself and the base packages.
* checking for missing documentation entries ... OK
* checking for code/documentation mismatches ... OK
* checking Rd \usage sections ... OK
* checking Rd contents ... OK
* checking for unstated dependencies in examples ... OK
* checking contents of ‘data’ directory ... OK
* checking data for non-ASCII characters ... OK
* checking LazyData ... NOTE
'LazyDataCompression' is specified without 'LazyData'
* checking data for ASCII and uncompressed saves ... OK
* checking files in ‘vignettes’ ... OK
* checking examples ... OK
Examples with CPU (user + system) or elapsed time > 5s
user system elapsed
plotCellTypeMDS 9.779 0.054 9.845
calculateCellDistances 6.560 0.273 6.864
calculateCramerPValue 4.622 1.404 6.038
* checking for unstated dependencies in ‘tests’ ... OK
* checking tests ...
Running ‘testthat.R’
OK
* checking for unstated dependencies in vignettes ... OK
* checking package vignettes ... OK
* checking running R code from vignettes ... SKIPPED
* checking re-building of vignette outputs ... SKIPPED
* checking PDF version of manual ... OK
* DONE
Status: 2 NOTEs
See
‘/Users/biocbuild/bbs-3.21-bioc/meat/scDiagnostics.Rcheck/00check.log’
for details.
scDiagnostics.Rcheck/00install.out
############################################################################## ############################################################################## ### ### Running command: ### ### /Library/Frameworks/R.framework/Resources/bin/R CMD INSTALL scDiagnostics ### ############################################################################## ############################################################################## * installing to library ‘/Library/Frameworks/R.framework/Versions/4.5-arm64/Resources/library’ * installing *source* package ‘scDiagnostics’ ... ** this is package ‘scDiagnostics’ version ‘1.2.0’ ** using staged installation ** R ** data ** inst ** byte-compile and prepare package for lazy loading ** help *** installing help indices ** building package indices ** installing vignettes ** testing if installed package can be loaded from temporary location ** testing if installed package can be loaded from final location ** testing if installed package keeps a record of temporary installation path * DONE (scDiagnostics)
scDiagnostics.Rcheck/tests/testthat.Rout
R version 4.5.0 RC (2025-04-04 r88126) -- "How About a Twenty-Six"
Copyright (C) 2025 The R Foundation for Statistical Computing
Platform: aarch64-apple-darwin20
R is free software and comes with ABSOLUTELY NO WARRANTY.
You are welcome to redistribute it under certain conditions.
Type 'license()' or 'licence()' for distribution details.
R is a collaborative project with many contributors.
Type 'contributors()' for more information and
'citation()' on how to cite R or R packages in publications.
Type 'demo()' for some demos, 'help()' for on-line help, or
'help.start()' for an HTML browser interface to help.
Type 'q()' to quit R.
> # This file is part of the standard setup for testthat.
> # It is recommended that you do not modify it.
> #
> # Where should you do additional test configuration?
> # Learn more about the roles of various files in:
> # * https://r-pkgs.org/testing-design.html#sec-tests-files-overview
> # * https://testthat.r-lib.org/articles/special-files.html
>
> library(testthat)
> library(scDiagnostics)
>
> test_check("scDiagnostics")
[ FAIL 0 | WARN 27 | SKIP 0 | PASS 276 ]
[ FAIL 0 | WARN 27 | SKIP 0 | PASS 276 ]
>
> proc.time()
user system elapsed
55.972 4.647 58.124
scDiagnostics.Rcheck/scDiagnostics-Ex.timings
| name | user | system | elapsed | |
| boxplotPCA | 0.895 | 0.016 | 0.916 | |
| calculateAveragePairwiseCorrelation | 0.808 | 0.038 | 0.858 | |
| calculateCategorizationEntropy | 0.004 | 0.000 | 0.004 | |
| calculateCellDistances | 6.560 | 0.273 | 6.864 | |
| calculateCellDistancesSimilarity | 1.899 | 0.119 | 2.052 | |
| calculateCellSimilarityPCA | 0.655 | 0.039 | 0.704 | |
| calculateCramerPValue | 4.622 | 1.404 | 6.038 | |
| calculateDiscriminantSpace | 1.972 | 0.080 | 1.445 | |
| calculateHVGOverlap | 0.445 | 0.021 | 0.472 | |
| calculateHotellingPValue | 0.440 | 0.037 | 0.485 | |
| calculateNearestNeighborProbabilities | 1.147 | 0.033 | 1.183 | |
| calculateSIRSpace | 1.064 | 0.021 | 1.090 | |
| calculateVarImpOverlap | 1.921 | 0.037 | 1.167 | |
| calculateWassersteinDistance | 0.838 | 0.066 | 0.911 | |
| compareCCA | 0.380 | 0.017 | 0.398 | |
| comparePCA | 0.379 | 0.015 | 0.395 | |
| comparePCASubspace | 0.425 | 0.011 | 0.437 | |
| detectAnomaly | 0.777 | 0.043 | 0.825 | |
| histQCvsAnnotation | 0.199 | 0.003 | 0.203 | |
| plot.calculateWassersteinDistanceObject | 0.594 | 0.048 | 0.643 | |
| plotCellTypeMDS | 9.779 | 0.054 | 9.845 | |
| plotCellTypePCA | 0.824 | 0.029 | 0.866 | |
| plotGeneExpressionDimred | 0.524 | 0.011 | 0.535 | |
| plotGeneSetScores | 0.339 | 0.008 | 0.347 | |
| plotMarkerExpression | 0.219 | 0.006 | 0.229 | |
| plotPairwiseDistancesDensity | 0.434 | 0.062 | 0.503 | |
| plotQCvsAnnotation | 0.071 | 0.003 | 0.073 | |
| projectPCA | 0.121 | 0.005 | 0.126 | |
| projectSIR | 0.668 | 0.012 | 0.685 | |
| qc_data | 0.016 | 0.001 | 0.017 | |
| query_data | 0.016 | 0.001 | 0.016 | |
| reference_data | 0.035 | 0.001 | 0.036 | |
| regressPC | 0.578 | 0.037 | 0.617 | |