| Back to Multiple platform build/check report for BioC 3.21: simplified long |
|
This page was generated on 2025-10-16 11:40 -0400 (Thu, 16 Oct 2025).
| Hostname | OS | Arch (*) | R version | Installed pkgs |
|---|---|---|---|---|
| nebbiolo1 | Linux (Ubuntu 24.04.3 LTS) | x86_64 | 4.5.1 (2025-06-13) -- "Great Square Root" | 4833 |
| merida1 | macOS 12.7.6 Monterey | x86_64 | 4.5.1 RC (2025-06-05 r88288) -- "Great Square Root" | 4614 |
| kjohnson1 | macOS 13.7.5 Ventura | arm64 | 4.5.1 Patched (2025-06-14 r88325) -- "Great Square Root" | 4555 |
| kunpeng2 | Linux (openEuler 24.03 LTS) | aarch64 | R Under development (unstable) (2025-02-19 r87757) -- "Unsuffered Consequences" | 4586 |
| Click on any hostname to see more info about the system (e.g. compilers) (*) as reported by 'uname -p', except on Windows and Mac OS X | ||||
| Package 1904/2341 | Hostname | OS / Arch | INSTALL | BUILD | CHECK | BUILD BIN | ||||||||
| scDiagnostics 1.2.0 (landing page) Anthony Christidis
| nebbiolo1 | Linux (Ubuntu 24.04.3 LTS) / x86_64 | OK | OK | OK | |||||||||
| merida1 | macOS 12.7.6 Monterey / x86_64 | OK | OK | OK | OK | |||||||||
| kjohnson1 | macOS 13.7.5 Ventura / arm64 | OK | OK | OK | OK | |||||||||
| kunpeng2 | Linux (openEuler 24.03 LTS) / aarch64 | OK | ERROR | skipped | ||||||||||
|
To the developers/maintainers of the scDiagnostics package: - Allow up to 24 hours (and sometimes 48 hours) for your latest push to git@git.bioconductor.org:packages/scDiagnostics.git to reflect on this report. See Troubleshooting Build Report for more information. - Use the following Renviron settings to reproduce errors and warnings. - If 'R CMD check' started to fail recently on the Linux builder(s) over a missing dependency, add the missing dependency to 'Suggests:' in your DESCRIPTION file. See Renviron.bioc for more information. |
| Package: scDiagnostics |
| Version: 1.2.0 |
| Command: /Library/Frameworks/R.framework/Resources/bin/R CMD check --install=check:scDiagnostics.install-out.txt --library=/Library/Frameworks/R.framework/Resources/library --no-vignettes --timings scDiagnostics_1.2.0.tar.gz |
| StartedAt: 2025-10-15 11:20:04 -0400 (Wed, 15 Oct 2025) |
| EndedAt: 2025-10-15 11:28:57 -0400 (Wed, 15 Oct 2025) |
| EllapsedTime: 532.5 seconds |
| RetCode: 0 |
| Status: OK |
| CheckDir: scDiagnostics.Rcheck |
| Warnings: 0 |
##############################################################################
##############################################################################
###
### Running command:
###
### /Library/Frameworks/R.framework/Resources/bin/R CMD check --install=check:scDiagnostics.install-out.txt --library=/Library/Frameworks/R.framework/Resources/library --no-vignettes --timings scDiagnostics_1.2.0.tar.gz
###
##############################################################################
##############################################################################
* using log directory ‘/Users/biocbuild/bbs-3.21-bioc/meat/scDiagnostics.Rcheck’
* using R version 4.5.1 Patched (2025-06-14 r88325)
* using platform: aarch64-apple-darwin20
* R was compiled by
Apple clang version 16.0.0 (clang-1600.0.26.6)
GNU Fortran (GCC) 14.2.0
* running under: macOS Ventura 13.7.5
* using session charset: UTF-8
* using option ‘--no-vignettes’
* checking for file ‘scDiagnostics/DESCRIPTION’ ... OK
* checking extension type ... Package
* this is package ‘scDiagnostics’ version ‘1.2.0’
* package encoding: UTF-8
* checking package namespace information ... OK
* checking package dependencies ... OK
* checking if this is a source package ... OK
* checking if there is a namespace ... OK
* checking for hidden files and directories ... OK
* checking for portable file names ... OK
* checking for sufficient/correct file permissions ... OK
* checking whether package ‘scDiagnostics’ can be installed ... OK
* checking installed package size ... OK
* checking package directory ... OK
* checking ‘build’ directory ... OK
* checking DESCRIPTION meta-information ... OK
* checking top-level files ... OK
* checking for left-over files ... OK
* checking index information ... OK
* checking package subdirectories ... OK
* checking code files for non-ASCII characters ... OK
* checking R files for syntax errors ... OK
* checking whether the package can be loaded ... OK
* checking whether the package can be loaded with stated dependencies ... OK
* checking whether the package can be unloaded cleanly ... OK
* checking whether the namespace can be loaded with stated dependencies ... OK
* checking whether the namespace can be unloaded cleanly ... OK
* checking dependencies in R code ... OK
* checking S3 generic/method consistency ... OK
* checking replacement functions ... OK
* checking foreign function calls ... OK
* checking R code for possible problems ... OK
* checking Rd files ... OK
* checking Rd metadata ... OK
* checking Rd cross-references ... NOTE
Found the following Rd file(s) with Rd \link{} targets missing package
anchors:
argumentCheck.Rd: SingleCellExperiment-class
boxplotPCA.Rd: SingleCellExperiment-class
calculateAveragePairwiseCorrelation.Rd: SingleCellExperiment-class
calculateCellDistances.Rd: SingleCellExperiment-class
calculateCellDistancesSimilarity.Rd: SingleCellExperiment-class
calculateCellSimilarityPCA.Rd: SingleCellExperiment-class
calculateCramerPValue.Rd: SingleCellExperiment-class
calculateDiscriminantSpace.Rd: SingleCellExperiment-class
calculateHotellingPValue.Rd: SingleCellExperiment-class
calculateNearestNeighborProbabilities.Rd: SingleCellExperiment-class
calculateSIRSpace.Rd: SingleCellExperiment-class
calculateVarImpOverlap.Rd: SingleCellExperiment-class
calculateWassersteinDistance.Rd: SingleCellExperiment-class
compareCCA.Rd: SingleCellExperiment-class
comparePCA.Rd: SingleCellExperiment-class
comparePCASubspace.Rd: SingleCellExperiment-class
detectAnomaly.Rd: SingleCellExperiment-class
histQCvsAnnotation.Rd: SingleCellExperiment-class
plotCellTypeMDS.Rd: SingleCellExperiment-class
plotCellTypePCA.Rd: SingleCellExperiment-class
plotGeneExpressionDimred.Rd: SingleCellExperiment-class
plotGeneSetScores.Rd: SingleCellExperiment-class
plotMarkerExpression.Rd: SingleCellExperiment-class
plotPairwiseDistancesDensity.Rd: SingleCellExperiment-class
plotQCvsAnnotation.Rd: SingleCellExperiment-class
projectPCA.Rd: SingleCellExperiment-class
projectSIR.Rd: SingleCellExperiment-class
regressPC.Rd: SingleCellExperiment-class
Please provide package anchors for all Rd \link{} targets not in the
package itself and the base packages.
* checking for missing documentation entries ... OK
* checking for code/documentation mismatches ... OK
* checking Rd \usage sections ... OK
* checking Rd contents ... OK
* checking for unstated dependencies in examples ... OK
* checking contents of ‘data’ directory ... OK
* checking data for non-ASCII characters ... OK
* checking LazyData ... NOTE
'LazyDataCompression' is specified without 'LazyData'
* checking data for ASCII and uncompressed saves ... OK
* checking files in ‘vignettes’ ... OK
* checking examples ... OK
Examples with CPU (user + system) or elapsed time > 5s
user system elapsed
plotCellTypeMDS 30.095 0.285 30.570
calculateCellDistances 18.067 0.787 18.965
calculateCramerPValue 11.716 2.999 14.858
calculateDiscriminantSpace 6.323 0.205 4.890
calculateCellDistancesSimilarity 6.043 0.318 6.441
calculateVarImpOverlap 6.006 0.156 3.783
* checking for unstated dependencies in ‘tests’ ... OK
* checking tests ...
Running ‘testthat.R’
OK
* checking for unstated dependencies in vignettes ... OK
* checking package vignettes ... OK
* checking running R code from vignettes ... SKIPPED
* checking re-building of vignette outputs ... SKIPPED
* checking PDF version of manual ... OK
* DONE
Status: 2 NOTEs
See
‘/Users/biocbuild/bbs-3.21-bioc/meat/scDiagnostics.Rcheck/00check.log’
for details.
scDiagnostics.Rcheck/00install.out
############################################################################## ############################################################################## ### ### Running command: ### ### /Library/Frameworks/R.framework/Resources/bin/R CMD INSTALL scDiagnostics ### ############################################################################## ############################################################################## * installing to library ‘/Library/Frameworks/R.framework/Versions/4.5-arm64/Resources/library’ * installing *source* package ‘scDiagnostics’ ... ** this is package ‘scDiagnostics’ version ‘1.2.0’ ** using staged installation ** R ** data ** inst ** byte-compile and prepare package for lazy loading ** help *** installing help indices ** building package indices ** installing vignettes ** testing if installed package can be loaded from temporary location ** testing if installed package can be loaded from final location ** testing if installed package keeps a record of temporary installation path * DONE (scDiagnostics)
scDiagnostics.Rcheck/tests/testthat.Rout
R version 4.5.1 Patched (2025-06-14 r88325) -- "Great Square Root"
Copyright (C) 2025 The R Foundation for Statistical Computing
Platform: aarch64-apple-darwin20
R is free software and comes with ABSOLUTELY NO WARRANTY.
You are welcome to redistribute it under certain conditions.
Type 'license()' or 'licence()' for distribution details.
R is a collaborative project with many contributors.
Type 'contributors()' for more information and
'citation()' on how to cite R or R packages in publications.
Type 'demo()' for some demos, 'help()' for on-line help, or
'help.start()' for an HTML browser interface to help.
Type 'q()' to quit R.
> # This file is part of the standard setup for testthat.
> # It is recommended that you do not modify it.
> #
> # Where should you do additional test configuration?
> # Learn more about the roles of various files in:
> # * https://r-pkgs.org/testing-design.html#sec-tests-files-overview
> # * https://testthat.r-lib.org/articles/special-files.html
>
> library(testthat)
> library(scDiagnostics)
>
> test_check("scDiagnostics")
[ FAIL 0 | WARN 28 | SKIP 0 | PASS 276 ]
[ FAIL 0 | WARN 28 | SKIP 0 | PASS 276 ]
>
> proc.time()
user system elapsed
177.717 10.877 182.038
scDiagnostics.Rcheck/scDiagnostics-Ex.timings
| name | user | system | elapsed | |
| boxplotPCA | 3.258 | 0.110 | 3.371 | |
| calculateAveragePairwiseCorrelation | 3.673 | 0.150 | 3.843 | |
| calculateCategorizationEntropy | 0.052 | 0.002 | 0.053 | |
| calculateCellDistances | 18.067 | 0.787 | 18.965 | |
| calculateCellDistancesSimilarity | 6.043 | 0.318 | 6.441 | |
| calculateCellSimilarityPCA | 2.506 | 0.108 | 2.690 | |
| calculateCramerPValue | 11.716 | 2.999 | 14.858 | |
| calculateDiscriminantSpace | 6.323 | 0.205 | 4.890 | |
| calculateHVGOverlap | 1.515 | 0.070 | 1.653 | |
| calculateHotellingPValue | 1.486 | 0.051 | 1.552 | |
| calculateNearestNeighborProbabilities | 1.904 | 0.065 | 1.982 | |
| calculateSIRSpace | 4.005 | 0.113 | 4.135 | |
| calculateVarImpOverlap | 6.006 | 0.156 | 3.783 | |
| calculateWassersteinDistance | 2.360 | 0.120 | 2.625 | |
| compareCCA | 1.452 | 0.053 | 1.536 | |
| comparePCA | 1.509 | 0.045 | 1.563 | |
| comparePCASubspace | 1.689 | 0.047 | 1.752 | |
| detectAnomaly | 3.261 | 0.132 | 3.524 | |
| histQCvsAnnotation | 1.016 | 0.016 | 1.064 | |
| plot.calculateWassersteinDistanceObject | 2.280 | 0.229 | 2.671 | |
| plotCellTypeMDS | 30.095 | 0.285 | 30.570 | |
| plotCellTypePCA | 1.950 | 0.083 | 2.045 | |
| plotGeneExpressionDimred | 2.034 | 0.046 | 2.089 | |
| plotGeneSetScores | 1.486 | 0.023 | 1.516 | |
| plotMarkerExpression | 0.855 | 0.018 | 0.875 | |
| plotPairwiseDistancesDensity | 1.424 | 0.145 | 1.577 | |
| plotQCvsAnnotation | 0.365 | 0.010 | 0.379 | |
| projectPCA | 0.411 | 0.038 | 0.452 | |
| projectSIR | 1.994 | 0.041 | 2.072 | |
| qc_data | 0.048 | 0.007 | 0.064 | |
| query_data | 0.044 | 0.005 | 0.051 | |
| reference_data | 0.106 | 0.008 | 0.127 | |
| regressPC | 2.397 | 0.070 | 2.542 | |