| Back to Multiple platform build/check report for BioC 3.21: simplified long |
|
This page was generated on 2025-04-22 13:17 -0400 (Tue, 22 Apr 2025).
| Hostname | OS | Arch (*) | R version | Installed pkgs |
|---|---|---|---|---|
| nebbiolo1 | Linux (Ubuntu 24.04.1 LTS) | x86_64 | 4.5.0 RC (2025-04-04 r88126) -- "How About a Twenty-Six" | 4831 |
| palomino7 | Windows Server 2022 Datacenter | x64 | 4.5.0 RC (2025-04-04 r88126 ucrt) -- "How About a Twenty-Six" | 4573 |
| lconway | macOS 12.7.1 Monterey | x86_64 | 4.5.0 RC (2025-04-04 r88126) -- "How About a Twenty-Six" | 4599 |
| kjohnson3 | macOS 13.7.1 Ventura | arm64 | 4.5.0 RC (2025-04-04 r88126) -- "How About a Twenty-Six" | 4553 |
| kunpeng2 | Linux (openEuler 24.03 LTS) | aarch64 | R Under development (unstable) (2025-02-19 r87757) -- "Unsuffered Consequences" | 4570 |
| Click on any hostname to see more info about the system (e.g. compilers) (*) as reported by 'uname -p', except on Windows and Mac OS X | ||||
| Package 2097/2341 | Hostname | OS / Arch | INSTALL | BUILD | CHECK | BUILD BIN | ||||||||
| sRACIPE 2.0.0 (landing page) Mingyang Lu
| nebbiolo1 | Linux (Ubuntu 24.04.1 LTS) / x86_64 | OK | OK | OK | |||||||||
| palomino7 | Windows Server 2022 Datacenter / x64 | OK | OK | OK | OK | |||||||||
| lconway | macOS 12.7.1 Monterey / x86_64 | OK | OK | OK | OK | |||||||||
| kjohnson3 | macOS 13.7.1 Ventura / arm64 | OK | OK | OK | OK | |||||||||
| kunpeng2 | Linux (openEuler 24.03 LTS) / aarch64 | OK | OK | OK | ||||||||||
|
To the developers/maintainers of the sRACIPE package: - Allow up to 24 hours (and sometimes 48 hours) for your latest push to git@git.bioconductor.org:packages/sRACIPE.git to reflect on this report. See Troubleshooting Build Report for more information. - Use the following Renviron settings to reproduce errors and warnings. - If 'R CMD check' started to fail recently on the Linux builder(s) over a missing dependency, add the missing dependency to 'Suggests:' in your DESCRIPTION file. See Renviron.bioc for more information. |
| Package: sRACIPE |
| Version: 2.0.0 |
| Command: /Library/Frameworks/R.framework/Resources/bin/R CMD check --install=check:sRACIPE.install-out.txt --library=/Library/Frameworks/R.framework/Resources/library --no-vignettes --timings sRACIPE_2.0.0.tar.gz |
| StartedAt: 2025-04-21 23:52:05 -0400 (Mon, 21 Apr 2025) |
| EndedAt: 2025-04-21 23:55:39 -0400 (Mon, 21 Apr 2025) |
| EllapsedTime: 213.5 seconds |
| RetCode: 0 |
| Status: OK |
| CheckDir: sRACIPE.Rcheck |
| Warnings: 0 |
##############################################################################
##############################################################################
###
### Running command:
###
### /Library/Frameworks/R.framework/Resources/bin/R CMD check --install=check:sRACIPE.install-out.txt --library=/Library/Frameworks/R.framework/Resources/library --no-vignettes --timings sRACIPE_2.0.0.tar.gz
###
##############################################################################
##############################################################################
* using log directory ‘/Users/biocbuild/bbs-3.21-bioc/meat/sRACIPE.Rcheck’
* using R version 4.5.0 RC (2025-04-04 r88126)
* using platform: x86_64-apple-darwin20
* R was compiled by
Apple clang version 14.0.0 (clang-1400.0.29.202)
GNU Fortran (GCC) 14.2.0
* running under: macOS Monterey 12.7.6
* using session charset: UTF-8
* using option ‘--no-vignettes’
* checking for file ‘sRACIPE/DESCRIPTION’ ... OK
* checking extension type ... Package
* this is package ‘sRACIPE’ version ‘2.0.0’
* package encoding: UTF-8
* checking package namespace information ... OK
* checking package dependencies ... OK
* checking if this is a source package ... OK
* checking if there is a namespace ... OK
* checking for hidden files and directories ... OK
* checking for portable file names ... OK
* checking for sufficient/correct file permissions ... OK
* checking whether package ‘sRACIPE’ can be installed ... OK
* used C++ compiler: ‘Apple clang version 14.0.0 (clang-1400.0.29.202)’
* used SDK: ‘MacOSX11.3.sdk’
* checking C++ specification ... NOTE
Specified C++11: please drop specification unless essential
* checking installed package size ... OK
* checking package directory ... OK
* checking ‘build’ directory ... OK
* checking DESCRIPTION meta-information ... NOTE
License stub is invalid DCF.
* checking top-level files ... OK
* checking for left-over files ... OK
* checking index information ... OK
* checking package subdirectories ... OK
* checking code files for non-ASCII characters ... OK
* checking R files for syntax errors ... OK
* checking whether the package can be loaded ... OK
* checking whether the package can be loaded with stated dependencies ... OK
* checking whether the package can be unloaded cleanly ... OK
* checking whether the namespace can be loaded with stated dependencies ... OK
* checking whether the namespace can be unloaded cleanly ... OK
* checking dependencies in R code ... OK
* checking S3 generic/method consistency ... OK
* checking replacement functions ... OK
* checking foreign function calls ... OK
* checking R code for possible problems ... NOTE
sracipeSimulate: no visible binding for global variable
‘configurationTmp’
sracipeSimulate: no visible binding for global variable ‘outFileGETmp’
sracipeSimulate: no visible binding for global variable
‘outFileParamsTmp’
sracipeSimulate: no visible binding for global variable ‘outFileICTmp’
sracipeSimulate: no visible binding for global variable
‘outFileConvergeTmp’
sracipeConvergeDist,RacipeSE: no visible global function definition for
‘polygon’
Undefined global functions or variables:
configurationTmp outFileConvergeTmp outFileGETmp outFileICTmp
outFileParamsTmp polygon
Consider adding
importFrom("graphics", "polygon")
to your NAMESPACE file.
* checking Rd files ... NOTE
checkRd: (-1) sracipeHeatmapSimilarity.Rd:31: Lost braces
31 | If clusterCut is missing, hierarchical clustering using /code{ward.D2}
| ^
checkRd: (-1) sracipeHeatmapSimilarity.Rd:32: Lost braces
32 | and /code{distance = (1-cor(x, method = "spear"))/2} will be used to
| ^
* checking Rd metadata ... OK
* checking Rd cross-references ... NOTE
Found the following Rd file(s) with Rd \link{} targets missing package
anchors:
RacipeSE-class.Rd: SummarizedExperiment
RacipeSE.Rd: SummarizedExperiment
Please provide package anchors for all Rd \link{} targets not in the
package itself and the base packages.
* checking for missing documentation entries ... OK
* checking for code/documentation mismatches ... OK
* checking Rd \usage sections ... OK
* checking Rd contents ... OK
* checking for unstated dependencies in examples ... OK
* checking contents of ‘data’ directory ... OK
* checking data for non-ASCII characters ... OK
* checking LazyData ... OK
* checking data for ASCII and uncompressed saves ... OK
* checking line endings in C/C++/Fortran sources/headers ... OK
* checking line endings in Makefiles ... OK
* checking compilation flags in Makevars ... OK
* checking for GNU extensions in Makefiles ... OK
* checking for portable use of $(BLAS_LIBS) and $(LAPACK_LIBS) ... OK
* checking use of PKG_*FLAGS in Makefiles ... OK
* checking compiled code ... NOTE
Note: information on .o files is not available
* checking files in ‘vignettes’ ... OK
* checking examples ... OK
Examples with CPU (user + system) or elapsed time > 5s
user system elapsed
sracipeSimulate 24.671 0.102 24.873
* checking for unstated dependencies in vignettes ... OK
* checking package vignettes ... OK
* checking running R code from vignettes ... SKIPPED
* checking re-building of vignette outputs ... SKIPPED
* checking PDF version of manual ... OK
* DONE
Status: 6 NOTEs
See
‘/Users/biocbuild/bbs-3.21-bioc/meat/sRACIPE.Rcheck/00check.log’
for details.
sRACIPE.Rcheck/00install.out
##############################################################################
##############################################################################
###
### Running command:
###
### /Library/Frameworks/R.framework/Resources/bin/R CMD INSTALL sRACIPE
###
##############################################################################
##############################################################################
* installing to library ‘/Library/Frameworks/R.framework/Versions/4.5-x86_64/Resources/library’
* installing *source* package ‘sRACIPE’ ...
** this is package ‘sRACIPE’ version ‘2.0.0’
** using staged installation
** libs
using C++ compiler: ‘Apple clang version 14.0.0 (clang-1400.0.29.202)’
using C++11
using SDK: ‘MacOSX11.3.sdk’
clang++ -arch x86_64 -std=gnu++11 -I"/Library/Frameworks/R.framework/Resources/include" -DNDEBUG -I'/Library/Frameworks/R.framework/Versions/4.5-x86_64/Resources/library/Rcpp/include' -I/opt/R/x86_64/include -fPIC -falign-functions=64 -Wall -g -O2 -c RcppExports.cpp -o RcppExports.o
clang++ -arch x86_64 -std=gnu++11 -I"/Library/Frameworks/R.framework/Resources/include" -DNDEBUG -I'/Library/Frameworks/R.framework/Versions/4.5-x86_64/Resources/library/Rcpp/include' -I/opt/R/x86_64/include -fPIC -falign-functions=64 -Wall -g -O2 -c generateThresholds.cpp -o generateThresholds.o
clang++ -arch x86_64 -std=gnu++11 -I"/Library/Frameworks/R.framework/Resources/include" -DNDEBUG -I'/Library/Frameworks/R.framework/Versions/4.5-x86_64/Resources/library/Rcpp/include' -I/opt/R/x86_64/include -fPIC -falign-functions=64 -Wall -g -O2 -c header.cpp -o header.o
clang++ -arch x86_64 -std=gnu++11 -I"/Library/Frameworks/R.framework/Resources/include" -DNDEBUG -I'/Library/Frameworks/R.framework/Versions/4.5-x86_64/Resources/library/Rcpp/include' -I/opt/R/x86_64/include -fPIC -falign-functions=64 -Wall -g -O2 -c limitcycle.cpp -o limitcycle.o
clang++ -arch x86_64 -std=gnu++11 -I"/Library/Frameworks/R.framework/Resources/include" -DNDEBUG -I'/Library/Frameworks/R.framework/Versions/4.5-x86_64/Resources/library/Rcpp/include' -I/opt/R/x86_64/include -fPIC -falign-functions=64 -Wall -g -O2 -c simulateGRC.cpp -o simulateGRC.o
clang++ -arch x86_64 -std=gnu++11 -I"/Library/Frameworks/R.framework/Resources/include" -DNDEBUG -I'/Library/Frameworks/R.framework/Versions/4.5-x86_64/Resources/library/Rcpp/include' -I/opt/R/x86_64/include -fPIC -falign-functions=64 -Wall -g -O2 -c steppers.cpp -o steppers.o
clang++ -arch x86_64 -std=gnu++11 -I"/Library/Frameworks/R.framework/Resources/include" -DNDEBUG -I'/Library/Frameworks/R.framework/Versions/4.5-x86_64/Resources/library/Rcpp/include' -I/opt/R/x86_64/include -fPIC -falign-functions=64 -Wall -g -O2 -c steppersConv.cpp -o steppersConv.o
steppersConv.cpp:37:10: warning: variable 'i' set but not used [-Wunused-but-set-variable]
double i=0.0;
^
steppersConv.cpp:170:8: warning: variable 'i' set but not used [-Wunused-but-set-variable]
double i=0.0;
^
steppersConv.cpp:422:10: warning: variable 'i' set but not used [-Wunused-but-set-variable]
double i=0.0;
^
3 warnings generated.
clang++ -arch x86_64 -std=gnu++11 -dynamiclib -Wl,-headerpad_max_install_names -undefined dynamic_lookup -L/Library/Frameworks/R.framework/Resources/lib -L/opt/R/x86_64/lib -o sRACIPE.so RcppExports.o generateThresholds.o header.o limitcycle.o simulateGRC.o steppers.o steppersConv.o -F/Library/Frameworks/R.framework/.. -framework R
installing to /Library/Frameworks/R.framework/Versions/4.5-x86_64/Resources/library/00LOCK-sRACIPE/00new/sRACIPE/libs
** R
** data
*** moving datasets to lazyload DB
** inst
** byte-compile and prepare package for lazy loading
** help
*** installing help indices
** building package indices
** installing vignettes
** testing if installed package can be loaded from temporary location
** checking absolute paths in shared objects and dynamic libraries
** testing if installed package can be loaded from final location
** testing if installed package keeps a record of temporary installation path
* DONE (sRACIPE)
sRACIPE.Rcheck/sRACIPE-Ex.timings
| name | user | system | elapsed | |
| RacipeSE | 0.036 | 0.002 | 0.038 | |
| annotation-RacipeSE-method | 1.985 | 0.078 | 2.073 | |
| annotation-set-RacipeSE-ANY-method | 1.251 | 0.023 | 1.277 | |
| sracipeCircuit-set | 0.029 | 0.003 | 0.032 | |
| sracipeCircuit | 0.034 | 0.003 | 0.037 | |
| sracipeCombineRacipeSE | 0.001 | 0.002 | 0.004 | |
| sracipeConfig-set | 0.011 | 0.001 | 0.013 | |
| sracipeConfig | 0.033 | 0.004 | 0.038 | |
| sracipeConverge | 0.364 | 0.008 | 0.375 | |
| sracipeConvergeDist | 0.001 | 0.002 | 0.003 | |
| sracipeGenParamNames | 0.032 | 0.002 | 0.034 | |
| sracipeGetTS | 0.085 | 0.008 | 0.094 | |
| sracipeIC-set | 0.140 | 0.009 | 0.151 | |
| sracipeIC | 0.057 | 0.008 | 0.065 | |
| sracipeKnockDown | 0.001 | 0.001 | 0.002 | |
| sracipeNormalize | 0.176 | 0.009 | 0.187 | |
| sracipeOverExp | 0.001 | 0.001 | 0.003 | |
| sracipeParams-set | 0.093 | 0.008 | 0.102 | |
| sracipeParams | 0.097 | 0.009 | 0.107 | |
| sracipePlotCircuit | 0.002 | 0.003 | 0.003 | |
| sracipePlotData | 0.001 | 0.002 | 0.003 | |
| sracipePlotParamBifur | 0.001 | 0.002 | 0.003 | |
| sracipeSimulate | 24.671 | 0.102 | 24.873 | |
| sracipeUniqueStates | 0.002 | 0.002 | 0.003 | |