| Back to Multiple platform build/check report for BioC 3.21: simplified long |
|
This page was generated on 2025-04-22 13:17 -0400 (Tue, 22 Apr 2025).
| Hostname | OS | Arch (*) | R version | Installed pkgs |
|---|---|---|---|---|
| nebbiolo1 | Linux (Ubuntu 24.04.1 LTS) | x86_64 | 4.5.0 RC (2025-04-04 r88126) -- "How About a Twenty-Six" | 4831 |
| palomino7 | Windows Server 2022 Datacenter | x64 | 4.5.0 RC (2025-04-04 r88126 ucrt) -- "How About a Twenty-Six" | 4573 |
| lconway | macOS 12.7.1 Monterey | x86_64 | 4.5.0 RC (2025-04-04 r88126) -- "How About a Twenty-Six" | 4599 |
| kjohnson3 | macOS 13.7.1 Ventura | arm64 | 4.5.0 RC (2025-04-04 r88126) -- "How About a Twenty-Six" | 4553 |
| kunpeng2 | Linux (openEuler 24.03 LTS) | aarch64 | R Under development (unstable) (2025-02-19 r87757) -- "Unsuffered Consequences" | 4570 |
| Click on any hostname to see more info about the system (e.g. compilers) (*) as reported by 'uname -p', except on Windows and Mac OS X | ||||
| Package 1737/2341 | Hostname | OS / Arch | INSTALL | BUILD | CHECK | BUILD BIN | ||||||||
| recountmethylation 1.18.0 (landing page) Sean K Maden
| nebbiolo1 | Linux (Ubuntu 24.04.1 LTS) / x86_64 | OK | OK | OK | |||||||||
| palomino7 | Windows Server 2022 Datacenter / x64 | OK | OK | OK | OK | |||||||||
| lconway | macOS 12.7.1 Monterey / x86_64 | OK | OK | OK | OK | |||||||||
| kjohnson3 | macOS 13.7.1 Ventura / arm64 | OK | OK | OK | OK | |||||||||
| kunpeng2 | Linux (openEuler 24.03 LTS) / aarch64 | OK | OK | OK | ||||||||||
|
To the developers/maintainers of the recountmethylation package: - Allow up to 24 hours (and sometimes 48 hours) for your latest push to git@git.bioconductor.org:packages/recountmethylation.git to reflect on this report. See Troubleshooting Build Report for more information. - Use the following Renviron settings to reproduce errors and warnings. - If 'R CMD check' started to fail recently on the Linux builder(s) over a missing dependency, add the missing dependency to 'Suggests:' in your DESCRIPTION file. See Renviron.bioc for more information. |
| Package: recountmethylation |
| Version: 1.18.0 |
| Command: /Library/Frameworks/R.framework/Resources/bin/R CMD check --install=check:recountmethylation.install-out.txt --library=/Library/Frameworks/R.framework/Resources/library --no-vignettes --timings recountmethylation_1.18.0.tar.gz |
| StartedAt: 2025-04-21 22:57:35 -0400 (Mon, 21 Apr 2025) |
| EndedAt: 2025-04-21 22:59:11 -0400 (Mon, 21 Apr 2025) |
| EllapsedTime: 96.0 seconds |
| RetCode: 0 |
| Status: OK |
| CheckDir: recountmethylation.Rcheck |
| Warnings: 0 |
##############################################################################
##############################################################################
###
### Running command:
###
### /Library/Frameworks/R.framework/Resources/bin/R CMD check --install=check:recountmethylation.install-out.txt --library=/Library/Frameworks/R.framework/Resources/library --no-vignettes --timings recountmethylation_1.18.0.tar.gz
###
##############################################################################
##############################################################################
* using log directory ‘/Users/biocbuild/bbs-3.21-bioc/meat/recountmethylation.Rcheck’
* using R version 4.5.0 RC (2025-04-04 r88126)
* using platform: x86_64-apple-darwin20
* R was compiled by
Apple clang version 14.0.0 (clang-1400.0.29.202)
GNU Fortran (GCC) 14.2.0
* running under: macOS Monterey 12.7.6
* using session charset: UTF-8
* using option ‘--no-vignettes’
* checking for file ‘recountmethylation/DESCRIPTION’ ... OK
* this is package ‘recountmethylation’ version ‘1.18.0’
* package encoding: UTF-8
* checking package namespace information ... OK
* checking package dependencies ... OK
* checking if this is a source package ... OK
* checking if there is a namespace ... OK
* checking for hidden files and directories ... OK
* checking for portable file names ... OK
* checking for sufficient/correct file permissions ... OK
* checking whether package ‘recountmethylation’ can be installed ... OK
* checking installed package size ... OK
* checking package directory ... OK
* checking ‘build’ directory ... OK
* checking DESCRIPTION meta-information ... OK
* checking top-level files ... OK
* checking for left-over files ... OK
* checking index information ... OK
* checking package subdirectories ... OK
* checking code files for non-ASCII characters ... OK
* checking R files for syntax errors ... OK
* checking whether the package can be loaded ... OK
* checking whether the package can be loaded with stated dependencies ... OK
* checking whether the package can be unloaded cleanly ... OK
* checking whether the namespace can be loaded with stated dependencies ... OK
* checking whether the namespace can be unloaded cleanly ... OK
* checking whether startup messages can be suppressed ... OK
* checking dependencies in R code ... OK
* checking S3 generic/method consistency ... OK
* checking replacement functions ... OK
* checking foreign function calls ... OK
* checking R code for possible problems ... NOTE
get_fh : <anonymous>: no visible global function definition for
‘make_fhmatrix_autolabel’
make_si : <anonymous>: no visible global function definition for
‘make_hnsw_si’
query_si: no visible binding for global variable ‘v’
query_si : <anonymous>: no visible global function definition for
‘make_dfk_sampleid’
Undefined global functions or variables:
make_dfk_sampleid make_fhmatrix_autolabel make_hnsw_si v
* checking Rd files ... OK
* checking Rd metadata ... OK
* checking Rd cross-references ... OK
* checking for missing documentation entries ... OK
* checking for code/documentation mismatches ... OK
* checking Rd \usage sections ... OK
* checking Rd contents ... OK
* checking for unstated dependencies in examples ... OK
* checking files in ‘vignettes’ ... OK
* checking examples ... OK
Examples with CPU (user + system) or elapsed time > 5s
user system elapsed
bactrl 15.730 0.771 16.649
gds_idat2rg 5.917 0.566 9.415
get_rmdl 0.086 0.020 6.239
* checking for unstated dependencies in ‘tests’ ... OK
* checking tests ...
Running ‘test-servermatrix.R’
OK
* checking for unstated dependencies in vignettes ... OK
* checking package vignettes ... OK
* checking running R code from vignettes ... SKIPPED
* checking re-building of vignette outputs ... SKIPPED
* checking PDF version of manual ... OK
* DONE
Status: 1 NOTE
See
‘/Users/biocbuild/bbs-3.21-bioc/meat/recountmethylation.Rcheck/00check.log’
for details.
recountmethylation.Rcheck/00install.out
############################################################################## ############################################################################## ### ### Running command: ### ### /Library/Frameworks/R.framework/Resources/bin/R CMD INSTALL recountmethylation ### ############################################################################## ############################################################################## * installing to library ‘/Library/Frameworks/R.framework/Versions/4.5-x86_64/Resources/library’ * installing *source* package ‘recountmethylation’ ... ** this is package ‘recountmethylation’ version ‘1.18.0’ ** using staged installation ** R ** inst ** byte-compile and prepare package for lazy loading ** help *** installing help indices ** building package indices ** installing vignettes ** testing if installed package can be loaded from temporary location ** testing if installed package can be loaded from final location ** testing if installed package keeps a record of temporary installation path * DONE (recountmethylation)
recountmethylation.Rcheck/tests/test-servermatrix.Rout
R version 4.5.0 RC (2025-04-04 r88126) -- "How About a Twenty-Six"
Copyright (C) 2025 The R Foundation for Statistical Computing
Platform: x86_64-apple-darwin20
R is free software and comes with ABSOLUTELY NO WARRANTY.
You are welcome to redistribute it under certain conditions.
Type 'license()' or 'licence()' for distribution details.
R is a collaborative project with many contributors.
Type 'contributors()' for more information and
'citation()' on how to cite R or R packages in publications.
Type 'demo()' for some demos, 'help()' for on-line help, or
'help.start()' for an HTML browser interface to help.
Type 'q()' to quit R.
> testthat::context("Test the server matrix properties")
>
> testthat::test_that("Properties of server matrix returned from get_rmdl
+ and servermatrix", {
+ sm <- recountmethylation::get_servermatrix()
+ testthat::expect_true(is(sm, "matrix"))
+ testthat::expect_equal(ncol(sm), 4)
+ testthat::expect_true(is(sm[,1], "character"))
+ })
Test passed 😸
>
> proc.time()
user system elapsed
1.374 0.156 6.576
recountmethylation.Rcheck/recountmethylation-Ex.timings
| name | user | system | elapsed | |
| bactrl | 15.730 | 0.771 | 16.649 | |
| bathresh | 0.002 | 0.000 | 0.003 | |
| data_mdpost | 0.011 | 0.002 | 0.014 | |
| gds_idat2rg | 5.917 | 0.566 | 9.415 | |
| gds_idatquery | 1.474 | 0.372 | 4.117 | |
| get_crossreactive_cpgs | 0.135 | 0.009 | 0.147 | |
| get_fh | 0.001 | 0.000 | 0.000 | |
| get_qcsignal | 2.51 | 0.14 | 2.69 | |
| get_rmdl | 0.086 | 0.020 | 6.239 | |
| get_servermatrix | 0.004 | 0.001 | 0.005 | |
| getdb | 0.001 | 0.000 | 0.001 | |
| getrg | 0.203 | 0.028 | 0.231 | |
| hread | 0.006 | 0.001 | 0.007 | |
| make_si | 0 | 0 | 0 | |
| matchds_1to2 | 0.001 | 0.001 | 0.001 | |
| query_si | 0.000 | 0.001 | 0.001 | |
| rgse | 0.079 | 0.008 | 0.088 | |
| servermatrix | 0.007 | 0.002 | 0.304 | |
| smfilt | 0.002 | 0.000 | 0.002 | |