Back to Multiple platform build/check report for BioC 3.20:   simplified   long
ABCDEFGHIJKLMNOPQ[R]STUVWXYZ

This page was generated on 2024-11-20 12:02 -0500 (Wed, 20 Nov 2024).

HostnameOSArch (*)R versionInstalled pkgs
teran2Linux (Ubuntu 24.04.1 LTS)x86_644.4.2 (2024-10-31) -- "Pile of Leaves" 4481
nebbiolo2Linux (Ubuntu 24.04.1 LTS)x86_644.4.2 (2024-10-31) -- "Pile of Leaves" 4479
palomino8Windows Server 2022 Datacenterx644.4.2 (2024-10-31 ucrt) -- "Pile of Leaves" 4359
lconwaymacOS 12.7.1 Montereyx86_644.4.1 (2024-06-14) -- "Race for Your Life" 4539
kunpeng2Linux (openEuler 22.03 LTS-SP1)aarch644.4.1 (2024-06-14) -- "Race for Your Life" 4493
Click on any hostname to see more info about the system (e.g. compilers)      (*) as reported by 'uname -p', except on Windows and Mac OS X

Package 1830/2289HostnameOS / ArchINSTALLBUILDCHECKBUILD BIN
rWikiPathways 1.26.0  (landing page)
Egon Willighagen
Snapshot Date: 2024-11-19 13:40 -0500 (Tue, 19 Nov 2024)
git_url: https://git.bioconductor.org/packages/rWikiPathways
git_branch: RELEASE_3_20
git_last_commit: 8619a89
git_last_commit_date: 2024-10-29 10:27:20 -0500 (Tue, 29 Oct 2024)
teran2Linux (Ubuntu 24.04.1 LTS) / x86_64  OK    OK    OK  UNNEEDED, same version is already published
nebbiolo2Linux (Ubuntu 24.04.1 LTS) / x86_64  OK    OK    OK  
palomino8Windows Server 2022 Datacenter / x64  OK    OK    OK    OK  UNNEEDED, same version is already published
lconwaymacOS 12.7.1 Monterey / x86_64  OK    OK    OK    OK  UNNEEDED, same version is already published
kunpeng2Linux (openEuler 22.03 LTS-SP1) / aarch64  OK    OK    OK  


CHECK results for rWikiPathways on teran2

To the developers/maintainers of the rWikiPathways package:
- Allow up to 24 hours (and sometimes 48 hours) for your latest push to git@git.bioconductor.org:packages/rWikiPathways.git to reflect on this report. See Troubleshooting Build Report for more information.
- Use the following Renviron settings to reproduce errors and warnings.
- If 'R CMD check' started to fail recently on the Linux builder(s) over a missing dependency, add the missing dependency to 'Suggests:' in your DESCRIPTION file. See Renviron.bioc for more information.

raw results


Summary

Package: rWikiPathways
Version: 1.26.0
Command: /home/biocbuild/bbs-3.20-bioc/R/bin/R CMD check --install=check:rWikiPathways.install-out.txt --library=/home/biocbuild/bbs-3.20-bioc/R/site-library --timings rWikiPathways_1.26.0.tar.gz
StartedAt: 2024-11-20 08:53:43 -0500 (Wed, 20 Nov 2024)
EndedAt: 2024-11-20 08:56:01 -0500 (Wed, 20 Nov 2024)
EllapsedTime: 138.9 seconds
RetCode: 0
Status:   OK  
CheckDir: rWikiPathways.Rcheck
Warnings: 0

Command output

##############################################################################
##############################################################################
###
### Running command:
###
###   /home/biocbuild/bbs-3.20-bioc/R/bin/R CMD check --install=check:rWikiPathways.install-out.txt --library=/home/biocbuild/bbs-3.20-bioc/R/site-library --timings rWikiPathways_1.26.0.tar.gz
###
##############################################################################
##############################################################################


* using log directory ‘/media/volume/teran2_disk/biocbuild/bbs-3.20-bioc/meat/rWikiPathways.Rcheck’
* using R version 4.4.2 (2024-10-31)
* using platform: x86_64-pc-linux-gnu
* R was compiled by
    gcc (Ubuntu 13.2.0-23ubuntu4) 13.2.0
    GNU Fortran (Ubuntu 13.2.0-23ubuntu4) 13.2.0
* running under: Ubuntu 24.04.1 LTS
* using session charset: UTF-8
* checking for file ‘rWikiPathways/DESCRIPTION’ ... OK
* checking extension type ... Package
* this is package ‘rWikiPathways’ version ‘1.26.0’
* package encoding: UTF-8
* checking package namespace information ... OK
* checking package dependencies ... OK
* checking if this is a source package ... OK
* checking if there is a namespace ... OK
* checking for hidden files and directories ... NOTE
Found the following hidden files and directories:
  .travis.yml
These were most likely included in error. See section ‘Package
structure’ in the ‘Writing R Extensions’ manual.
* checking for portable file names ... NOTE
Found the following non-portable file path:
  rWikiPathways/docs/articles/rWikiPathways-and-BridgeDbR_files/accessible-code-block-0.0.1/empty-anchor.js

Tarballs are only required to store paths of up to 100 bytes and cannot
store those of more than 256 bytes, with restrictions including to 100
bytes for the final component.
See section ‘Package structure’ in the ‘Writing R Extensions’ manual.
* checking for sufficient/correct file permissions ... OK
* checking whether package ‘rWikiPathways’ can be installed ... OK
* checking installed package size ... OK
* checking package directory ... OK
* checking ‘build’ directory ... OK
* checking DESCRIPTION meta-information ... NOTE
License stub is invalid DCF.
* checking top-level files ... OK
* checking for left-over files ... OK
* checking index information ... OK
* checking package subdirectories ... OK
* checking code files for non-ASCII characters ... OK
* checking R files for syntax errors ... OK
* checking whether the package can be loaded ... OK
* checking whether the package can be loaded with stated dependencies ... OK
* checking whether the package can be unloaded cleanly ... OK
* checking whether the namespace can be loaded with stated dependencies ... OK
* checking whether the namespace can be unloaded cleanly ... OK
* checking loading without being on the library search path ... OK
* checking dependencies in R code ... OK
* checking S3 generic/method consistency ... OK
* checking replacement functions ... OK
* checking foreign function calls ... OK
* checking R code for possible problems ... NOTE
findPathwaysByLiterature: no visible binding for global variable ‘refs’
findPathwaysByLiterature: no visible binding for global variable
  ‘citations’
findPathwaysByOrcid: no visible binding for global variable ‘orcids’
findPathwaysByText: no visible binding for global variable ‘citedIn’
getOntologyTerms: no visible binding for global variable ‘terms’
getPathwaysByCommunity: no visible binding for global variable
  ‘pathways’
getPathwaysByCommunity: no visible binding for global variable
  ‘community-tag’
getPathwaysByOntologyTerm: no visible binding for global variable
  ‘pathways’
getPathwaysByParentOntologyTerm: no visible binding for global variable
  ‘terms’
getPathwaysByParentOntologyTerm: no visible binding for global variable
  ‘terms_parent’
getRecentChanges: no visible binding for global variable ‘revision’
getRecentChanges: no visible binding for global variable ‘revision_ymd’
getRecentChanges: no visible binding for global variable ‘authors’
getRecentChanges: no visible binding for global variable ‘description’
getRecentChanges: no visible binding for global variable ‘citedIn’
listCommunities: no visible binding for global variable ‘pathways’
listPathways: no visible binding for global variable ‘species’
readPathwayGMT: no visible binding for global variable ‘pathway’
Undefined global functions or variables:
  authors citations citedIn community-tag description orcids pathway
  pathways refs revision revision_ymd species terms terms_parent
Consider adding
  importFrom("stats", "terms")
to your NAMESPACE file.
* checking Rd files ... OK
* checking Rd metadata ... OK
* checking Rd cross-references ... OK
* checking for missing documentation entries ... OK
* checking for code/documentation mismatches ... OK
* checking Rd \usage sections ... OK
* checking Rd contents ... OK
* checking for unstated dependencies in examples ... OK
* checking files in ‘vignettes’ ... OK
* checking examples ... OK
Examples with CPU (user + system) or elapsed time > 5s
                              user system elapsed
findPathwaysByLiterature     5.536  0.050  10.135
findPathwayIdsByLiterature   4.664  0.069  18.126
findPathwayNamesByLiterature 4.213  0.018   6.298
findPathwayUrlsByLiterature  4.086  0.036   6.876
* checking for unstated dependencies in ‘tests’ ... OK
* checking tests ...
  Running ‘testthat.R’
 OK
* checking for unstated dependencies in vignettes ... OK
* checking package vignettes ... OK
* checking re-building of vignette outputs ... OK
* checking PDF version of manual ... OK
* DONE

Status: 4 NOTEs
See
  ‘/media/volume/teran2_disk/biocbuild/bbs-3.20-bioc/meat/rWikiPathways.Rcheck/00check.log’
for details.


Installation output

rWikiPathways.Rcheck/00install.out

##############################################################################
##############################################################################
###
### Running command:
###
###   /home/biocbuild/bbs-3.20-bioc/R/bin/R CMD INSTALL rWikiPathways
###
##############################################################################
##############################################################################


* installing to library ‘/media/volume/teran2_disk/biocbuild/bbs-3.20-bioc/R/site-library’
* installing *source* package ‘rWikiPathways’ ...
** using staged installation
** R
** inst
** byte-compile and prepare package for lazy loading
** help
*** installing help indices
** building package indices
** installing vignettes
** testing if installed package can be loaded from temporary location
** testing if installed package can be loaded from final location
** testing if installed package keeps a record of temporary installation path
* DONE (rWikiPathways)

Tests output

rWikiPathways.Rcheck/tests/testthat.Rout


R version 4.4.2 (2024-10-31) -- "Pile of Leaves"
Copyright (C) 2024 The R Foundation for Statistical Computing
Platform: x86_64-pc-linux-gnu

R is free software and comes with ABSOLUTELY NO WARRANTY.
You are welcome to redistribute it under certain conditions.
Type 'license()' or 'licence()' for distribution details.

R is a collaborative project with many contributors.
Type 'contributors()' for more information and
'citation()' on how to cite R or R packages in publications.

Type 'demo()' for some demos, 'help()' for on-line help, or
'help.start()' for an HTML browser interface to help.
Type 'q()' to quit R.

> library(testthat)
> library(rWikiPathways)
> 
> test_check("rWikiPathways")
[ FAIL 0 | WARN 1 | SKIP 0 | PASS 26 ]

[ FAIL 0 | WARN 1 | SKIP 0 | PASS 26 ]
> 
> proc.time()
   user  system elapsed 
 14.795   0.256  18.586 

Example timings

rWikiPathways.Rcheck/rWikiPathways-Ex.timings

nameusersystemelapsed
downloadPathwayArchive000
findPathwayIDsByOrcid0.2590.0081.335
findPathwayIdsByLiterature 4.664 0.06918.126
findPathwayIdsByText1.6650.0033.777
findPathwayIdsByXref0.8220.0552.254
findPathwayNamesByLiterature4.2130.0186.298
findPathwayNamesByOrcid0.2490.0010.790
findPathwayNamesByText1.4460.0062.897
findPathwayNamesByXref0.7300.0322.199
findPathwayUrlsByLiterature4.0860.0366.876
findPathwayUrlsByOrcid0.2450.0040.597
findPathwayUrlsByText1.6340.0072.287
findPathwayUrlsByXref0.6970.0061.283
findPathwaysByLiterature 5.536 0.05010.135
findPathwaysByOrcid0.4310.0061.027
findPathwaysByText1.5880.0202.124
findPathwaysByXref1.1060.0181.329
getCounts0.0290.0010.093
getCurationStatus0.0310.0000.225
getOntologyTermIds0.6620.0031.004
getOntologyTermNames0.6710.0040.912
getOntologyTerms0.6810.0020.851
getPathway0.0500.0000.172
getPathwayHistory000
getPathwayIdsByCommunity0.2620.0020.524
getPathwayIdsByOntologyTerm0.1180.0020.429
getPathwayIdsByParentOntologyTerm0.9300.0041.151
getPathwayInfo0.1740.0000.483
getPathwayNamesByCommunity0.0920.0030.221
getPathwayUrlsByCommunity0.0940.0020.352
getPathwaysByCommunity0.0910.0010.334
getPathwaysByOntologyTerm0.1020.0010.319
getPathwaysByParentOntologyTerm0.8190.0061.004
getRecentChanges0.3820.0320.720
getRecentChangesIds0.2130.0030.433
getRecentChangesNames0.2150.0070.495
getXrefList0.3470.0160.583
listCommunities0.0930.0010.234
listOrganisms0.0300.0000.265
listPathwayIds0.1260.0010.309
listPathwayNames0.1330.0070.406
listPathwayUrls0.1280.0040.432
listPathways0.1260.0100.329
readGMT000
readGMTnames000
readPathwayGMT000
writeGMT0.0000.0000.001