Back to Multiple platform build/check report for BioC 3.21:   simplified   long
ABCDEFGHIJKLMNOPQ[R]STUVWXYZ

This page was generated on 2025-05-15 11:44 -0400 (Thu, 15 May 2025).

HostnameOSArch (*)R versionInstalled pkgs
nebbiolo1Linux (Ubuntu 24.04.1 LTS)x86_644.5.0 RC (2025-04-04 r88126) -- "How About a Twenty-Six" 4833
palomino7Windows Server 2022 Datacenterx644.5.0 RC (2025-04-04 r88126 ucrt) -- "How About a Twenty-Six" 4575
merida1macOS 12.7.5 Montereyx86_644.5.0 RC (2025-04-04 r88126) -- "How About a Twenty-Six" 4600
kjohnson1macOS 13.6.6 Venturaarm644.5.0 RC (2025-04-04 r88129) -- "How About a Twenty-Six" 4554
kunpeng2Linux (openEuler 24.03 LTS)aarch64R Under development (unstable) (2025-02-19 r87757) -- "Unsuffered Consequences" 4571
Click on any hostname to see more info about the system (e.g. compilers)      (*) as reported by 'uname -p', except on Windows and Mac OS X

Package 1863/2341HostnameOS / ArchINSTALLBUILDCHECKBUILD BIN
rWikiPathways 1.28.0  (landing page)
Egon Willighagen
Snapshot Date: 2025-05-12 13:40 -0400 (Mon, 12 May 2025)
git_url: https://git.bioconductor.org/packages/rWikiPathways
git_branch: RELEASE_3_21
git_last_commit: c25414c
git_last_commit_date: 2025-04-15 11:20:27 -0400 (Tue, 15 Apr 2025)
nebbiolo1Linux (Ubuntu 24.04.1 LTS) / x86_64  OK    OK    OK  UNNEEDED, same version is already published
palomino7Windows Server 2022 Datacenter / x64  OK    OK    OK    OK  UNNEEDED, same version is already published
merida1macOS 12.7.5 Monterey / x86_64  OK    OK    OK    OK  UNNEEDED, same version is already published
kjohnson1macOS 13.6.6 Ventura / arm64  OK    OK    OK    OK  UNNEEDED, same version is already published
kunpeng2Linux (openEuler 24.03 LTS) / aarch64  OK    OK    OK  


CHECK results for rWikiPathways on merida1

To the developers/maintainers of the rWikiPathways package:
- Allow up to 24 hours (and sometimes 48 hours) for your latest push to git@git.bioconductor.org:packages/rWikiPathways.git to reflect on this report. See Troubleshooting Build Report for more information.
- Use the following Renviron settings to reproduce errors and warnings.
- If 'R CMD check' started to fail recently on the Linux builder(s) over a missing dependency, add the missing dependency to 'Suggests:' in your DESCRIPTION file. See Renviron.bioc for more information.

raw results


Summary

Package: rWikiPathways
Version: 1.28.0
Command: /Library/Frameworks/R.framework/Resources/bin/R CMD check --install=check:rWikiPathways.install-out.txt --library=/Library/Frameworks/R.framework/Resources/library --no-vignettes --timings rWikiPathways_1.28.0.tar.gz
StartedAt: 2025-05-13 09:30:02 -0400 (Tue, 13 May 2025)
EndedAt: 2025-05-13 09:34:19 -0400 (Tue, 13 May 2025)
EllapsedTime: 256.5 seconds
RetCode: 0
Status:   OK  
CheckDir: rWikiPathways.Rcheck
Warnings: 0

Command output

##############################################################################
##############################################################################
###
### Running command:
###
###   /Library/Frameworks/R.framework/Resources/bin/R CMD check --install=check:rWikiPathways.install-out.txt --library=/Library/Frameworks/R.framework/Resources/library --no-vignettes --timings rWikiPathways_1.28.0.tar.gz
###
##############################################################################
##############################################################################


* using log directory ‘/Users/biocbuild/bbs-3.21-bioc/meat/rWikiPathways.Rcheck’
* using R version 4.5.0 RC (2025-04-04 r88126)
* using platform: x86_64-apple-darwin20
* R was compiled by
    Apple clang version 14.0.0 (clang-1400.0.29.202)
    GNU Fortran (GCC) 14.2.0
* running under: macOS Monterey 12.7.6
* using session charset: UTF-8
* using option ‘--no-vignettes’
* checking for file ‘rWikiPathways/DESCRIPTION’ ... OK
* checking extension type ... Package
* this is package ‘rWikiPathways’ version ‘1.28.0’
* package encoding: UTF-8
* checking package namespace information ... OK
* checking package dependencies ... OK
* checking if this is a source package ... OK
* checking if there is a namespace ... OK
* checking for hidden files and directories ... NOTE
Found the following hidden files and directories:
  .travis.yml
These were most likely included in error. See section ‘Package
structure’ in the ‘Writing R Extensions’ manual.
* checking for portable file names ... NOTE
Found the following non-portable file path:
  rWikiPathways/docs/articles/rWikiPathways-and-BridgeDbR_files/accessible-code-block-0.0.1/empty-anchor.js

Tarballs are only required to store paths of up to 100 bytes and cannot
store those of more than 256 bytes, with restrictions including to 100
bytes for the final component.
See section ‘Package structure’ in the ‘Writing R Extensions’ manual.
* checking for sufficient/correct file permissions ... OK
* checking whether package ‘rWikiPathways’ can be installed ... OK
* checking installed package size ... OK
* checking package directory ... OK
* checking ‘build’ directory ... OK
* checking DESCRIPTION meta-information ... NOTE
License stub is invalid DCF.
* checking top-level files ... OK
* checking for left-over files ... OK
* checking index information ... OK
* checking package subdirectories ... OK
* checking code files for non-ASCII characters ... OK
* checking R files for syntax errors ... OK
* checking whether the package can be loaded ... OK
* checking whether the package can be loaded with stated dependencies ... OK
* checking whether the package can be unloaded cleanly ... OK
* checking whether the namespace can be loaded with stated dependencies ... OK
* checking whether the namespace can be unloaded cleanly ... OK
* checking dependencies in R code ... OK
* checking S3 generic/method consistency ... OK
* checking replacement functions ... OK
* checking foreign function calls ... OK
* checking R code for possible problems ... NOTE
findPathwaysByLiterature: no visible binding for global variable ‘refs’
findPathwaysByLiterature: no visible binding for global variable
  ‘citations’
findPathwaysByOrcid: no visible binding for global variable ‘orcids’
findPathwaysByText: no visible binding for global variable ‘citedIn’
getOntologyTerms: no visible binding for global variable ‘terms’
getPathwaysByCommunity: no visible binding for global variable
  ‘pathways’
getPathwaysByCommunity: no visible binding for global variable
  ‘community-tag’
getPathwaysByOntologyTerm: no visible binding for global variable
  ‘pathways’
getPathwaysByParentOntologyTerm: no visible binding for global variable
  ‘terms’
getPathwaysByParentOntologyTerm: no visible binding for global variable
  ‘terms_parent’
getRecentChanges: no visible binding for global variable ‘revision’
getRecentChanges: no visible binding for global variable ‘revision_ymd’
getRecentChanges: no visible binding for global variable ‘authors’
getRecentChanges: no visible binding for global variable ‘description’
getRecentChanges: no visible binding for global variable ‘citedIn’
listCommunities: no visible binding for global variable ‘pathways’
listPathways: no visible binding for global variable ‘species’
readPathwayGMT: no visible binding for global variable ‘pathway’
Undefined global functions or variables:
  authors citations citedIn community-tag description orcids pathway
  pathways refs revision revision_ymd species terms terms_parent
Consider adding
  importFrom("stats", "terms")
to your NAMESPACE file.
* checking Rd files ... OK
* checking Rd metadata ... OK
* checking Rd cross-references ... OK
* checking for missing documentation entries ... OK
* checking for code/documentation mismatches ... OK
* checking Rd \usage sections ... OK
* checking Rd contents ... OK
* checking for unstated dependencies in examples ... OK
* checking files in ‘vignettes’ ... OK
* checking examples ... OK
Examples with CPU (user + system) or elapsed time > 5s
                               user system elapsed
findPathwaysByLiterature     17.783  0.188  19.108
findPathwayUrlsByLiterature  13.528  0.145  14.423
findPathwayIdsByLiterature   13.424  0.165  14.774
findPathwayNamesByLiterature 13.251  0.163  14.239
findPathwaysByText            5.409  0.065   5.895
findPathwayUrlsByText         4.753  0.041   5.132
findPathwayIdsByText          4.735  0.037   5.224
* checking for unstated dependencies in ‘tests’ ... OK
* checking tests ...
  Running ‘testthat.R’
 OK
* checking for unstated dependencies in vignettes ... OK
* checking package vignettes ... OK
* checking running R code from vignettes ... SKIPPED
* checking re-building of vignette outputs ... SKIPPED
* checking PDF version of manual ... OK
* DONE

Status: 4 NOTEs
See
  ‘/Users/biocbuild/bbs-3.21-bioc/meat/rWikiPathways.Rcheck/00check.log’
for details.


Installation output

rWikiPathways.Rcheck/00install.out

##############################################################################
##############################################################################
###
### Running command:
###
###   /Library/Frameworks/R.framework/Resources/bin/R CMD INSTALL rWikiPathways
###
##############################################################################
##############################################################################


* installing to library ‘/Library/Frameworks/R.framework/Versions/4.5-x86_64/Resources/library’
* installing *source* package ‘rWikiPathways’ ...
** this is package ‘rWikiPathways’ version ‘1.28.0’
** using staged installation
** R
** inst
** byte-compile and prepare package for lazy loading
** help
*** installing help indices
** building package indices
** installing vignettes
** testing if installed package can be loaded from temporary location
** testing if installed package can be loaded from final location
** testing if installed package keeps a record of temporary installation path
* DONE (rWikiPathways)

Tests output

rWikiPathways.Rcheck/tests/testthat.Rout


R version 4.5.0 RC (2025-04-04 r88126) -- "How About a Twenty-Six"
Copyright (C) 2025 The R Foundation for Statistical Computing
Platform: x86_64-apple-darwin20

R is free software and comes with ABSOLUTELY NO WARRANTY.
You are welcome to redistribute it under certain conditions.
Type 'license()' or 'licence()' for distribution details.

R is a collaborative project with many contributors.
Type 'contributors()' for more information and
'citation()' on how to cite R or R packages in publications.

Type 'demo()' for some demos, 'help()' for on-line help, or
'help.start()' for an HTML browser interface to help.
Type 'q()' to quit R.

> library(testthat)
> library(rWikiPathways)
> 
> test_check("rWikiPathways")
[ FAIL 0 | WARN 1 | SKIP 0 | PASS 26 ]

[ FAIL 0 | WARN 1 | SKIP 0 | PASS 26 ]
> 
> proc.time()
   user  system elapsed 
 46.295   0.949  51.109 

Example timings

rWikiPathways.Rcheck/rWikiPathways-Ex.timings

nameusersystemelapsed
downloadPathwayArchive0.0000.0010.000
findPathwayIDsByOrcid0.7860.0351.095
findPathwayIdsByLiterature13.424 0.16514.774
findPathwayIdsByText4.7350.0375.224
findPathwayIdsByXref2.1520.0762.677
findPathwayNamesByLiterature13.251 0.16314.239
findPathwayNamesByOrcid0.7340.0140.860
findPathwayNamesByText4.5180.0394.920
findPathwayNamesByXref2.1330.0512.718
findPathwayUrlsByLiterature13.528 0.14514.423
findPathwayUrlsByOrcid0.7520.0140.862
findPathwayUrlsByText4.7530.0415.132
findPathwayUrlsByXref1.9400.0482.167
findPathwaysByLiterature17.783 0.18819.108
findPathwaysByOrcid0.7720.0280.955
findPathwaysByText5.4090.0655.895
findPathwaysByXref2.1520.0562.394
getCounts0.0250.0030.102
getCurationStatus0.0260.0030.113
getOntologyTermIds2.3860.0243.025
getOntologyTermNames2.4580.0182.648
getOntologyTerms2.4470.0192.595
getPathway0.0940.0110.204
getPathwayHistory0.0000.0010.001
getPathwayIdsByCommunity0.4180.0070.718
getPathwayIdsByOntologyTerm0.2860.0070.411
getPathwayIdsByParentOntologyTerm2.5330.0192.902
getPathwayInfo0.5750.0120.836
getPathwayNamesByCommunity0.3950.0090.570
getPathwayUrlsByCommunity0.3910.0080.618
getPathwaysByCommunity0.5120.0100.630
getPathwaysByOntologyTerm0.2700.0070.411
getPathwaysByParentOntologyTerm2.4250.1192.800
getRecentChanges1.1840.2371.542
getRecentChangesIds0.5750.0420.716
getRecentChangesNames0.6120.0860.824
getXrefList0.6800.0510.842
listCommunities0.3890.0090.610
listOrganisms0.0230.0040.240
listPathwayIds0.3890.0110.491
listPathwayNames0.3820.0180.477
listPathwayUrls0.3820.0140.669
listPathways0.4090.0290.553
readGMT0.0000.0010.000
readGMTnames0.0000.0000.001
readPathwayGMT000
writeGMT0.0000.0000.001