| Back to Multiple platform build/check report for BioC 3.21: simplified long |
|
This page was generated on 2025-10-16 11:40 -0400 (Thu, 16 Oct 2025).
| Hostname | OS | Arch (*) | R version | Installed pkgs |
|---|---|---|---|---|
| nebbiolo1 | Linux (Ubuntu 24.04.3 LTS) | x86_64 | 4.5.1 (2025-06-13) -- "Great Square Root" | 4833 |
| merida1 | macOS 12.7.6 Monterey | x86_64 | 4.5.1 RC (2025-06-05 r88288) -- "Great Square Root" | 4614 |
| kjohnson1 | macOS 13.7.5 Ventura | arm64 | 4.5.1 Patched (2025-06-14 r88325) -- "Great Square Root" | 4555 |
| kunpeng2 | Linux (openEuler 24.03 LTS) | aarch64 | R Under development (unstable) (2025-02-19 r87757) -- "Unsuffered Consequences" | 4586 |
| Click on any hostname to see more info about the system (e.g. compilers) (*) as reported by 'uname -p', except on Windows and Mac OS X | ||||
| Package 1771/2341 | Hostname | OS / Arch | INSTALL | BUILD | CHECK | BUILD BIN | ||||||||
| rGREAT 2.10.0 (landing page) Zuguang Gu
| nebbiolo1 | Linux (Ubuntu 24.04.3 LTS) / x86_64 | OK | OK | OK | |||||||||
| merida1 | macOS 12.7.6 Monterey / x86_64 | OK | OK | OK | OK | |||||||||
| kjohnson1 | macOS 13.7.5 Ventura / arm64 | OK | OK | OK | OK | |||||||||
| kunpeng2 | Linux (openEuler 24.03 LTS) / aarch64 | OK | OK | OK | ||||||||||
|
To the developers/maintainers of the rGREAT package: - Allow up to 24 hours (and sometimes 48 hours) for your latest push to git@git.bioconductor.org:packages/rGREAT.git to reflect on this report. See Troubleshooting Build Report for more information. - Use the following Renviron settings to reproduce errors and warnings. - If 'R CMD check' started to fail recently on the Linux builder(s) over a missing dependency, add the missing dependency to 'Suggests:' in your DESCRIPTION file. See Renviron.bioc for more information. |
| Package: rGREAT |
| Version: 2.10.0 |
| Command: /Library/Frameworks/R.framework/Resources/bin/R CMD check --install=check:rGREAT.install-out.txt --library=/Library/Frameworks/R.framework/Resources/library --no-vignettes --timings rGREAT_2.10.0.tar.gz |
| StartedAt: 2025-10-15 09:42:20 -0400 (Wed, 15 Oct 2025) |
| EndedAt: 2025-10-15 09:48:28 -0400 (Wed, 15 Oct 2025) |
| EllapsedTime: 367.4 seconds |
| RetCode: 0 |
| Status: OK |
| CheckDir: rGREAT.Rcheck |
| Warnings: 0 |
##############################################################################
##############################################################################
###
### Running command:
###
### /Library/Frameworks/R.framework/Resources/bin/R CMD check --install=check:rGREAT.install-out.txt --library=/Library/Frameworks/R.framework/Resources/library --no-vignettes --timings rGREAT_2.10.0.tar.gz
###
##############################################################################
##############################################################################
* using log directory ‘/Users/biocbuild/bbs-3.21-bioc/meat/rGREAT.Rcheck’
* using R version 4.5.1 Patched (2025-06-14 r88325)
* using platform: aarch64-apple-darwin20
* R was compiled by
Apple clang version 16.0.0 (clang-1600.0.26.6)
GNU Fortran (GCC) 14.2.0
* running under: macOS Ventura 13.7.5
* using session charset: UTF-8
* using option ‘--no-vignettes’
* checking for file ‘rGREAT/DESCRIPTION’ ... OK
* checking extension type ... Package
* this is package ‘rGREAT’ version ‘2.10.0’
* checking package namespace information ... OK
* checking package dependencies ... INFO
Package which this enhances but not available for checking: ‘BioMartGOGeneSets’
Imports includes 21 non-default packages.
Importing from so many packages makes the package vulnerable to any of
them becoming unavailable. Move as many as possible to Suggests and
use conditionally.
* checking if this is a source package ... OK
* checking if there is a namespace ... OK
* checking for hidden files and directories ... OK
* checking for portable file names ... OK
* checking for sufficient/correct file permissions ... OK
* checking whether package ‘rGREAT’ can be installed ... OK
* used C++ compiler: ‘Apple clang version 15.0.0 (clang-1500.0.40.1)’
* used SDK: ‘MacOSX11.3.sdk’
* checking installed package size ... OK
* checking package directory ... OK
* checking ‘build’ directory ... OK
* checking DESCRIPTION meta-information ... OK
* checking top-level files ... OK
* checking for left-over files ... OK
* checking index information ... OK
* checking package subdirectories ... OK
* checking code files for non-ASCII characters ... OK
* checking R files for syntax errors ... OK
* checking whether the package can be loaded ... OK
* checking whether the package can be loaded with stated dependencies ... OK
* checking whether the package can be unloaded cleanly ... OK
* checking whether the namespace can be loaded with stated dependencies ... OK
* checking whether the namespace can be unloaded cleanly ... OK
* checking whether startup messages can be suppressed ... OK
* checking dependencies in R code ... OK
* checking S3 generic/method consistency ... OK
* checking replacement functions ... OK
* checking foreign function calls ... OK
* checking R code for possible problems ... OK
* checking Rd files ... OK
* checking Rd metadata ... OK
* checking Rd cross-references ... NOTE
Found the following Rd file(s) with Rd \link{} targets missing package
anchors:
getRefSeqGenesFromUCSC.Rd: GenomicRanges
Please provide package anchors for all Rd \link{} targets not in the
package itself and the base packages.
* checking for missing documentation entries ... OK
* checking for code/documentation mismatches ... OK
* checking Rd \usage sections ... OK
* checking Rd contents ... OK
* checking for unstated dependencies in examples ... OK
* checking line endings in C/C++/Fortran sources/headers ... OK
* checking compiled code ... NOTE
Note: information on .o files is not available
* checking files in ‘vignettes’ ... OK
* checking examples ... OK
Examples with CPU (user + system) or elapsed time > 5s
user system elapsed
submitGreatJob 0.321 0.02 9.81
* checking for unstated dependencies in ‘tests’ ... OK
* checking tests ...
Running ‘test-all.R’
OK
* checking for unstated dependencies in vignettes ... OK
* checking package vignettes ... OK
* checking running R code from vignettes ... SKIPPED
* checking re-building of vignette outputs ... SKIPPED
* checking PDF version of manual ... OK
* DONE
Status: 2 NOTEs
See
‘/Users/biocbuild/bbs-3.21-bioc/meat/rGREAT.Rcheck/00check.log’
for details.
rGREAT.Rcheck/00install.out
############################################################################## ############################################################################## ### ### Running command: ### ### /Library/Frameworks/R.framework/Resources/bin/R CMD INSTALL rGREAT ### ############################################################################## ############################################################################## * installing to library ‘/Library/Frameworks/R.framework/Versions/4.5-arm64/Resources/library’ * installing *source* package ‘rGREAT’ ... ** this is package ‘rGREAT’ version ‘2.10.0’ ** using staged installation ** libs using C++ compiler: ‘Apple clang version 15.0.0 (clang-1500.0.40.1)’ using SDK: ‘MacOSX11.3.sdk’ clang++ -arch arm64 -std=gnu++17 -I"/Library/Frameworks/R.framework/Resources/include" -DNDEBUG -I'/Library/Frameworks/R.framework/Versions/4.5-arm64/Resources/library/Rcpp/include' -I/opt/R/arm64/include -fPIC -falign-functions=64 -Wall -g -O2 -c RcppExports.cpp -o RcppExports.o clang++ -arch arm64 -std=gnu++17 -I"/Library/Frameworks/R.framework/Resources/include" -DNDEBUG -I'/Library/Frameworks/R.framework/Versions/4.5-arm64/Resources/library/Rcpp/include' -I/opt/R/arm64/include -fPIC -falign-functions=64 -Wall -g -O2 -c reduce_by_start_and_end.cpp -o reduce_by_start_and_end.o clang++ -arch arm64 -std=gnu++17 -dynamiclib -Wl,-headerpad_max_install_names -undefined dynamic_lookup -L/Library/Frameworks/R.framework/Resources/lib -L/opt/R/arm64/lib -o rGREAT.so RcppExports.o reduce_by_start_and_end.o -F/Library/Frameworks/R.framework/.. -framework R installing to /Library/Frameworks/R.framework/Versions/4.5-arm64/Resources/library/00LOCK-rGREAT/00new/rGREAT/libs ** R ** inst ** byte-compile and prepare package for lazy loading ** help *** installing help indices ** building package indices ** installing vignettes ** testing if installed package can be loaded from temporary location ** checking absolute paths in shared objects and dynamic libraries ** testing if installed package can be loaded from final location ** testing if installed package keeps a record of temporary installation path * DONE (rGREAT)
rGREAT.Rcheck/tests/test-all.Rout
R version 4.5.1 Patched (2025-06-14 r88325) -- "Great Square Root"
Copyright (C) 2025 The R Foundation for Statistical Computing
Platform: aarch64-apple-darwin20
R is free software and comes with ABSOLUTELY NO WARRANTY.
You are welcome to redistribute it under certain conditions.
Type 'license()' or 'licence()' for distribution details.
R is a collaborative project with many contributors.
Type 'contributors()' for more information and
'citation()' on how to cite R or R packages in publications.
Type 'demo()' for some demos, 'help()' for on-line help, or
'help.start()' for an HTML browser interface to help.
Type 'q()' to quit R.
> library(testthat)
> suppressWarnings(suppressPackageStartupMessages(library(rGREAT)))
>
> test_check("rGREAT")
[ FAIL 0 | WARN 0 | SKIP 0 | PASS 2 ]
>
> proc.time()
user system elapsed
16.334 0.815 17.339
rGREAT.Rcheck/rGREAT-Ex.timings
| name | user | system | elapsed | |
| GreatJob-class | 0 | 0 | 0 | |
| GreatJob | 0 | 0 | 0 | |
| GreatObject-class | 0 | 0 | 0 | |
| GreatObject | 0 | 0 | 0 | |
| availableCategories-GreatJob-method | 0.153 | 0.007 | 0.160 | |
| availableOntologies-GreatJob-method | 0.135 | 0.004 | 0.138 | |
| extendTSS | 0.000 | 0.001 | 0.000 | |
| extendTSSFromDataFrame | 0 | 0 | 0 | |
| extendTSSFromOrgDb | 0.001 | 0.000 | 0.000 | |
| extendTSSFromTxDb | 0 | 0 | 0 | |
| getEnrichmentTable-GreatJob-method | 0.143 | 0.006 | 0.148 | |
| getEnrichmentTable-GreatObject-method | 0.091 | 0.007 | 0.097 | |
| getEnrichmentTable-dispatch | 0 | 0 | 0 | |
| getEnrichmentTables-GreatJob-method | 0.229 | 0.008 | 0.240 | |
| getEnrichmentTables-GreatObject-method | 0 | 0 | 0 | |
| getEnrichmentTables-dispatch | 0 | 0 | 0 | |
| getGREATDefaultTSS | 0.001 | 0.001 | 0.000 | |
| getGapFromUCSC | 0.072 | 0.002 | 0.074 | |
| getGeneSetsFromBioMart | 0 | 0 | 0 | |
| getGeneSetsFromOrgDb | 0.000 | 0.000 | 0.001 | |
| getGenesFromGencode | 0 | 0 | 0 | |
| getGenomeDataFromNCBI | 0 | 0 | 0 | |
| getKEGGGenome | 0 | 0 | 0 | |
| getKEGGPathways | 0.000 | 0.001 | 0.000 | |
| getRefSeqGenesFromUCSC | 0.000 | 0.000 | 0.001 | |
| getRegionGeneAssociations-GreatJob-method | 0.485 | 0.017 | 0.502 | |
| getRegionGeneAssociations-GreatObject-method | 2.919 | 0.083 | 3.004 | |
| getRegionGeneAssociations-dispatch | 0.000 | 0.000 | 0.001 | |
| getTSS | 0 | 0 | 0 | |
| great | 0 | 0 | 0 | |
| great_opt | 0.024 | 0.001 | 0.026 | |
| plotRegionGeneAssociationGraphs-GreatJob-method | 0 | 0 | 0 | |
| plotRegionGeneAssociations-GreatJob-method | 0.981 | 0.052 | 1.038 | |
| plotRegionGeneAssociations-GreatObject-method | 3.172 | 0.057 | 3.236 | |
| plotRegionGeneAssociations-dispatch | 0 | 0 | 0 | |
| plotVolcano-GreatJob-method | 0.000 | 0.001 | 0.000 | |
| plotVolcano-GreatObject-method | 0 | 0 | 0 | |
| plotVolcano-dispatch | 0.001 | 0.000 | 0.000 | |
| randomRegions | 0.214 | 0.017 | 0.232 | |
| randomRegionsFromBioMartGenome | 0 | 0 | 0 | |
| read_gmt | 0.035 | 0.034 | 1.030 | |
| reduce_by_start_and_end | 0.000 | 0.001 | 0.000 | |
| shinyReport-GreatJob-method | 0 | 0 | 0 | |
| shinyReport-GreatObject-method | 0.001 | 0.000 | 0.000 | |
| shinyReport-dispatch | 0 | 0 | 0 | |
| submitGreatJob | 0.321 | 0.020 | 9.810 | |