Back to Multiple platform build/check report for BioC 3.22:   simplified   long
ABCDEFGHIJKLMNOPQ[R]STUVWXYZ

This page was generated on 2025-11-27 12:02 -0500 (Thu, 27 Nov 2025).

HostnameOSArch (*)R versionInstalled pkgs
nebbiolo2Linux (Ubuntu 24.04.3 LTS)x86_644.5.2 (2025-10-31) -- "[Not] Part in a Rumble" 4876
merida1macOS 12.7.6 Montereyx86_644.5.2 Patched (2025-11-05 r88990) -- "[Not] Part in a Rumble" 4656
kjohnson1macOS 13.7.5 Venturaarm644.5.2 Patched (2025-11-04 r88984) -- "[Not] Part in a Rumble" 4602
taishanLinux (openEuler 24.03 LTS)aarch644.5.0 (2025-04-11) -- "How About a Twenty-Six" 4668
Click on any hostname to see more info about the system (e.g. compilers)      (*) as reported by 'uname -p', except on Windows and Mac OS X

Package 1718/2361HostnameOS / ArchINSTALLBUILDCHECKBUILD BIN
rBiopaxParser 2.50.0  (landing page)
Frank Kramer
Snapshot Date: 2025-11-24 13:45 -0500 (Mon, 24 Nov 2025)
git_url: https://git.bioconductor.org/packages/rBiopaxParser
git_branch: RELEASE_3_22
git_last_commit: 82754bf
git_last_commit_date: 2025-10-29 10:13:34 -0500 (Wed, 29 Oct 2025)
nebbiolo2Linux (Ubuntu 24.04.3 LTS) / x86_64  OK    OK    OK  UNNEEDED, same version is already published
merida1macOS 12.7.6 Monterey / x86_64  OK    OK    OK    OK  UNNEEDED, same version is already published
kjohnson1macOS 13.7.5 Ventura / arm64  OK    OK    OK    NA  
taishanLinux (openEuler 24.03 LTS) / aarch64  OK    OK    OK  


CHECK results for rBiopaxParser on nebbiolo2

To the developers/maintainers of the rBiopaxParser package:
- Allow up to 24 hours (and sometimes 48 hours) for your latest push to git@git.bioconductor.org:packages/rBiopaxParser.git to reflect on this report. See Troubleshooting Build Report for more information.
- Use the following Renviron settings to reproduce errors and warnings.
- If 'R CMD check' started to fail recently on the Linux builder(s) over a missing dependency, add the missing dependency to 'Suggests:' in your DESCRIPTION file. See Renviron.bioc for more information.

raw results


Summary

Package: rBiopaxParser
Version: 2.50.0
Command: /home/biocbuild/bbs-3.22-bioc/R/bin/R CMD check --install=check:rBiopaxParser.install-out.txt --library=/home/biocbuild/bbs-3.22-bioc/R/site-library --timings rBiopaxParser_2.50.0.tar.gz
StartedAt: 2025-11-26 03:33:01 -0500 (Wed, 26 Nov 2025)
EndedAt: 2025-11-26 03:33:46 -0500 (Wed, 26 Nov 2025)
EllapsedTime: 45.0 seconds
RetCode: 0
Status:   OK  
CheckDir: rBiopaxParser.Rcheck
Warnings: 0

Command output

##############################################################################
##############################################################################
###
### Running command:
###
###   /home/biocbuild/bbs-3.22-bioc/R/bin/R CMD check --install=check:rBiopaxParser.install-out.txt --library=/home/biocbuild/bbs-3.22-bioc/R/site-library --timings rBiopaxParser_2.50.0.tar.gz
###
##############################################################################
##############################################################################


* using log directory ‘/home/biocbuild/bbs-3.22-bioc/meat/rBiopaxParser.Rcheck’
* using R version 4.5.2 (2025-10-31)
* using platform: x86_64-pc-linux-gnu
* R was compiled by
    gcc (Ubuntu 13.3.0-6ubuntu2~24.04) 13.3.0
    GNU Fortran (Ubuntu 13.3.0-6ubuntu2~24.04) 13.3.0
* running under: Ubuntu 24.04.3 LTS
* using session charset: UTF-8
* checking for file ‘rBiopaxParser/DESCRIPTION’ ... OK
* checking extension type ... Package
* this is package ‘rBiopaxParser’ version ‘2.50.0’
* checking package namespace information ... OK
* checking package dependencies ... OK
* checking if this is a source package ... OK
* checking if there is a namespace ... OK
* checking for hidden files and directories ... OK
* checking for portable file names ... OK
* checking for sufficient/correct file permissions ... OK
* checking whether package ‘rBiopaxParser’ can be installed ... OK
* checking installed package size ... OK
* checking package directory ... OK
* checking ‘build’ directory ... OK
* checking DESCRIPTION meta-information ... OK
* checking top-level files ... OK
* checking for left-over files ... OK
* checking index information ... OK
* checking package subdirectories ... OK
* checking code files for non-ASCII characters ... OK
* checking R files for syntax errors ... OK
* checking whether the package can be loaded ... OK
* checking whether the package can be loaded with stated dependencies ... OK
* checking whether the package can be unloaded cleanly ... OK
* checking whether the namespace can be loaded with stated dependencies ... OK
* checking whether the namespace can be unloaded cleanly ... OK
* checking loading without being on the library search path ... OK
* checking dependencies in R code ... NOTE
'library' or 'require' calls in package code:
  ‘RBGL’ ‘RCurl’ ‘Rgraphviz’ ‘graph’ ‘igraph’
  Please use :: or requireNamespace() instead.
  See section 'Suggested packages' in the 'Writing R Extensions' manual.
* checking S3 generic/method consistency ... OK
* checking replacement functions ... OK
* checking foreign function calls ... OK
* checking R code for possible problems ... NOTE
addBiopaxInstance: no visible binding for global variable ‘property’
addBiopaxInstances: no visible binding for global variable ‘id’
addBiopaxInstances: no visible binding for global variable ‘property’
addPropertiesToBiopaxInstance: no visible binding for global variable
  ‘property’
colorGraphNodes: no visible global function definition for ‘hcl’
createBiopax: no visible binding for global variable ‘id’
createBiopax: no visible binding for global variable ‘property’
getReferencedIDs: no visible binding for global variable
  ‘property_attr’
getReferencedIDs: no visible binding for global variable ‘property’
getReferencingIDs: no visible binding for global variable
  ‘property_attr’
getReferencingIDs: no visible binding for global variable ‘property’
internal_XMLInstance2DF: no visible binding for global variable ‘i’
internal_XMLInstance2DF: no visible binding for global variable ‘p’
internal_generateXMLfromBiopax: no visible binding for global variable
  ‘id’
internal_getBiopaxModelAsDataFrame: no visible binding for global
  variable ‘property’
internal_propertyListToDF: no visible binding for global variable
  ‘property’
layoutRegulatoryGraph: no visible global function definition for
  ‘nodes’
listInstances: no visible binding for global variable ‘property_value’
listInstances: no visible binding for global variable ‘property’
pathway2AdjacancyMatrix: no visible global function definition for ‘as’
pathway2Graph: no visible global function definition for ‘new’
pathway2Graph: no visible global function definition for ‘getClassDef’
pathway2Graph: no visible binding for global variable ‘id’
pathway2Graph: no visible binding for global variable ‘property’
pathway2RegulatoryGraph: no visible global function definition for
  ‘new’
pathway2RegulatoryGraph: no visible global function definition for
  ‘getClassDef’
pathway2RegulatoryGraph: no visible binding for global variable ‘id’
pathway2RegulatoryGraph: no visible binding for global variable
  ‘property’
plotRegulatoryGraph: no visible global function definition for ‘nodes’
removeDisconnectedParts: no visible global function definition for
  ‘removeNode’
removeNodes: no visible global function definition for ‘edgeWeights’
removeNodes: no visible global function definition for ‘na.omit’
removeNodes: no visible global function definition for ‘removeNode’
removeNodes: no visible global function definition for ‘addEdge’
removeProperties: no visible binding for global variable ‘property’
selectInstances: no visible binding for global variable
  ‘property_value’
Undefined global functions or variables:
  addEdge as edgeWeights getClassDef hcl i id na.omit new nodes p
  property property_attr property_value removeNode
Consider adding
  importFrom("grDevices", "hcl")
  importFrom("methods", "as", "getClassDef", "new")
  importFrom("stats", "na.omit")
to your NAMESPACE file (and ensure that your DESCRIPTION Imports field
contains 'methods').
* checking Rd files ... OK
* checking Rd metadata ... OK
* checking Rd cross-references ... OK
* checking for missing documentation entries ... OK
* checking for code/documentation mismatches ... OK
* checking Rd \usage sections ... OK
* checking Rd contents ... OK
* checking for unstated dependencies in examples ... OK
* checking contents of ‘data’ directory ... OK
* checking data for non-ASCII characters ... OK
* checking data for ASCII and uncompressed saves ... OK
* checking files in ‘vignettes’ ... OK
* checking examples ... OK
* checking for unstated dependencies in ‘tests’ ... OK
* checking tests ...
  Running ‘runTests.R’
 OK
* checking for unstated dependencies in vignettes ... OK
* checking package vignettes ... OK
* checking re-building of vignette outputs ... OK
* checking PDF version of manual ... OK
* DONE

Status: 2 NOTEs
See
  ‘/home/biocbuild/bbs-3.22-bioc/meat/rBiopaxParser.Rcheck/00check.log’
for details.


Installation output

rBiopaxParser.Rcheck/00install.out

##############################################################################
##############################################################################
###
### Running command:
###
###   /home/biocbuild/bbs-3.22-bioc/R/bin/R CMD INSTALL rBiopaxParser
###
##############################################################################
##############################################################################


* installing to library ‘/home/biocbuild/bbs-3.22-bioc/R/site-library’
* installing *source* package ‘rBiopaxParser’ ...
** this is package ‘rBiopaxParser’ version ‘2.50.0’
** using staged installation
** R
** data
** inst
** byte-compile and prepare package for lazy loading
** help
*** installing help indices
** building package indices
** installing vignettes
** testing if installed package can be loaded from temporary location
** testing if installed package can be loaded from final location
** testing if installed package keeps a record of temporary installation path
* DONE (rBiopaxParser)

Tests output

rBiopaxParser.Rcheck/tests/runTests.Rout


R version 4.5.2 (2025-10-31) -- "[Not] Part in a Rumble"
Copyright (C) 2025 The R Foundation for Statistical Computing
Platform: x86_64-pc-linux-gnu

R is free software and comes with ABSOLUTELY NO WARRANTY.
You are welcome to redistribute it under certain conditions.
Type 'license()' or 'licence()' for distribution details.

R is a collaborative project with many contributors.
Type 'contributors()' for more information and
'citation()' on how to cite R or R packages in publications.

Type 'demo()' for some demos, 'help()' for on-line help, or
'help.start()' for an HTML browser interface to help.
Type 'q()' to quit R.

> BiocGenerics:::testPackage("rBiopaxParser")


RUNIT TEST PROTOCOL -- Wed Nov 26 03:33:37 2025 
*********************************************** 
Number of test functions: 12 
Number of errors: 0 
Number of failures: 0 

 
1 Test Suite : 
rBiopaxParser RUnit Tests - 12 test functions, 0 errors, 0 failures
Number of test functions: 12 
Number of errors: 0 
Number of failures: 0 
> 
> proc.time()
   user  system elapsed 
  0.398   0.055   0.438 

Example timings

rBiopaxParser.Rcheck/rBiopaxParser-Ex.timings

nameusersystemelapsed
addBiochemicalReaction0.0350.0040.039
addBiopaxInstance0.0100.0010.010
addBiopaxInstances0.0090.0010.010
addControl0.0160.0000.016
addPathway0.0210.0000.021
addPathwayComponents0.0220.0000.023
addPhysicalEntity0.0080.0000.008
addPhysicalEntityParticipant0.0150.0000.014
addPropertiesToBiopaxInstance0.0090.0000.009
biopax0.0180.0000.018
calcGraphOverlap1.7670.0561.824
colorGraphNodes1.0520.0091.060
combineNodes0.0020.0000.003
createBiopax0.0010.0000.001
diffGraphs1.6310.0141.646
downloadBiopaxData000
getClassProperties000
getInstanceClass0.0050.0000.004
getInstanceProperty0.0060.0000.006
getReferencedIDs0.0220.0020.024
getReferencingIDs0.0160.0010.017
getSubClasses0.0010.0000.001
getSuperClasses000
getXrefAnnotations0.1190.0020.121
hasProperty0.0020.0010.003
intersectGraphs1.4530.0011.454
isOfClass0.0020.0010.003
layoutRegulatoryGraph0.9520.0010.953
listComplexComponents0.0160.0000.016
listInstances0.020.000.02
listInteractionComponents0.0160.0000.016
listPathwayComponents0.0130.0010.014
listPathways0.0060.0010.007
pathway2AdjacancyMatrix0.8780.0020.880
pathway2Geneset0.3570.0010.358
pathway2Graph0.8640.0060.852
pathway2RegulatoryGraph0.9640.0060.970
plotRegulatoryGraph0.8350.0240.859
print.biopax0.0070.0000.007
rBiopaxParser-package000
readBiopax0.0030.0000.003
removeInstance0.0030.0010.003
removeNodes0.9280.0610.989
removeProperties0.0030.0010.004
selectInstances0.0140.0000.015
splitComplex0.0280.0000.027
transitiveClosure0.8090.0050.814
transitiveReduction0.7700.0110.780
uniteGraphs1.5150.0541.569
writeBiopax0.0010.0000.001