| Back to Multiple platform build/check report for BioC 3.21: simplified long |
|
This page was generated on 2025-04-22 13:18 -0400 (Tue, 22 Apr 2025).
| Hostname | OS | Arch (*) | R version | Installed pkgs |
|---|---|---|---|---|
| nebbiolo1 | Linux (Ubuntu 24.04.1 LTS) | x86_64 | 4.5.0 RC (2025-04-04 r88126) -- "How About a Twenty-Six" | 4831 |
| palomino7 | Windows Server 2022 Datacenter | x64 | 4.5.0 RC (2025-04-04 r88126 ucrt) -- "How About a Twenty-Six" | 4573 |
| lconway | macOS 12.7.1 Monterey | x86_64 | 4.5.0 RC (2025-04-04 r88126) -- "How About a Twenty-Six" | 4599 |
| kjohnson3 | macOS 13.7.1 Ventura | arm64 | 4.5.0 RC (2025-04-04 r88126) -- "How About a Twenty-Six" | 4553 |
| kunpeng2 | Linux (openEuler 24.03 LTS) | aarch64 | R Under development (unstable) (2025-02-19 r87757) -- "Unsuffered Consequences" | 4570 |
| Click on any hostname to see more info about the system (e.g. compilers) (*) as reported by 'uname -p', except on Windows and Mac OS X | ||||
| Package 1654/2341 | Hostname | OS / Arch | INSTALL | BUILD | CHECK | BUILD BIN | ||||||||
| qckitfastq 1.24.0 (landing page) August Guang
| nebbiolo1 | Linux (Ubuntu 24.04.1 LTS) / x86_64 | OK | OK | WARNINGS | |||||||||
| palomino7 | Windows Server 2022 Datacenter / x64 | OK | ERROR | skipped | skipped | |||||||||
| lconway | macOS 12.7.1 Monterey / x86_64 | OK | OK | OK | OK | |||||||||
| kjohnson3 | macOS 13.7.1 Ventura / arm64 | OK | OK | OK | OK | |||||||||
| kunpeng2 | Linux (openEuler 24.03 LTS) / aarch64 | OK | OK | WARNINGS | ||||||||||
|
To the developers/maintainers of the qckitfastq package: - Allow up to 24 hours (and sometimes 48 hours) for your latest push to git@git.bioconductor.org:packages/qckitfastq.git to reflect on this report. See Troubleshooting Build Report for more information. - Use the following Renviron settings to reproduce errors and warnings. - If 'R CMD check' started to fail recently on the Linux builder(s) over a missing dependency, add the missing dependency to 'Suggests:' in your DESCRIPTION file. See Renviron.bioc for more information. |
| Package: qckitfastq |
| Version: 1.24.0 |
| Command: /Library/Frameworks/R.framework/Resources/bin/R CMD check --install=check:qckitfastq.install-out.txt --library=/Library/Frameworks/R.framework/Resources/library --no-vignettes --timings qckitfastq_1.24.0.tar.gz |
| StartedAt: 2025-04-21 21:03:25 -0400 (Mon, 21 Apr 2025) |
| EndedAt: 2025-04-21 21:03:56 -0400 (Mon, 21 Apr 2025) |
| EllapsedTime: 31.3 seconds |
| RetCode: 0 |
| Status: OK |
| CheckDir: qckitfastq.Rcheck |
| Warnings: 0 |
##############################################################################
##############################################################################
###
### Running command:
###
### /Library/Frameworks/R.framework/Resources/bin/R CMD check --install=check:qckitfastq.install-out.txt --library=/Library/Frameworks/R.framework/Resources/library --no-vignettes --timings qckitfastq_1.24.0.tar.gz
###
##############################################################################
##############################################################################
* using log directory ‘/Users/biocbuild/bbs-3.21-bioc/meat/qckitfastq.Rcheck’
* using R version 4.5.0 RC (2025-04-04 r88126)
* using platform: aarch64-apple-darwin20
* R was compiled by
Apple clang version 14.0.0 (clang-1400.0.29.202)
GNU Fortran (GCC) 14.2.0
* running under: macOS Ventura 13.7.1
* using session charset: UTF-8
* using option ‘--no-vignettes’
* checking for file ‘qckitfastq/DESCRIPTION’ ... OK
* checking extension type ... Package
* this is package ‘qckitfastq’ version ‘1.24.0’
* package encoding: UTF-8
* checking package namespace information ... OK
* checking package dependencies ... OK
* checking if this is a source package ... OK
* checking if there is a namespace ... OK
* checking for hidden files and directories ... OK
* checking for portable file names ... OK
* checking for sufficient/correct file permissions ... OK
* checking whether package ‘qckitfastq’ can be installed ... OK
* used C++ compiler: ‘Apple clang version 15.0.0 (clang-1500.1.0.2.5)’
* used SDK: ‘MacOSX11.3.sdk’
* checking C++ specification ... NOTE
Specified C++14: please drop specification unless essential
* checking installed package size ... OK
* checking package directory ... OK
* checking ‘build’ directory ... OK
* checking DESCRIPTION meta-information ... OK
* checking top-level files ... OK
* checking for left-over files ... OK
* checking index information ... OK
* checking package subdirectories ... OK
* checking code files for non-ASCII characters ... OK
* checking R files for syntax errors ... OK
* checking whether the package can be loaded ... OK
* checking whether the package can be loaded with stated dependencies ... OK
* checking whether the package can be unloaded cleanly ... OK
* checking whether the namespace can be loaded with stated dependencies ... OK
* checking whether the namespace can be unloaded cleanly ... OK
* checking dependencies in R code ... OK
* checking S3 generic/method consistency ... OK
* checking replacement functions ... OK
* checking foreign function calls ... OK
* checking R code for possible problems ... OK
* checking Rd files ... OK
* checking Rd metadata ... OK
* checking Rd cross-references ... OK
* checking for missing documentation entries ... OK
* checking for code/documentation mismatches ... OK
* checking Rd \usage sections ... OK
* checking Rd contents ... OK
* checking for unstated dependencies in examples ... OK
* checking line endings in C/C++/Fortran sources/headers ... OK
* checking line endings in Makefiles ... OK
* checking compilation flags in Makevars ... OK
* checking for GNU extensions in Makefiles ... OK
* checking for portable use of $(BLAS_LIBS) and $(LAPACK_LIBS) ... OK
* checking use of PKG_*FLAGS in Makefiles ... OK
* checking compiled code ... NOTE
Note: information on .o files is not available
* checking sizes of PDF files under ‘inst/doc’ ... OK
* checking files in ‘vignettes’ ... OK
* checking examples ... OK
Examples with CPU (user + system) or elapsed time > 5s
user system elapsed
run_all 4.079 1.194 5.372
* checking for unstated dependencies in ‘tests’ ... OK
* checking tests ...
Running ‘testthat.R’
OK
* checking for unstated dependencies in vignettes ... OK
* checking package vignettes ... OK
* checking running R code from vignettes ... SKIPPED
* checking re-building of vignette outputs ... SKIPPED
* checking PDF version of manual ... OK
* DONE
Status: 2 NOTEs
See
‘/Users/biocbuild/bbs-3.21-bioc/meat/qckitfastq.Rcheck/00check.log’
for details.
qckitfastq.Rcheck/00install.out
##############################################################################
##############################################################################
###
### Running command:
###
### /Library/Frameworks/R.framework/Resources/bin/R CMD INSTALL qckitfastq
###
##############################################################################
##############################################################################
* installing to library ‘/Library/Frameworks/R.framework/Versions/4.5-arm64/Resources/library’
* installing *source* package ‘qckitfastq’ ...
** this is package ‘qckitfastq’ version ‘1.24.0’
** using staged installation
** libs
using C++ compiler: ‘Apple clang version 15.0.0 (clang-1500.1.0.2.5)’
using C++14
using SDK: ‘MacOSX11.3.sdk’
clang++ -arch arm64 -std=gnu++14 -I"/Library/Frameworks/R.framework/Resources/include" -DNDEBUG -I'/Library/Frameworks/R.framework/Versions/4.5-arm64/Resources/library/Rcpp/include' -I'/Library/Frameworks/R.framework/Versions/4.5-arm64/Resources/library/RSeqAn/include' -I/opt/R/arm64/include -fPIC -falign-functions=64 -Wall -g -O2 -c RcppExports.cpp -o RcppExports.o
clang++ -arch arm64 -std=gnu++14 -I"/Library/Frameworks/R.framework/Resources/include" -DNDEBUG -I'/Library/Frameworks/R.framework/Versions/4.5-arm64/Resources/library/Rcpp/include' -I'/Library/Frameworks/R.framework/Versions/4.5-arm64/Resources/library/RSeqAn/include' -I/opt/R/arm64/include -fPIC -falign-functions=64 -Wall -g -O2 -c calc_adapter_content.cpp -o calc_adapter_content.o
In file included from calc_adapter_content.cpp:7:
In file included from /Library/Frameworks/R.framework/Versions/4.5-arm64/Resources/library/RSeqAn/include/seqan/find.h:44:
In file included from /Library/Frameworks/R.framework/Versions/4.5-arm64/Resources/library/RSeqAn/include/seqan/modifier.h:48:
In file included from /Library/Frameworks/R.framework/Versions/4.5-arm64/Resources/library/RSeqAn/include/seqan/parallel.h:92:
/Library/Frameworks/R.framework/Versions/4.5-arm64/Resources/library/RSeqAn/include/seqan/parallel/parallel_resource_pool.h:69:18: warning: variable 'count' set but not used [-Wunused-but-set-variable]
unsigned count = 0;
^
In file included from calc_adapter_content.cpp:7:
In file included from /Library/Frameworks/R.framework/Versions/4.5-arm64/Resources/library/RSeqAn/include/seqan/find.h:45:
In file included from /Library/Frameworks/R.framework/Versions/4.5-arm64/Resources/library/RSeqAn/include/seqan/score.h:48:
/Library/Frameworks/R.framework/Versions/4.5-arm64/Resources/library/RSeqAn/include/seqan/score/score_matrix_io.h:125:19: warning: variable 'row' set but not used [-Wunused-but-set-variable]
for (unsigned row = 0; !atEnd(reader); ++row)
^
In file included from calc_adapter_content.cpp:7:
In file included from /Library/Frameworks/R.framework/Versions/4.5-arm64/Resources/library/RSeqAn/include/seqan/find.h:73:
/Library/Frameworks/R.framework/Versions/4.5-arm64/Resources/library/RSeqAn/include/seqan/find/find_wild_shiftand.h:160:11: warning: variable 'len' set but not used [-Wunused-but-set-variable]
TWord len = nl;
^
3 warnings generated.
clang++ -arch arm64 -std=gnu++14 -I"/Library/Frameworks/R.framework/Resources/include" -DNDEBUG -I'/Library/Frameworks/R.framework/Versions/4.5-arm64/Resources/library/Rcpp/include' -I'/Library/Frameworks/R.framework/Versions/4.5-arm64/Resources/library/RSeqAn/include' -I/opt/R/arm64/include -fPIC -falign-functions=64 -Wall -g -O2 -c gzstream.cpp -o gzstream.o
clang++ -arch arm64 -std=gnu++14 -I"/Library/Frameworks/R.framework/Resources/include" -DNDEBUG -I'/Library/Frameworks/R.framework/Versions/4.5-arm64/Resources/library/Rcpp/include' -I'/Library/Frameworks/R.framework/Versions/4.5-arm64/Resources/library/RSeqAn/include' -I/opt/R/arm64/include -fPIC -falign-functions=64 -Wall -g -O2 -c read_fastq.cpp -o read_fastq.o
read_fastq.cpp:30:32: warning: unused variable 'it' [-Wunused-variable]
std::vector<int>::iterator it;
^
read_fastq.cpp:158:36: warning: unused variable 'qual_by_col_it' [-Wunused-variable]
std::vector<uint8_t>::iterator qual_by_col_it;
^
2 warnings generated.
clang++ -arch arm64 -std=gnu++14 -dynamiclib -Wl,-headerpad_max_install_names -undefined dynamic_lookup -L/Library/Frameworks/R.framework/Resources/lib -L/opt/R/arm64/lib -o qckitfastq.so RcppExports.o calc_adapter_content.o gzstream.o read_fastq.o -lz -F/Library/Frameworks/R.framework/.. -framework R
installing to /Library/Frameworks/R.framework/Versions/4.5-arm64/Resources/library/00LOCK-qckitfastq/00new/qckitfastq/libs
** R
** inst
** byte-compile and prepare package for lazy loading
** help
*** installing help indices
** building package indices
** installing vignettes
** testing if installed package can be loaded from temporary location
** checking absolute paths in shared objects and dynamic libraries
** testing if installed package can be loaded from final location
** testing if installed package keeps a record of temporary installation path
* DONE (qckitfastq)
qckitfastq.Rcheck/tests/testthat.Rout
R version 4.5.0 RC (2025-04-04 r88126) -- "How About a Twenty-Six"
Copyright (C) 2025 The R Foundation for Statistical Computing
Platform: aarch64-apple-darwin20
R is free software and comes with ABSOLUTELY NO WARRANTY.
You are welcome to redistribute it under certain conditions.
Type 'license()' or 'licence()' for distribution details.
R is a collaborative project with many contributors.
Type 'contributors()' for more information and
'citation()' on how to cite R or R packages in publications.
Type 'demo()' for some demos, 'help()' for on-line help, or
'help.start()' for an HTML browser interface to help.
Type 'q()' to quit R.
> library(testthat)
> library(qckitfastq)
>
> test_check("qckitfastq")
[fastqq] File ( 1/1) '/Library/Frameworks/R.framework/Versions/4.5-arm64/Resources/library/qckitfastq/extdata/10^5_reads_test.fq.gz' done.
[fastq_Klocs] File ( 1/1) '/Library/Frameworks/R.framework/Versions/4.5-arm64/Resources/library/qckitfastq/extdata/10^5_reads_test.fq.gz' done.
[fastqq] File ( 1/1) '/Library/Frameworks/R.framework/Versions/4.5-arm64/Resources/library/qckitfastq/extdata/10^5_reads_test.fq.gz' done.
[fastqq] File ( 1/1) '/Library/Frameworks/R.framework/Versions/4.5-arm64/Resources/library/qckitfastq/extdata/10^5_reads_test.fq.gz' done.
2025-04-21 21:03:46.353 R[90612:1005042250] XType: Using static font registry.
[fastq_Klocs] File ( 1/1) '/Library/Frameworks/R.framework/Versions/4.5-arm64/Resources/library/qckitfastq/extdata/10^5_reads_test.fq.gz' done.
[fastqq] File ( 1/1) '/Library/Frameworks/R.framework/Versions/4.5-arm64/Resources/library/qckitfastq/extdata/10^5_reads_test.fq.gz' done.
[fastq_Klocs] File ( 1/1) '/Library/Frameworks/R.framework/Versions/4.5-arm64/Resources/library/qckitfastq/extdata/10^5_reads_test.fq.gz' done.
[ FAIL 0 | WARN 4 | SKIP 0 | PASS 37 ]
[ FAIL 0 | WARN 4 | SKIP 0 | PASS 37 ]
>
> proc.time()
user system elapsed
6.397 1.254 7.691
qckitfastq.Rcheck/qckitfastq-Ex.timings
| name | user | system | elapsed | |
| GC_content | 0.080 | 0.001 | 0.081 | |
| adapter_content | 0.002 | 0.001 | 0.002 | |
| calc_adapter_content | 0.001 | 0.001 | 0.001 | |
| calc_format_score | 0 | 0 | 0 | |
| calc_over_rep_seq | 0.041 | 0.001 | 0.042 | |
| dimensions | 0.048 | 0.002 | 0.049 | |
| find_format | 0.000 | 0.000 | 0.001 | |
| gc_per_read | 0.078 | 0.001 | 0.078 | |
| kmer_count | 0.026 | 0.000 | 0.027 | |
| overrep_kmer | 0.095 | 0.004 | 0.100 | |
| overrep_reads | 0.041 | 0.001 | 0.042 | |
| per_base_quality | 0.101 | 0.003 | 0.103 | |
| per_read_quality | 0.102 | 0.002 | 0.104 | |
| plot_GC_content | 0.235 | 0.004 | 0.239 | |
| plot_adapter_content | 0.055 | 0.005 | 0.060 | |
| plot_overrep_kmer | 0.135 | 0.002 | 0.137 | |
| plot_overrep_reads | 0.080 | 0.002 | 0.081 | |
| plot_per_base_quality | 0.348 | 0.003 | 0.351 | |
| plot_per_read_quality | 0.136 | 0.003 | 0.139 | |
| plot_read_content | 0.093 | 0.001 | 0.094 | |
| plot_read_length | 0.073 | 0.002 | 0.074 | |
| qual_score_per_read | 0.099 | 0.002 | 0.101 | |
| read_base_content | 0.031 | 0.001 | 0.032 | |
| read_content | 0.032 | 0.001 | 0.034 | |
| read_length | 0.001 | 0.001 | 0.002 | |
| run_all | 4.079 | 1.194 | 5.372 | |