| Back to Multiple platform build/check report for BioC 3.22: simplified long |
|
This page was generated on 2025-11-20 12:04 -0500 (Thu, 20 Nov 2025).
| Hostname | OS | Arch (*) | R version | Installed pkgs |
|---|---|---|---|---|
| nebbiolo2 | Linux (Ubuntu 24.04.3 LTS) | x86_64 | 4.5.2 (2025-10-31) -- "[Not] Part in a Rumble" | 4615 |
| merida1 | macOS 12.7.6 Monterey | x86_64 | 4.5.2 Patched (2025-11-05 r88990) -- "[Not] Part in a Rumble" | 4610 |
| kjohnson1 | macOS 13.7.5 Ventura | arm64 | 4.5.2 Patched (2025-11-04 r88984) -- "[Not] Part in a Rumble" | 4598 |
| taishan | Linux (openEuler 24.03 LTS) | aarch64 | 4.5.0 (2025-04-11) -- "How About a Twenty-Six" | 4668 |
| Click on any hostname to see more info about the system (e.g. compilers) (*) as reported by 'uname -p', except on Windows and Mac OS X | ||||
| Package 1618/2361 | Hostname | OS / Arch | INSTALL | BUILD | CHECK | BUILD BIN | ||||||||
| plyxp 1.4.3 (landing page) Justin Landis
| nebbiolo2 | Linux (Ubuntu 24.04.3 LTS) / x86_64 | OK | OK | OK | |||||||||
| merida1 | macOS 12.7.6 Monterey / x86_64 | OK | OK | OK | OK | |||||||||
| kjohnson1 | macOS 13.7.5 Ventura / arm64 | OK | OK | OK | OK | |||||||||
| taishan | Linux (openEuler 24.03 LTS) / aarch64 | OK | OK | OK | ||||||||||
|
To the developers/maintainers of the plyxp package: - Allow up to 24 hours (and sometimes 48 hours) for your latest push to git@git.bioconductor.org:packages/plyxp.git to reflect on this report. See Troubleshooting Build Report for more information. - Use the following Renviron settings to reproduce errors and warnings. - If 'R CMD check' started to fail recently on the Linux builder(s) over a missing dependency, add the missing dependency to 'Suggests:' in your DESCRIPTION file. See Renviron.bioc for more information. |
| Package: plyxp |
| Version: 1.4.3 |
| Command: /home/biocbuild/bbs-3.22-bioc/R/bin/R CMD check --install=check:plyxp.install-out.txt --library=/home/biocbuild/bbs-3.22-bioc/R/site-library --timings plyxp_1.4.3.tar.gz |
| StartedAt: 2025-11-18 07:14:00 -0500 (Tue, 18 Nov 2025) |
| EndedAt: 2025-11-18 07:17:25 -0500 (Tue, 18 Nov 2025) |
| EllapsedTime: 205.2 seconds |
| RetCode: 0 |
| Status: OK |
| CheckDir: plyxp.Rcheck |
| Warnings: 0 |
##############################################################################
##############################################################################
###
### Running command:
###
### /home/biocbuild/bbs-3.22-bioc/R/bin/R CMD check --install=check:plyxp.install-out.txt --library=/home/biocbuild/bbs-3.22-bioc/R/site-library --timings plyxp_1.4.3.tar.gz
###
##############################################################################
##############################################################################
* using log directory ‘/home/biocbuild/bbs-3.22-bioc/meat/plyxp.Rcheck’
* using R version 4.5.2 (2025-10-31)
* using platform: x86_64-pc-linux-gnu
* R was compiled by
gcc (Ubuntu 13.3.0-6ubuntu2~24.04) 13.3.0
GNU Fortran (Ubuntu 13.3.0-6ubuntu2~24.04) 13.3.0
* running under: Ubuntu 24.04.3 LTS
* using session charset: UTF-8
* checking for file ‘plyxp/DESCRIPTION’ ... OK
* this is package ‘plyxp’ version ‘1.4.3’
* package encoding: UTF-8
* checking package namespace information ... OK
* checking package dependencies ... OK
* checking if this is a source package ... OK
* checking if there is a namespace ... OK
* checking for hidden files and directories ... OK
* checking for portable file names ... OK
* checking for sufficient/correct file permissions ... OK
* checking whether package ‘plyxp’ can be installed ... OK
* checking installed package size ... OK
* checking package directory ... OK
* checking ‘build’ directory ... OK
* checking DESCRIPTION meta-information ... OK
* checking top-level files ... OK
* checking for left-over files ... OK
* checking index information ... OK
* checking package subdirectories ... OK
* checking code files for non-ASCII characters ... OK
* checking R files for syntax errors ... OK
* checking whether the package can be loaded ... OK
* checking whether the package can be loaded with stated dependencies ... OK
* checking whether the package can be unloaded cleanly ... OK
* checking whether the namespace can be loaded with stated dependencies ... OK
* checking whether the namespace can be unloaded cleanly ... OK
* checking loading without being on the library search path ... OK
* checking dependencies in R code ... OK
* checking S3 generic/method consistency ... OK
* checking replacement functions ... OK
* checking foreign function calls ... OK
* checking R code for possible problems ... OK
* checking Rd files ... OK
* checking Rd metadata ... OK
* checking Rd cross-references ... OK
* checking for missing documentation entries ... OK
* checking for code/documentation mismatches ... OK
* checking Rd \usage sections ... OK
* checking Rd contents ... OK
* checking for unstated dependencies in examples ... OK
* checking contents of ‘data’ directory ... OK
* checking data for non-ASCII characters ... OK
* checking LazyData ... OK
* checking data for ASCII and uncompressed saves ... OK
* checking files in ‘vignettes’ ... OK
* checking examples ... OK
* checking for unstated dependencies in ‘tests’ ... OK
* checking tests ...
Running ‘testthat.R’
OK
* checking for unstated dependencies in vignettes ... OK
* checking package vignettes ... OK
* checking re-building of vignette outputs ... OK
* checking PDF version of manual ... OK
* DONE
Status: OK
plyxp.Rcheck/00install.out
############################################################################## ############################################################################## ### ### Running command: ### ### /home/biocbuild/bbs-3.22-bioc/R/bin/R CMD INSTALL plyxp ### ############################################################################## ############################################################################## * installing to library ‘/home/biocbuild/bbs-3.22-bioc/R/site-library’ * installing *source* package ‘plyxp’ ... ** this is package ‘plyxp’ version ‘1.4.3’ ** using staged installation ** R ** data *** moving datasets to lazyload DB ** byte-compile and prepare package for lazy loading Creating a generic function for ‘rownames’ from package ‘base’ in package ‘plyxp’ Creating a generic function for ‘colnames’ from package ‘base’ in package ‘plyxp’ Creating a generic function for ‘nrow’ from package ‘base’ in package ‘plyxp’ Creating a generic function for ‘ncol’ from package ‘base’ in package ‘plyxp’ ** help *** installing help indices *** copying figures ** building package indices ** installing vignettes ** testing if installed package can be loaded from temporary location ** testing if installed package can be loaded from final location ** testing if installed package keeps a record of temporary installation path * DONE (plyxp)
plyxp.Rcheck/tests/testthat.Rout
R version 4.5.2 (2025-10-31) -- "[Not] Part in a Rumble"
Copyright (C) 2025 The R Foundation for Statistical Computing
Platform: x86_64-pc-linux-gnu
R is free software and comes with ABSOLUTELY NO WARRANTY.
You are welcome to redistribute it under certain conditions.
Type 'license()' or 'licence()' for distribution details.
R is a collaborative project with many contributors.
Type 'contributors()' for more information and
'citation()' on how to cite R or R packages in publications.
Type 'demo()' for some demos, 'help()' for on-line help, or
'help.start()' for an HTML browser interface to help.
Type 'q()' to quit R.
> library("testthat")
> library("plyxp")
Attaching package: 'plyxp'
The following object is masked from 'package:stats':
filter
>
> test_check("plyxp")
[ FAIL 0 | WARN 0 | SKIP 6 | PASS 177 ]
══ Skipped tests (6) ═══════════════════════════════════════════════════════════
• On CRAN (6): 'test_printing.R:1:1', 'test_printing.R:5:1',
'test_printing.R:12:1', 'test_printing.R:19:1', 'test_printing.R:23:1',
'test_printing.R:27:1'
[ FAIL 0 | WARN 0 | SKIP 6 | PASS 177 ]
>
> proc.time()
user system elapsed
15.276 0.671 15.946
plyxp.Rcheck/plyxp-Ex.timings
| name | user | system | elapsed | |
| PlySummarizedExperiment-methods | 0.04 | 0.00 | 0.04 | |
| arrange | 1.23 | 0.01 | 1.24 | |
| as.data.frame | 0.007 | 0.001 | 0.008 | |
| dot-pronouns | 0.126 | 0.027 | 0.154 | |
| filter | 0.387 | 0.083 | 0.470 | |
| group_by | 0.220 | 0.036 | 0.256 | |
| group_data | 0.122 | 0.000 | 0.123 | |
| group_split | 0.539 | 0.002 | 0.541 | |
| group_vars | 0.068 | 0.000 | 0.068 | |
| mutate | 0.165 | 0.000 | 0.165 | |
| new_plyxp | 0.092 | 0.000 | 0.092 | |
| plyxp-context | 0.123 | 0.000 | 0.123 | |
| plyxp-printing | 0.238 | 0.003 | 0.241 | |
| plyxp | 0.110 | 0.001 | 0.110 | |
| pull | 0.064 | 0.000 | 0.064 | |
| reexports | 0.257 | 0.000 | 0.258 | |
| se_simple | 0.01 | 0.00 | 0.01 | |
| select | 0.479 | 0.026 | 0.504 | |
| slice | 0.284 | 0.009 | 0.292 | |
| summarize | 0.553 | 0.002 | 0.555 | |
| vctrs-vec_chop | 0.013 | 0.000 | 0.013 | |
| vctrs-vec_recycle | 0.007 | 0.000 | 0.006 | |
| vctrs-vec_rep | 0.027 | 0.000 | 0.028 | |
| vctrs_slice | 0.003 | 0.000 | 0.003 | |
| vec_group_id | 0.043 | 0.000 | 0.043 | |
| vectors | 0.002 | 0.000 | 0.002 | |