| Back to Multiple platform build/check report for BioC 3.21: simplified long |
|
This page was generated on 2025-10-16 11:41 -0400 (Thu, 16 Oct 2025).
| Hostname | OS | Arch (*) | R version | Installed pkgs |
|---|---|---|---|---|
| nebbiolo1 | Linux (Ubuntu 24.04.3 LTS) | x86_64 | 4.5.1 (2025-06-13) -- "Great Square Root" | 4833 |
| merida1 | macOS 12.7.6 Monterey | x86_64 | 4.5.1 RC (2025-06-05 r88288) -- "Great Square Root" | 4614 |
| kjohnson1 | macOS 13.7.5 Ventura | arm64 | 4.5.1 Patched (2025-06-14 r88325) -- "Great Square Root" | 4555 |
| kunpeng2 | Linux (openEuler 24.03 LTS) | aarch64 | R Under development (unstable) (2025-02-19 r87757) -- "Unsuffered Consequences" | 4586 |
| Click on any hostname to see more info about the system (e.g. compilers) (*) as reported by 'uname -p', except on Windows and Mac OS X | ||||
| Package 1552/2341 | Hostname | OS / Arch | INSTALL | BUILD | CHECK | BUILD BIN | ||||||||
| peakPantheR 1.22.1 (landing page) Arnaud Wolfer
| nebbiolo1 | Linux (Ubuntu 24.04.3 LTS) / x86_64 | OK | OK | OK | |||||||||
| merida1 | macOS 12.7.6 Monterey / x86_64 | OK | OK | OK | OK | |||||||||
| kjohnson1 | macOS 13.7.5 Ventura / arm64 | OK | OK | ERROR | OK | |||||||||
| kunpeng2 | Linux (openEuler 24.03 LTS) / aarch64 | OK | OK | ERROR | ||||||||||
|
To the developers/maintainers of the peakPantheR package: - Allow up to 24 hours (and sometimes 48 hours) for your latest push to git@git.bioconductor.org:packages/peakPantheR.git to reflect on this report. See Troubleshooting Build Report for more information. - Use the following Renviron settings to reproduce errors and warnings. - If 'R CMD check' started to fail recently on the Linux builder(s) over a missing dependency, add the missing dependency to 'Suggests:' in your DESCRIPTION file. See Renviron.bioc for more information. - See Martin Grigorov's blog post for how to debug Linux ARM64 related issues on a x86_64 host. |
| Package: peakPantheR |
| Version: 1.22.1 |
| Command: /home/biocbuild/R/R/bin/R CMD check --install=check:peakPantheR.install-out.txt --library=/home/biocbuild/R/R/site-library --no-vignettes --timings peakPantheR_1.22.1.tar.gz |
| StartedAt: 2025-10-14 12:25:21 -0000 (Tue, 14 Oct 2025) |
| EndedAt: 2025-10-14 12:53:45 -0000 (Tue, 14 Oct 2025) |
| EllapsedTime: 1703.7 seconds |
| RetCode: 1 |
| Status: ERROR |
| CheckDir: peakPantheR.Rcheck |
| Warnings: NA |
##############################################################################
##############################################################################
###
### Running command:
###
### /home/biocbuild/R/R/bin/R CMD check --install=check:peakPantheR.install-out.txt --library=/home/biocbuild/R/R/site-library --no-vignettes --timings peakPantheR_1.22.1.tar.gz
###
##############################################################################
##############################################################################
* using log directory ‘/home/biocbuild/bbs-3.21-bioc/meat/peakPantheR.Rcheck’
* using R Under development (unstable) (2025-02-19 r87757)
* using platform: aarch64-unknown-linux-gnu
* R was compiled by
aarch64-unknown-linux-gnu-gcc (GCC) 14.2.0
GNU Fortran (GCC) 14.2.0
* running under: openEuler 24.03 (LTS-SP1)
* using session charset: UTF-8
* using option ‘--no-vignettes’
* checking for file ‘peakPantheR/DESCRIPTION’ ... OK
* this is package ‘peakPantheR’ version ‘1.22.1’
* package encoding: UTF-8
* checking package namespace information ... OK
* checking package dependencies ... OK
* checking if this is a source package ... OK
* checking if there is a namespace ... OK
* checking for hidden files and directories ... OK
* checking for portable file names ... OK
* checking for sufficient/correct file permissions ... OK
* checking whether package ‘peakPantheR’ can be installed ... OK
* checking installed package size ... OK
* checking package directory ... OK
* checking ‘build’ directory ... OK
* checking DESCRIPTION meta-information ... OK
* checking top-level files ... OK
* checking for left-over files ... OK
* checking index information ... OK
* checking package subdirectories ... OK
* checking code files for non-ASCII characters ... OK
* checking R files for syntax errors ... OK
* checking whether the package can be loaded ... OK
* checking whether the package can be loaded with stated dependencies ... OK
* checking whether the package can be unloaded cleanly ... OK
* checking whether the namespace can be loaded with stated dependencies ... OK
* checking whether the namespace can be unloaded cleanly ... OK
* checking loading without being on the library search path ... OK
* checking whether startup messages can be suppressed ... OK
* checking dependencies in R code ... OK
* checking S3 generic/method consistency ... OK
* checking replacement functions ... OK
* checking foreign function calls ... OK
* checking R code for possible problems ... OK
* checking Rd files ... OK
* checking Rd metadata ... OK
* checking Rd cross-references ... OK
* checking for missing documentation entries ... OK
* checking for code/documentation mismatches ... OK
* checking Rd \usage sections ... OK
* checking Rd contents ... OK
* checking for unstated dependencies in examples ... OK
* checking files in ‘vignettes’ ... OK
* checking examples ... OK
Examples with CPU (user + system) or elapsed time > 5s
user system elapsed
peakPantheR_ROIStatistics 27.746 0.156 27.965
peakPantheR_parallelAnnotation 19.436 0.020 19.489
outputAnnotationDiagnostic-peakPantheRAnnotation-method 19.077 0.032 19.241
outputAnnotationResult-peakPantheRAnnotation-method 18.645 0.040 18.721
EICs-peakPantheRAnnotation-method 15.754 0.571 16.427
retentionTimeCorrection-peakPantheRAnnotation-method 12.853 0.020 12.894
peakPantheR_singleFileSearch 6.551 0.020 6.583
peakPantheR_quickEIC 5.582 0.003 5.596
* checking for unstated dependencies in ‘tests’ ... OK
* checking tests ...
Running ‘testthat.R’
ERROR
Running the tests in ‘tests/testthat.R’ failed.
Last 13 lines of output:
Error: Test failures
In addition: Warning messages:
1: In .Internal(gc(verbose, reset, full)) :
closing unused connection 10 (/home/biocbuild/tmp/RtmpEOa60e/notValidXML.mzML)
2: In .Internal(gc(verbose, reset, full)) :
closing unused connection 9 (/home/biocbuild/tmp/RtmpEOa60e/notValidXML.mzML)
3: In .Internal(gc(verbose, reset, full)) :
closing unused connection 8 (/home/biocbuild/tmp/RtmpEOa60e/notValidXML.mzML)
4: In .Internal(gc(verbose, reset, full)) :
closing unused connection 7 (/home/biocbuild/tmp/RtmpEOa60e/notValidXML.mzML)
5: In .Internal(gc(verbose, reset, full)) :
closing unused connection 6 (/home/biocbuild/R/R-devel_2025-02-19/site-library/peakPantheR/extdata/test_fakemzML.mzML)
6: In .Internal(gc(verbose, reset, full)) :
closing unused connection 5 (/home/biocbuild/R/R-devel_2025-02-19/site-library/peakPantheR/extdata/test_fakemzML.mzML)
Execution halted
* checking for unstated dependencies in vignettes ... OK
* checking package vignettes ... OK
* checking running R code from vignettes ... SKIPPED
* checking re-building of vignette outputs ... SKIPPED
* checking PDF version of manual ... OK
* DONE
Status: 1 ERROR
See
‘/home/biocbuild/bbs-3.21-bioc/meat/peakPantheR.Rcheck/00check.log’
for details.
peakPantheR.Rcheck/00install.out
############################################################################## ############################################################################## ### ### Running command: ### ### /home/biocbuild/R/R/bin/R CMD INSTALL peakPantheR ### ############################################################################## ############################################################################## * installing to library ‘/home/biocbuild/R/R-devel_2025-02-19/site-library’ * installing *source* package ‘peakPantheR’ ... ** this is package ‘peakPantheR’ version ‘1.22.1’ ** using staged installation ** R ** inst ** byte-compile and prepare package for lazy loading ** help *** installing help indices *** copying figures ** building package indices ** installing vignettes ** testing if installed package can be loaded from temporary location ** testing if installed package can be loaded from final location ** testing if installed package keeps a record of temporary installation path * DONE (peakPantheR)
peakPantheR.Rcheck/tests/testthat.Rout.fail
R Under development (unstable) (2025-02-19 r87757) -- "Unsuffered Consequences"
Copyright (C) 2025 The R Foundation for Statistical Computing
Platform: aarch64-unknown-linux-gnu
R is free software and comes with ABSOLUTELY NO WARRANTY.
You are welcome to redistribute it under certain conditions.
Type 'license()' or 'licence()' for distribution details.
R is a collaborative project with many contributors.
Type 'contributors()' for more information and
'citation()' on how to cite R or R packages in publications.
Type 'demo()' for some demos, 'help()' for on-line help, or
'help.start()' for an HTML browser interface to help.
Type 'q()' to quit R.
> library(testthat)
> library(peakPantheR)
This is peakPantheR version 1.22.1
>
> test_check("peakPantheR")
[ FAIL 11 | WARN 0 | SKIP 0 | PASS 1469 ]
══ Failed tests ════════════════════════════════════════════════════════════════
── Failure ('test_findTargetFeatures.R:236:3'): ratio of fit residuals at apex or across maximum is superior to "maxApexResidualRatio", fit is rejected, verbose ──
result_foundPeaks$result not equal to `expected_foundPeaks`.
Component "peakTable": Component "found": 1 element mismatch
Component "peakTable": Component "rtMin": 'is.NA' value mismatch: 1 in current 0 in target
Component "peakTable": Component "rt": 'is.NA' value mismatch: 1 in current 0 in target
Component "peakTable": Component "rtMax": 'is.NA' value mismatch: 1 in current 0 in target
Component "peakTable": Component "mzMin": 'is.NA' value mismatch: 1 in current 0 in target
Component "peakTable": Component "mz": 'is.NA' value mismatch: 1 in current 0 in target
Component "peakTable": Component "mzMax": 'is.NA' value mismatch: 1 in current 0 in target
Component "peakTable": Component "peakArea": 'is.NA' value mismatch: 1 in current 0 in target
Component "peakTable": Component "peakAreaRaw": 'is.NA' value mismatch: 1 in current 0 in target
...
── Failure ('test_findTargetFeatures.R:239:3'): ratio of fit residuals at apex or across maximum is superior to "maxApexResidualRatio", fit is rejected, verbose ──
length(result_foundPeaks$messages) not equal to 5.
1/1 mismatches
[1] 4 - 5 == -1
── Failure ('test_findTargetFeatures.R:240:3'): ratio of fit residuals at apex or across maximum is superior to "maxApexResidualRatio", fit is rejected, verbose ──
result_foundPeaks$messages[1:4] not equal to `expected_messages`.
2/4 mismatches
x[3]: "Warning: rtMin/rtMax outside of ROI; datapoints cannot be used for mzMin/
x[3]: mzMax calculation, approximate mz and returning ROI$mzMin and ROI$mzMax fo
x[3]: r ROI #4\n"
y[3]: "Fit of ROI #3 is unsuccessful (apex residuals is 0.45 of max fit intensit
y[3]: y, max intensity residuals is 0.46 of max fit intensity)\n"
x[4]: "Found 4/4 features in 0.05 secs\n"
y[4]: "Warning: rtMin/rtMax outside of ROI; datapoints cannot be used for mzMin/
y[4]: mzMax calculation, approximate mz and returning ROI$mzMin and ROI$mzMax fo
y[4]: r ROI #4\n"
── Failure ('test_fitCurve.R:55:3'): fit emgGaussian, input params ─────────────
`result_fit` not equal to `expected_fit`.
Component "amplitude": Mean relative difference: 0.0498193
Component "center": Mean relative difference: 8.406796e-05
Component "gamma": Mean relative difference: 0.03903418
── Failure ('test_peakPantheR_ROIStatistics.R:77:3'): 3 files, save EICS, mean IS RT, save IS fit, with sampleColour, verbose, no verbose ──
length(result_ROIstatsV$messages) not equal to 64.
1/1 mismatches
[1] 63 - 64 == -1
── Failure ('test_peakPantheR_ROIStatistics.R:78:3'): 3 files, save EICS, mean IS RT, save IS fit, with sampleColour, verbose, no verbose ──
...[] not equal to `expected_message`.
4/23 mismatches
x[20]: "----------------\n"
y[20]: "Annotation object cannot be reordered by sample acquisition date\n"
x[21]: "Parallel annotation done in: 20.8 secs\n"
y[21]: "----------------\n"
x[22]: "Annotation parameters saved at /home/biocbuild/tmp/RtmpEOa60e/IS_search/a
x[22]: nnotationParameters_summary.csv\n"
y[22]: " 0 failure(s)\n"
x[23]: " Compound 1/4 diagnostic plot saved at /home/biocbuild/tmp/RtmpEOa60e/IS
x[23]: _search/cpd_1.png\n"
y[23]: "Saving diagnostic plots:\n"
── Failure ('test_peakPantheR_ROIStatistics.R:156:3'): 3 files, no save EICs, mean IS RT, no IS fit, without sampleColour, verbose, no verbose ──
length(result_ROIstatsV$messages) not equal to 47.
1/1 mismatches
[1] 46 - 47 == -1
── Failure ('test_peakPantheR_ROIStatistics.R:157:3'): 3 files, no save EICs, mean IS RT, no IS fit, without sampleColour, verbose, no verbose ──
result_ROIstatsV$messages[c(1:2, 4:12, 44, 46)] not equal to `expected_message`.
2/13 mismatches
x[12]: "Parallel annotation done in: 20.35 secs\n"
y[12]: "----------------\n"
x[13]: "IS mean RT saved at /home/biocbuild/tmp/RtmpEOa60e/IS_mean_RT.csv\n"
y[13]: " 0 failure(s)\n"
── Failure ('test_peakPantheR_parallelAnnotation.R:138:3'): 3 files, 4 compounds, no uROI, no FIR, no getAcquTime, no verbose ──
result_parallelAnnotation$result$annotation not equal to `expected_annotation`.
Attributes: < Component "peakFit": Component 3: Component 3: Modes: list, logical >
Attributes: < Component "peakFit": Component 3: Component 3: names for target but not for current >
Attributes: < Component "peakFit": Component 3: Component 3: Attributes: < Modes: list, NULL > >
Attributes: < Component "peakFit": Component 3: Component 3: Attributes: < names for target but not for current > >
Attributes: < Component "peakFit": Component 3: Component 3: Attributes: < current is not list-like > >
Attributes: < Component "peakFit": Component 3: Component 3: Length mismatch: comparison on first 1 components >
Attributes: < Component "peakFit": Component 3: Component 3: Component 1: Modes: numeric, logical >
Attributes: < Component "peakFit": Component 3: Component 3: Component 1: target is numeric, current is logical >
Attributes: < Component "peakTables": Component 3: Component 1: 1 element mismatch >
...
── Failure ('test_peakPantheR_parallelAnnotation.R:171:3'): 3 files (1 missing), 4 compounds, no uROI, no FIR, no getAcquTime, no verbose ──
result_parallelAnnotation$result$annotation not equal to `expected_annotation`.
Attributes: < Component "peakFit": Component 2: Component 3: Modes: list, logical >
Attributes: < Component "peakFit": Component 2: Component 3: names for target but not for current >
Attributes: < Component "peakFit": Component 2: Component 3: Attributes: < Modes: list, NULL > >
Attributes: < Component "peakFit": Component 2: Component 3: Attributes: < names for target but not for current > >
Attributes: < Component "peakFit": Component 2: Component 3: Attributes: < current is not list-like > >
Attributes: < Component "peakFit": Component 2: Component 3: Length mismatch: comparison on first 1 components >
Attributes: < Component "peakFit": Component 2: Component 3: Component 1: Modes: numeric, logical >
Attributes: < Component "peakFit": Component 2: Component 3: Component 1: target is numeric, current is logical >
Attributes: < Component "peakTables": Component 2: Component 1: 1 element mismatch >
...
── Failure ('test_peakPantheR_parallelAnnotation.R:364:3'): 3 files, 4 compounds, uROI, no FIR, no fitGauss, no getAcquTime, no verbose ──
result_parallelAnnotation$result$annotation not equal to `expected_annotation`.
Attributes: < Component "peakFit": Component 3: Component 3: Modes: list, logical >
Attributes: < Component "peakFit": Component 3: Component 3: names for target but not for current >
Attributes: < Component "peakFit": Component 3: Component 3: Attributes: < Modes: list, NULL > >
Attributes: < Component "peakFit": Component 3: Component 3: Attributes: < names for target but not for current > >
Attributes: < Component "peakFit": Component 3: Component 3: Attributes: < current is not list-like > >
Attributes: < Component "peakFit": Component 3: Component 3: Length mismatch: comparison on first 1 components >
Attributes: < Component "peakFit": Component 3: Component 3: Component 1: Modes: numeric, logical >
Attributes: < Component "peakFit": Component 3: Component 3: Component 1: target is numeric, current is logical >
Attributes: < Component "peakTables": Component 3: Component 1: 1 element mismatch >
...
[ FAIL 11 | WARN 0 | SKIP 0 | PASS 1469 ]
Error: Test failures
In addition: Warning messages:
1: In .Internal(gc(verbose, reset, full)) :
closing unused connection 10 (/home/biocbuild/tmp/RtmpEOa60e/notValidXML.mzML)
2: In .Internal(gc(verbose, reset, full)) :
closing unused connection 9 (/home/biocbuild/tmp/RtmpEOa60e/notValidXML.mzML)
3: In .Internal(gc(verbose, reset, full)) :
closing unused connection 8 (/home/biocbuild/tmp/RtmpEOa60e/notValidXML.mzML)
4: In .Internal(gc(verbose, reset, full)) :
closing unused connection 7 (/home/biocbuild/tmp/RtmpEOa60e/notValidXML.mzML)
5: In .Internal(gc(verbose, reset, full)) :
closing unused connection 6 (/home/biocbuild/R/R-devel_2025-02-19/site-library/peakPantheR/extdata/test_fakemzML.mzML)
6: In .Internal(gc(verbose, reset, full)) :
closing unused connection 5 (/home/biocbuild/R/R-devel_2025-02-19/site-library/peakPantheR/extdata/test_fakemzML.mzML)
Execution halted
peakPantheR.Rcheck/peakPantheR-Ex.timings
| name | user | system | elapsed | |
| EICs-peakPantheRAnnotation-method | 15.754 | 0.571 | 16.427 | |
| FIR-peakPantheRAnnotation-method | 0.034 | 0.000 | 0.034 | |
| ROI-peakPantheRAnnotation-method | 0.026 | 0.000 | 0.027 | |
| TIC-peakPantheRAnnotation-method | 0.025 | 0.000 | 0.025 | |
| acquisitionTime-peakPantheRAnnotation-method | 0.026 | 0.000 | 0.026 | |
| annotationDiagnosticPlots-peakPantheRAnnotation-method | 0.025 | 0.000 | 0.025 | |
| annotationParamsDiagnostic-peakPantheRAnnotation-method | 0.025 | 0.000 | 0.025 | |
| annotationTable-peakPantheRAnnotation-method | 0.026 | 0.000 | 0.026 | |
| annotation_diagnostic_multiplot_UI_helper | 0.217 | 0.007 | 0.226 | |
| annotation_fit_summary_UI_helper | 0.011 | 0.000 | 0.010 | |
| annotation_showMethod_UI_helper | 0.005 | 0.000 | 0.005 | |
| annotation_showText_UI_helper | 0 | 0 | 0 | |
| cpdID-peakPantheRAnnotation-method | 0.025 | 0.000 | 0.025 | |
| cpdMetadata-peakPantheRAnnotation-method | 0.026 | 0.000 | 0.026 | |
| cpdName-peakPantheRAnnotation-method | 0.026 | 0.000 | 0.026 | |
| dataPoints-peakPantheRAnnotation-method | 0.022 | 0.004 | 0.026 | |
| filename-peakPantheRAnnotation-method | 0.025 | 0.000 | 0.026 | |
| filepath-peakPantheRAnnotation-method | 0.022 | 0.003 | 0.025 | |
| initialise_annotation_from_files_UI_helper | 0.018 | 0.000 | 0.018 | |
| isAnnotated-peakPantheRAnnotation-method | 0.022 | 0.004 | 0.026 | |
| load_annotation_from_file_UI_helper | 0.007 | 0.002 | 0.009 | |
| nbCompounds-peakPantheRAnnotation-method | 0.023 | 0.001 | 0.026 | |
| nbSamples-peakPantheRAnnotation-method | 0.026 | 0.000 | 0.026 | |
| outputAnnotationDiagnostic-peakPantheRAnnotation-method | 19.077 | 0.032 | 19.241 | |
| outputAnnotationFeatureMetadata_UI_helper | 0.007 | 0.000 | 0.007 | |
| outputAnnotationParamsCSV-peakPantheRAnnotation-method | 0.033 | 0.000 | 0.033 | |
| outputAnnotationResult-peakPantheRAnnotation-method | 18.645 | 0.040 | 18.721 | |
| outputAnnotationSpectraMetadata_UI_helper | 0.008 | 0.000 | 0.009 | |
| peakFit-peakPantheRAnnotation-method | 0.025 | 0.000 | 0.026 | |
| peakPantheRAnnotation | 0.030 | 0.000 | 0.031 | |
| peakPantheR_ROIStatistics | 27.746 | 0.156 | 27.965 | |
| peakPantheR_loadAnnotationParamsCSV | 0.004 | 0.004 | 0.009 | |
| peakPantheR_parallelAnnotation | 19.436 | 0.020 | 19.489 | |
| peakPantheR_plotEICFit | 0.832 | 0.000 | 0.833 | |
| peakPantheR_plotPeakwidth | 1.370 | 0.000 | 1.373 | |
| peakPantheR_quickEIC | 5.582 | 0.003 | 5.596 | |
| peakPantheR_singleFileSearch | 6.551 | 0.020 | 6.583 | |
| peakPantheR_start_GUI | 0.001 | 0.000 | 0.000 | |
| peakTables-peakPantheRAnnotation-method | 0.026 | 0.000 | 0.026 | |
| resetAnnotation-peakPantheRAnnotation-method | 0.033 | 0.000 | 0.033 | |
| resetFIR-peakPantheRAnnotation-method | 0.002 | 0.004 | 0.006 | |
| retentionTimeCorrection-peakPantheRAnnotation-method | 12.853 | 0.020 | 12.894 | |
| spectraMetadata-peakPantheRAnnotation-method | 0.026 | 0.000 | 0.027 | |
| spectraPaths_and_metadata_UI_helper | 0.003 | 0.000 | 0.003 | |
| spectra_metadata_colourScheme_UI_helper | 0.007 | 0.000 | 0.008 | |
| uROI-peakPantheRAnnotation-method | 0.028 | 0.000 | 0.028 | |
| uROIExist-peakPantheRAnnotation-method | 0.026 | 0.000 | 0.026 | |
| useFIR-peakPantheRAnnotation-method | 0.026 | 0.000 | 0.026 | |
| useUROI-peakPantheRAnnotation-method | 0.026 | 0.000 | 0.026 | |