Back to Multiple platform build/check report for BioC 3.22:   simplified   long
ABCDEFGHIJKLMNO[P]QRSTUVWXYZ

This page was generated on 2025-11-07 12:00 -0500 (Fri, 07 Nov 2025).

HostnameOSArch (*)R versionInstalled pkgs
nebbiolo2Linux (Ubuntu 24.04.3 LTS)x86_644.5.1 Patched (2025-08-23 r88802) -- "Great Square Root" 4902
kjohnson3macOS 13.7.7 Venturaarm644.5.1 Patched (2025-09-10 r88807) -- "Great Square Root" 4638
Click on any hostname to see more info about the system (e.g. compilers)      (*) as reported by 'uname -p', except on Windows and Mac OS X

All results for package pcaMethods


To the developers/maintainers of the pcaMethods package:
- Allow up to 24 hours (and sometimes 48 hours) for your latest push to git@git.bioconductor.org:packages/pcaMethods.git to reflect on this report. See Troubleshooting Build Report for more information.
- Use the following Renviron settings to reproduce errors and warnings.
- If 'R CMD check' started to fail recently on the Linux builder(s) over a missing dependency, add the missing dependency to 'Suggests:' in your DESCRIPTION file. See Renviron.bioc for more information.

raw results

Package 1564/2361HostnameOS / ArchINSTALLBUILDCHECKBUILD BIN
pcaMethods 2.2.0  (landing page)
Henning Redestig
Snapshot Date: 2025-11-06 13:45 -0500 (Thu, 06 Nov 2025)
git_url: https://git.bioconductor.org/packages/pcaMethods
git_branch: RELEASE_3_22
git_last_commit: 0956371
git_last_commit_date: 2025-10-29 09:58:32 -0500 (Wed, 29 Oct 2025)
nebbiolo2Linux (Ubuntu 24.04.3 LTS) / x86_64  OK    OK    OK  UNNEEDED, same version is already published
kjohnson3macOS 13.7.7 Ventura / arm64  OK    OK    OK    OK  UNNEEDED, same version is already published



Results for Bioconductor software packages that depend directly on package pcaMethods

QUICK STATSOS / ArchINSTALLBUILDCHECKBUILD BIN
nebbiolo2Linux (Ubuntu 24.04.3 LTS) / x86_64
0014
0113
02110
kjohnson3macOS 13.7.7 Ventura / arm64
0014
0113
0319
0013
Package 1/14HostnameOS / ArchINSTALLBUILDCHECKBUILD BIN
consensusDE 1.28.0  (landing page)
Ashley J. Waardenberg
git_last_commit: 7c6b138
git_last_commit_date: 2025-10-29 10:48:35 -0500
nebbiolo2Linux (Ubuntu 24.04.3 LTS) / x86_64  OK    OK    OK  UNNEEDED, same version is already published
kjohnson3macOS 13.7.7 Ventura / arm64  OK    OK    OK    OK  UNNEEDED, same version is already published
Package 2/14HostnameOS / ArchINSTALLBUILDCHECKBUILD BIN
DeconRNASeq 1.52.0  (landing page)
Ting Gong
git_last_commit: 5ff1d41
git_last_commit_date: 2025-10-29 10:12:11 -0500
nebbiolo2Linux (Ubuntu 24.04.3 LTS) / x86_64  OK    ERROR  skipped
kjohnson3macOS 13.7.7 Ventura / arm64  OK    ERROR  skippedskipped
Package 3/14HostnameOS / ArchINSTALLBUILDCHECKBUILD BIN
destiny 3.24.0  (landing page)
Philipp Angerer
git_last_commit: 9280aaa
git_last_commit_date: 2025-11-06 08:14:03 -0500
nebbiolo2Linux (Ubuntu 24.04.3 LTS) / x86_64  OK    OK    OK  YES
kjohnson3macOS 13.7.7 Ventura / arm64  OK    OK    OK    OK  YES
Package 4/14HostnameOS / ArchINSTALLBUILDCHECKBUILD BIN
FRASER 2.6.0  (landing page)
Christian Mertes
git_last_commit: b8faec2
git_last_commit_date: 2025-10-29 10:58:54 -0500
nebbiolo2Linux (Ubuntu 24.04.3 LTS) / x86_64  OK    OK    OK  UNNEEDED, same version is already published
kjohnson3macOS 13.7.7 Ventura / arm64  OK    OK    OK    OK  UNNEEDED, same version is already published
Package 5/14HostnameOS / ArchINSTALLBUILDCHECKBUILD BIN
MAI 1.16.0  (landing page)
Jonathan Dekermanjian
git_last_commit: e7b90f5
git_last_commit_date: 2025-10-29 11:11:14 -0500
nebbiolo2Linux (Ubuntu 24.04.3 LTS) / x86_64  OK    OK    OK  UNNEEDED, same version is already published
kjohnson3macOS 13.7.7 Ventura / arm64  OK    OK    OK    OK  UNNEEDED, same version is already published
Package 6/14HostnameOS / ArchINSTALLBUILDCHECKBUILD BIN
MatrixQCvis 1.18.0  (landing page)
Thomas Naake
git_last_commit: b35fe86
git_last_commit_date: 2025-10-29 11:09:24 -0500
nebbiolo2Linux (Ubuntu 24.04.3 LTS) / x86_64  OK    OK    OK  UNNEEDED, same version is already published
kjohnson3macOS 13.7.7 Ventura / arm64  OK    OK    OK    OK  UNNEEDED, same version is already published
Package 7/14HostnameOS / ArchINSTALLBUILDCHECKBUILD BIN
MSnbase 2.36.0  (landing page)
Laurent Gatto
git_last_commit: 5d00871
git_last_commit_date: 2025-10-29 10:06:57 -0500
nebbiolo2Linux (Ubuntu 24.04.3 LTS) / x86_64  OK    OK    OK  UNNEEDED, same version is already published
kjohnson3macOS 13.7.7 Ventura / arm64  OK    OK    OK    OK  UNNEEDED, same version is already published
Package 8/14HostnameOS / ArchINSTALLBUILDCHECKBUILD BIN
MSPrep 1.20.0  (landing page)
Max McGrath
git_last_commit: 48147f9
git_last_commit_date: 2025-10-29 11:02:54 -0500
nebbiolo2Linux (Ubuntu 24.04.3 LTS) / x86_64  OK    OK    ERROR  
kjohnson3macOS 13.7.7 Ventura / arm64  OK    OK    ERROR    OK  
Package 9/14HostnameOS / ArchINSTALLBUILDCHECKBUILD BIN
MultiBaC 1.20.0  (landing page)
The package maintainer
git_last_commit: e44e678
git_last_commit_date: 2025-10-29 11:00:41 -0500
nebbiolo2Linux (Ubuntu 24.04.3 LTS) / x86_64  OK    OK    OK  UNNEEDED, same version is already published
kjohnson3macOS 13.7.7 Ventura / arm64  OK    OK    OK    OK  UNNEEDED, same version is already published
Package 10/14HostnameOS / ArchINSTALLBUILDCHECKBUILD BIN
OUTRIDER 1.28.0  (landing page)
Christian Mertes
git_last_commit: 5a0b0f3
git_last_commit_date: 2025-10-29 10:46:21 -0500
nebbiolo2Linux (Ubuntu 24.04.3 LTS) / x86_64  OK    OK    OK  UNNEEDED, same version is already published
kjohnson3macOS 13.7.7 Ventura / arm64  OK    OK    OK    OK  UNNEEDED, same version is already published
Package 11/14HostnameOS / ArchINSTALLBUILDCHECKBUILD BIN
PhosR 1.20.0  (landing page)
Di Xiao
git_last_commit: d795fca
git_last_commit_date: 2025-10-29 11:02:33 -0500
nebbiolo2Linux (Ubuntu 24.04.3 LTS) / x86_64  OK    OK    OK  UNNEEDED, same version is already published
kjohnson3macOS 13.7.7 Ventura / arm64  OK    OK    OK    OK  UNNEEDED, same version is already published
Package 12/14HostnameOS / ArchINSTALLBUILDCHECKBUILD BIN
pmp 1.22.0  (landing page)
Gavin Rhys Lloyd
git_last_commit: 1721d9c
git_last_commit_date: 2025-10-29 10:56:24 -0500
nebbiolo2Linux (Ubuntu 24.04.3 LTS) / x86_64  OK    OK    ERROR  
kjohnson3macOS 13.7.7 Ventura / arm64  OK    OK    ERROR    OK  
Package 13/14HostnameOS / ArchINSTALLBUILDCHECKBUILD BIN
scde 2.38.0  (landing page)
Evan Biederstedt
git_last_commit: fc608d5
git_last_commit_date: 2025-10-29 10:28:40 -0500
nebbiolo2Linux (Ubuntu 24.04.3 LTS) / x86_64  OK    OK    WARNINGS  UNNEEDED, same version is already published
kjohnson3macOS 13.7.7 Ventura / arm64  OK    OK    WARNINGS    OK  UNNEEDED, same version is already published
Package 14/14HostnameOS / ArchINSTALLBUILDCHECKBUILD BIN
SomaticSignatures 2.46.0  (landing page)
Julian Gehring
git_last_commit: 7058eda
git_last_commit_date: 2025-10-29 10:17:57 -0500
nebbiolo2Linux (Ubuntu 24.04.3 LTS) / x86_64  OK    OK    OK  UNNEEDED, same version is already published
kjohnson3macOS 13.7.7 Ventura / arm64  OK    OK    ERROR    OK