Back to Multiple platform build/check report for BioC 3.21: simplified long |
|
This page was generated on 2025-05-08 11:48 -0400 (Thu, 08 May 2025).
Hostname | OS | Arch (*) | R version | Installed pkgs |
---|---|---|---|---|
nebbiolo1 | Linux (Ubuntu 24.04.1 LTS) | x86_64 | 4.5.0 RC (2025-04-04 r88126) -- "How About a Twenty-Six" | 4833 |
palomino7 | Windows Server 2022 Datacenter | x64 | 4.5.0 RC (2025-04-04 r88126 ucrt) -- "How About a Twenty-Six" | 4574 |
merida1 | macOS 12.7.5 Monterey | x86_64 | 4.5.0 RC (2025-04-04 r88126) -- "How About a Twenty-Six" | 4599 |
kjohnson1 | macOS 13.6.6 Ventura | arm64 | 4.5.0 RC (2025-04-04 r88129) -- "How About a Twenty-Six" | 4553 |
kunpeng2 | Linux (openEuler 24.03 LTS) | aarch64 | R Under development (unstable) (2025-02-19 r87757) -- "Unsuffered Consequences" | 4570 |
Click on any hostname to see more info about the system (e.g. compilers) (*) as reported by 'uname -p', except on Windows and Mac OS X |
Package 1537/2341 | Hostname | OS / Arch | INSTALL | BUILD | CHECK | BUILD BIN | ||||||||
pathlinkR 1.4.0 (landing page) Travis Blimkie
| nebbiolo1 | Linux (Ubuntu 24.04.1 LTS) / x86_64 | OK | OK | OK | ![]() | ||||||||
palomino7 | Windows Server 2022 Datacenter / x64 | OK | OK | OK | OK | ![]() | ||||||||
merida1 | macOS 12.7.5 Monterey / x86_64 | OK | OK | OK | OK | ![]() | ||||||||
kjohnson1 | macOS 13.6.6 Ventura / arm64 | OK | OK | OK | OK | ![]() | ||||||||
kunpeng2 | Linux (openEuler 24.03 LTS) / aarch64 | OK | OK | OK | ||||||||||
To the developers/maintainers of the pathlinkR package: - Allow up to 24 hours (and sometimes 48 hours) for your latest push to git@git.bioconductor.org:packages/pathlinkR.git to reflect on this report. See Troubleshooting Build Report for more information. - Use the following Renviron settings to reproduce errors and warnings. - If 'R CMD check' started to fail recently on the Linux builder(s) over a missing dependency, add the missing dependency to 'Suggests:' in your DESCRIPTION file. See Renviron.bioc for more information. - See Martin Grigorov's blog post for how to debug Linux ARM64 related issues on a x86_64 host. |
Package: pathlinkR |
Version: 1.4.0 |
Command: /home/biocbuild/R/R/bin/R CMD check --install=check:pathlinkR.install-out.txt --library=/home/biocbuild/R/R/site-library --no-vignettes --timings pathlinkR_1.4.0.tar.gz |
StartedAt: 2025-05-06 11:52:33 -0000 (Tue, 06 May 2025) |
EndedAt: 2025-05-06 11:59:59 -0000 (Tue, 06 May 2025) |
EllapsedTime: 445.4 seconds |
RetCode: 0 |
Status: OK |
CheckDir: pathlinkR.Rcheck |
Warnings: 0 |
############################################################################## ############################################################################## ### ### Running command: ### ### /home/biocbuild/R/R/bin/R CMD check --install=check:pathlinkR.install-out.txt --library=/home/biocbuild/R/R/site-library --no-vignettes --timings pathlinkR_1.4.0.tar.gz ### ############################################################################## ############################################################################## * using log directory ‘/home/biocbuild/bbs-3.21-bioc/meat/pathlinkR.Rcheck’ * using R Under development (unstable) (2025-02-19 r87757) * using platform: aarch64-unknown-linux-gnu * R was compiled by aarch64-unknown-linux-gnu-gcc (GCC) 14.2.0 GNU Fortran (GCC) 14.2.0 * running under: openEuler 24.03 (LTS-SP1) * using session charset: UTF-8 * using option ‘--no-vignettes’ * checking for file ‘pathlinkR/DESCRIPTION’ ... OK * checking extension type ... Package * this is package ‘pathlinkR’ version ‘1.4.0’ * package encoding: UTF-8 * checking package namespace information ... OK * checking package dependencies ... OK * checking if this is a source package ... OK * checking if there is a namespace ... OK * checking for hidden files and directories ... OK * checking for portable file names ... OK * checking for sufficient/correct file permissions ... OK * checking whether package ‘pathlinkR’ can be installed ... OK * checking installed package size ... OK * checking package directory ... OK * checking ‘build’ directory ... OK * checking DESCRIPTION meta-information ... OK * checking top-level files ... OK * checking for left-over files ... OK * checking index information ... OK * checking package subdirectories ... OK * checking code files for non-ASCII characters ... OK * checking R files for syntax errors ... OK * checking whether the package can be loaded ... OK * checking whether the package can be loaded with stated dependencies ... OK * checking whether the package can be unloaded cleanly ... OK * checking whether the namespace can be loaded with stated dependencies ... OK * checking whether the namespace can be unloaded cleanly ... OK * checking loading without being on the library search path ... OK * checking whether startup messages can be suppressed ... OK * checking dependencies in R code ... OK * checking S3 generic/method consistency ... OK * checking replacement functions ... OK * checking foreign function calls ... OK * checking R code for possible problems ... OK * checking Rd files ... OK * checking Rd metadata ... OK * checking Rd cross-references ... OK * checking for missing documentation entries ... OK * checking for code/documentation mismatches ... OK * checking Rd \usage sections ... OK * checking Rd contents ... OK * checking for unstated dependencies in examples ... OK * checking contents of ‘data’ directory ... OK * checking data for non-ASCII characters ... OK * checking data for ASCII and uncompressed saves ... OK * checking files in ‘vignettes’ ... OK * checking examples ... OK Examples with CPU (user + system) or elapsed time > 5s user system elapsed eruption 7.37 0.603 7.991 * checking for unstated dependencies in ‘tests’ ... OK * checking tests ... Running ‘testthat.R’ OK * checking for unstated dependencies in vignettes ... OK * checking package vignettes ... OK * checking running R code from vignettes ... SKIPPED * checking re-building of vignette outputs ... SKIPPED * checking PDF version of manual ... OK * DONE Status: OK
pathlinkR.Rcheck/00install.out
############################################################################## ############################################################################## ### ### Running command: ### ### /home/biocbuild/R/R/bin/R CMD INSTALL pathlinkR ### ############################################################################## ############################################################################## * installing to library ‘/home/biocbuild/R/R-devel_2025-02-19/site-library’ * installing *source* package ‘pathlinkR’ ... ** this is package ‘pathlinkR’ version ‘1.4.0’ ** using staged installation ** R ** data ** inst ** byte-compile and prepare package for lazy loading ** help *** installing help indices *** copying figures ** building package indices ** installing vignettes ** testing if installed package can be loaded from temporary location ** testing if installed package can be loaded from final location ** testing if installed package keeps a record of temporary installation path * DONE (pathlinkR)
pathlinkR.Rcheck/tests/testthat.Rout
R Under development (unstable) (2025-02-19 r87757) -- "Unsuffered Consequences" Copyright (C) 2025 The R Foundation for Statistical Computing Platform: aarch64-unknown-linux-gnu R is free software and comes with ABSOLUTELY NO WARRANTY. You are welcome to redistribute it under certain conditions. Type 'license()' or 'licence()' for distribution details. R is a collaborative project with many contributors. Type 'contributors()' for more information and 'citation()' on how to cite R or R packages in publications. Type 'demo()' for some demos, 'help()' for on-line help, or 'help.start()' for an HTML browser interface to help. Type 'q()' to quit R. > # This file is part of the standard setup for testthat. > # It is recommended that you do not modify it. > # > # Where should you do additional test configuration? > # Learn more about the roles of various files in: > # * https://r-pkgs.org/tests.html > # * https://testthat.r-lib.org/reference/test_package.html#special-files > > library(testthat) > library(pathlinkR) Thanks for using pathlinkR v1.4.0! If you encounter any bugs or problems, please submit an issue at the Github page: https://github.com/hancockinformatics/pathlinkR/issues > > test_check("pathlinkR") Loading required namespace: DESeq2 [ FAIL 0 | WARN 0 | SKIP 10 | PASS 32 ] ══ Skipped tests (10) ══════════════════════════════════════════════════════════ • On CRAN (10): 'test-eruption.R:10:5', 'test-pathnetGGraph.R:29:5', 'test-pathnetVisNetwork.R:29:5', 'test-pathwayPlots.R:6:5', 'test-pathwayPlots.R:25:5', 'test-pathwayPlots.R:44:5', 'test-plotFoldChange.R:6:5', 'test-ppiPlotNetwork.R:15:5', 'test-ppiPlotNetwork.R:39:5', 'test-ppiPlotNetwork.R:73:5' [ FAIL 0 | WARN 0 | SKIP 10 | PASS 32 ] > > proc.time() user system elapsed 250.081 3.155 253.359
pathlinkR.Rcheck/pathlinkR-Ex.timings
name | user | system | elapsed | |
eruption | 7.370 | 0.603 | 7.991 | |
getPathwayDistances | 1.648 | 0.144 | 1.796 | |
pathnetCreate | 1.868 | 0.048 | 1.919 | |
pathnetFoundation | 1.699 | 0.027 | 1.730 | |
pathnetGGraph | 1.816 | 0.060 | 1.880 | |
pathnetVisNetwork | 1.179 | 0.120 | 1.328 | |
pathwayEnrichment | 3.933 | 0.139 | 4.084 | |
pathwayPlots | 2.326 | 0.048 | 2.387 | |
plotFoldChange | 1.556 | 0.000 | 1.562 | |
ppiBuildNetwork | 1.114 | 0.008 | 1.127 | |
ppiCleanNetwork | 0.072 | 0.004 | 0.079 | |
ppiEnrichNetwork | 2.479 | 0.012 | 2.499 | |
ppiExtractSubnetwork | 2.518 | 0.032 | 2.556 | |
ppiPlotNetwork | 4.331 | 0.131 | 4.472 | |