Back to Multiple platform build/check report for BioC 3.20:   simplified   long
ABCDEFGHIJKLMNO[P]QRSTUVWXYZ

This page was generated on 2025-02-03 12:09 -0500 (Mon, 03 Feb 2025).

HostnameOSArch (*)R versionInstalled pkgs
nebbiolo2Linux (Ubuntu 24.04.1 LTS)x86_644.4.2 (2024-10-31) -- "Pile of Leaves" 4746
palomino8Windows Server 2022 Datacenterx644.4.2 (2024-10-31 ucrt) -- "Pile of Leaves" 4494
merida1macOS 12.7.5 Montereyx86_644.4.2 (2024-10-31) -- "Pile of Leaves" 4517
kjohnson1macOS 13.6.6 Venturaarm644.4.2 (2024-10-31) -- "Pile of Leaves" 4469
taishanLinux (openEuler 24.03 LTS)aarch644.4.2 (2024-10-31) -- "Pile of Leaves" 4400
Click on any hostname to see more info about the system (e.g. compilers)      (*) as reported by 'uname -p', except on Windows and Mac OS X

Package 1601/2289HostnameOS / ArchINSTALLBUILDCHECKBUILD BIN
pRoloc 1.46.0  (landing page)
Laurent Gatto
Snapshot Date: 2025-01-30 13:00 -0500 (Thu, 30 Jan 2025)
git_url: https://git.bioconductor.org/packages/pRoloc
git_branch: RELEASE_3_20
git_last_commit: 964ee99
git_last_commit_date: 2024-10-29 09:43:39 -0500 (Tue, 29 Oct 2024)
nebbiolo2Linux (Ubuntu 24.04.1 LTS) / x86_64  OK    OK    OK  UNNEEDED, same version is already published
palomino8Windows Server 2022 Datacenter / x64  OK    OK    OK    OK  UNNEEDED, same version is already published
merida1macOS 12.7.5 Monterey / x86_64  OK    OK    OK    OK  UNNEEDED, same version is already published
kjohnson1macOS 13.6.6 Ventura / arm64  OK    OK    OK    OK  UNNEEDED, same version is already published
taishanLinux (openEuler 24.03 LTS) / aarch64  OK    OK    OK  


CHECK results for pRoloc on merida1

To the developers/maintainers of the pRoloc package:
- Allow up to 24 hours (and sometimes 48 hours) for your latest push to git@git.bioconductor.org:packages/pRoloc.git to reflect on this report. See Troubleshooting Build Report for more information.
- Use the following Renviron settings to reproduce errors and warnings.
- If 'R CMD check' started to fail recently on the Linux builder(s) over a missing dependency, add the missing dependency to 'Suggests:' in your DESCRIPTION file. See Renviron.bioc for more information.

raw results


Summary

Package: pRoloc
Version: 1.46.0
Command: /Library/Frameworks/R.framework/Resources/bin/R CMD check --install=check:pRoloc.install-out.txt --library=/Library/Frameworks/R.framework/Resources/library --no-vignettes --timings pRoloc_1.46.0.tar.gz
StartedAt: 2025-01-31 08:19:00 -0500 (Fri, 31 Jan 2025)
EndedAt: 2025-01-31 08:38:09 -0500 (Fri, 31 Jan 2025)
EllapsedTime: 1149.1 seconds
RetCode: 0
Status:   OK  
CheckDir: pRoloc.Rcheck
Warnings: 0

Command output

##############################################################################
##############################################################################
###
### Running command:
###
###   /Library/Frameworks/R.framework/Resources/bin/R CMD check --install=check:pRoloc.install-out.txt --library=/Library/Frameworks/R.framework/Resources/library --no-vignettes --timings pRoloc_1.46.0.tar.gz
###
##############################################################################
##############################################################################


* using log directory ‘/Users/biocbuild/bbs-3.20-bioc/meat/pRoloc.Rcheck’
* using R version 4.4.2 (2024-10-31)
* using platform: x86_64-apple-darwin20
* R was compiled by
    Apple clang version 14.0.0 (clang-1400.0.29.202)
    GNU Fortran (GCC) 12.2.0
* running under: macOS Monterey 12.7.6
* using session charset: UTF-8
* using option ‘--no-vignettes’
* checking for file ‘pRoloc/DESCRIPTION’ ... OK
* checking extension type ... Package
* this is package ‘pRoloc’ version ‘1.46.0’
* package encoding: UTF-8
* checking package namespace information ... OK
* checking package dependencies ... OK
* checking if this is a source package ... OK
* checking if there is a namespace ... OK
* checking for hidden files and directories ... OK
* checking for portable file names ... OK
* checking for sufficient/correct file permissions ... OK
* checking whether package ‘pRoloc’ can be installed ... OK
* used C++ compiler: ‘Apple clang version 14.0.0 (clang-1400.0.29.202)’
* used SDK: ‘MacOSX11.3.sdk’
* checking installed package size ... OK
* checking package directory ... OK
* checking ‘build’ directory ... OK
* checking DESCRIPTION meta-information ... OK
* checking top-level files ... OK
* checking for left-over files ... OK
* checking index information ... OK
* checking package subdirectories ... OK
* checking code files for non-ASCII characters ... OK
* checking R files for syntax errors ... OK
* checking whether the package can be loaded ... OK
* checking whether the package can be loaded with stated dependencies ... OK
* checking whether the package can be unloaded cleanly ... OK
* checking whether the namespace can be loaded with stated dependencies ... OK
* checking whether the namespace can be unloaded cleanly ... OK
* checking whether startup messages can be suppressed ... OK
* checking dependencies in R code ... NOTE
':::' calls which should be '::':
  ‘MLInterfaces:::.macroF1’ ‘MLInterfaces:::.precision’
  ‘MLInterfaces:::.recall’ ‘MLInterfaces:::es2df’
  See the note in ?`:::` about the use of this operator.
Unexported object imported by a ':::' call: ‘caret:::predict.plsda’
  See the note in ?`:::` about the use of this operator.
There are ::: calls to the package's namespace in its code. A package
  almost never needs to use ::: for its own objects:
  ‘getAttributesOfInterest0’ ‘getAttributesOfInterestX’
* checking S3 generic/method consistency ... OK
* checking replacement functions ... OK
* checking foreign function calls ... OK
* checking R code for possible problems ... NOTE
Found the following possibly unsafe calls:
File ‘pRoloc/R/annotation.R’:
  unlockBinding("params", .pRolocEnv)
* checking Rd files ... OK
* checking Rd metadata ... OK
* checking Rd cross-references ... OK
* checking for missing documentation entries ... OK
* checking for code/documentation mismatches ... OK
* checking Rd \usage sections ... OK
* checking Rd contents ... OK
* checking for unstated dependencies in examples ... OK
* checking contents of ‘data’ directory ... OK
* checking data for non-ASCII characters ... OK
* checking data for ASCII and uncompressed saves ... OK
* checking line endings in C/C++/Fortran sources/headers ... OK
* checking line endings in Makefiles ... OK
* checking compilation flags in Makevars ... OK
* checking for GNU extensions in Makefiles ... OK
* checking for portable use of $(BLAS_LIBS) and $(LAPACK_LIBS) ... OK
* checking use of PKG_*FLAGS in Makefiles ... OK
* checking compiled code ... NOTE
Note: information on .o files is not available
* checking files in ‘vignettes’ ... OK
* checking examples ... OK
Examples with CPU (user + system) or elapsed time > 5s
                         user system elapsed
perTurboClassification 28.614  0.246  29.491
svmClassification      12.385  0.076  12.533
ksvmClassification     11.260  0.269  11.627
SpatProtVis-class      10.888  0.280  11.531
rfClassification       10.247  0.210  10.661
nnetClassification     10.088  0.056  10.351
ClustDist-class         7.617  0.354  10.376
ClustDistList-class     7.494  0.213   9.056
clustDist               7.062  0.273   8.480
addGoAnnotations        6.225  0.217   8.014
nbClassification        6.344  0.074   6.441
AnnotationParams-class  1.526  0.074  14.384
* checking for unstated dependencies in ‘tests’ ... OK
* checking tests ...
  Running ‘testthat.R’
 OK
* checking for unstated dependencies in vignettes ... OK
* checking package vignettes ... OK
* checking running R code from vignettes ... SKIPPED
* checking re-building of vignette outputs ... SKIPPED
* checking PDF version of manual ... OK
* DONE

Status: 3 NOTEs
See
  ‘/Users/biocbuild/bbs-3.20-bioc/meat/pRoloc.Rcheck/00check.log’
for details.


Installation output

pRoloc.Rcheck/00install.out

##############################################################################
##############################################################################
###
### Running command:
###
###   /Library/Frameworks/R.framework/Resources/bin/R CMD INSTALL pRoloc
###
##############################################################################
##############################################################################


* installing to library ‘/Library/Frameworks/R.framework/Versions/4.4-x86_64/Resources/library’
* installing *source* package ‘pRoloc’ ...
** using staged installation
** libs
using C++ compiler: ‘Apple clang version 14.0.0 (clang-1400.0.29.202)’
using SDK: ‘MacOSX11.3.sdk’
clang++ -arch x86_64 -std=gnu++17 -I"/Library/Frameworks/R.framework/Resources/include" -DNDEBUG  -I'/Library/Frameworks/R.framework/Versions/4.4-x86_64/Resources/library/Rcpp/include' -I'/Library/Frameworks/R.framework/Versions/4.4-x86_64/Resources/library/RcppArmadillo/include' -I/opt/R/x86_64/include    -fPIC  -falign-functions=64 -Wall -g -O2   -c RcppExports.cpp -o RcppExports.o
clang++ -arch x86_64 -std=gnu++17 -I"/Library/Frameworks/R.framework/Resources/include" -DNDEBUG  -I'/Library/Frameworks/R.framework/Versions/4.4-x86_64/Resources/library/Rcpp/include' -I'/Library/Frameworks/R.framework/Versions/4.4-x86_64/Resources/library/RcppArmadillo/include' -I/opt/R/x86_64/include    -fPIC  -falign-functions=64 -Wall -g -O2   -c dmvtCpp.cpp -o dmvtCpp.o
clang++ -arch x86_64 -std=gnu++17 -I"/Library/Frameworks/R.framework/Resources/include" -DNDEBUG  -I'/Library/Frameworks/R.framework/Versions/4.4-x86_64/Resources/library/Rcpp/include' -I'/Library/Frameworks/R.framework/Versions/4.4-x86_64/Resources/library/RcppArmadillo/include' -I/opt/R/x86_64/include    -fPIC  -falign-functions=64 -Wall -g -O2   -c pRoloc.cpp -o pRoloc.o
clang++ -arch x86_64 -std=gnu++17 -dynamiclib -Wl,-headerpad_max_install_names -undefined dynamic_lookup -L/Library/Frameworks/R.framework/Resources/lib -L/opt/R/x86_64/lib -o pRoloc.so RcppExports.o dmvtCpp.o pRoloc.o -L/Library/Frameworks/R.framework/Resources/lib -lRlapack -L/Library/Frameworks/R.framework/Resources/lib -lRblas -L/opt/gfortran/lib/gcc/x86_64-apple-darwin20.0/12.2.0 -L/opt/gfortran/lib -lgfortran -lquadmath -F/Library/Frameworks/R.framework/.. -framework R -Wl,-framework -Wl,CoreFoundation
installing to /Library/Frameworks/R.framework/Versions/4.4-x86_64/Resources/library/00LOCK-pRoloc/00new/pRoloc/libs
** R
** data
** inst
** byte-compile and prepare package for lazy loading
** help
*** installing help indices
** building package indices
** installing vignettes
** testing if installed package can be loaded from temporary location
** checking absolute paths in shared objects and dynamic libraries
** testing if installed package can be loaded from final location
** testing if installed package keeps a record of temporary installation path
* DONE (pRoloc)

Tests output

pRoloc.Rcheck/tests/testthat.Rout


R version 4.4.2 (2024-10-31) -- "Pile of Leaves"
Copyright (C) 2024 The R Foundation for Statistical Computing
Platform: x86_64-apple-darwin20

R is free software and comes with ABSOLUTELY NO WARRANTY.
You are welcome to redistribute it under certain conditions.
Type 'license()' or 'licence()' for distribution details.

R is a collaborative project with many contributors.
Type 'contributors()' for more information and
'citation()' on how to cite R or R packages in publications.

Type 'demo()' for some demos, 'help()' for on-line help, or
'help.start()' for an HTML browser interface to help.
Type 'q()' to quit R.

> 
> # The setting of R_TESTS exists to work around an R bug. See
> # https://github.com/hadley/testthat/issues/144
> # We should remove it when the issue is resolved.
> Sys.setenv("R_TESTS" = "")
> 
> library("testthat")
> library("pRoloc")
Loading required package: MSnbase
Loading required package: BiocGenerics

Attaching package: 'BiocGenerics'

The following objects are masked from 'package:stats':

    IQR, mad, sd, var, xtabs

The following objects are masked from 'package:base':

    Filter, Find, Map, Position, Reduce, anyDuplicated, aperm, append,
    as.data.frame, basename, cbind, colnames, dirname, do.call,
    duplicated, eval, evalq, get, grep, grepl, intersect, is.unsorted,
    lapply, mapply, match, mget, order, paste, pmax, pmax.int, pmin,
    pmin.int, rank, rbind, rownames, sapply, saveRDS, setdiff, table,
    tapply, union, unique, unsplit, which.max, which.min

Loading required package: Biobase
Welcome to Bioconductor

    Vignettes contain introductory material; view with
    'browseVignettes()'. To cite Bioconductor, see
    'citation("Biobase")', and for packages 'citation("pkgname")'.

Loading required package: mzR
Loading required package: Rcpp
Loading required package: S4Vectors
Loading required package: stats4

Attaching package: 'S4Vectors'

The following object is masked from 'package:utils':

    findMatches

The following objects are masked from 'package:base':

    I, expand.grid, unname

Loading required package: ProtGenerics

Attaching package: 'ProtGenerics'

The following object is masked from 'package:stats':

    smooth


This is MSnbase version 2.32.0 
  Visit https://lgatto.github.io/MSnbase/ to get started.
 Consider switching to the 'R for Mass Spectrometry'
 packages - see https://RforMassSpectrometry.org for details.


Attaching package: 'MSnbase'

The following object is masked from 'package:base':

    trimws

Loading required package: MLInterfaces
Loading required package: annotate
Loading required package: AnnotationDbi
Loading required package: IRanges
Loading required package: XML

Attaching package: 'annotate'

The following object is masked from 'package:mzR':

    nChrom

Loading required package: cluster
Loading required package: BiocParallel

This is pRoloc version 1.46.0 
  Visit https://lgatto.github.io/pRoloc/ to get started.

> library("pRolocdata")

This is pRolocdata version 1.44.0.
Use 'pRolocdata()' to list available data sets.
> 
> test_check("pRoloc")
Object of class "SpatProtVis"
 Data: dunkley2006 
 Visualisation methods: PCA, MDS, kpca
Done.
Connecting to Biomart...
Object of class "AnnotationParams"
 Using the 'ENSEMBL_MART_ENSEMBL' BioMart database
 Using the 'hsapiens_gene_ensembl' dataset
 Using 'uniprotswissprot' as filter
 Created on Fri Jan 31 08:35:13 2025
GO Term Evidence Code
 Experimental Evidence Codes
  EXP: Inferred from Experiment
   IDA: Inferred from Direct Assay
   IPI: Inferred from Physical Interaction
   IMP: Inferred from Mutant Phenotype
   IGI: Inferred from Genetic Interaction
   IEP: Inferred from Expression Pattern
 Computational Analysis Evidence Codes
  ISS: Inferred from Sequence or Structural Similarity
   ISO: Inferred from Sequence Orthology
   ISA: Inferred from Sequence Alignment
   ISM: Inferred from Sequence Model
   IGC: Inferred from Genomic Context
   IBA: Inferred from Biological aspect of Ancestor
   IBD: Inferred from Biological aspect of Descendant
   IKR: Inferred from Key Residues
   IRD: Inferred from Rapid Divergence
   RCA: inferred from Reviewed Computational Analysis
 Author Statement Evidence Codes
   TAS: Traceable Author Statement
   NAS: Non-traceable Author Statement
 Curator Statement Evidence Codes
   IC: Inferred by Curator
   ND: No biological Data available
 Automatically-assigned Evidence Codes
   IEA: Inferred from Electronic Annotation
 Obsolete Evidence Codes
   NR: Not Recorded
Connecting to Biomart...
organelleMarkers
ORG1 ORG2 ORG3 ORG4 ORG5 
   3    2    3    1    1 
organelleMarkers
ORG1 ORG2 ORG3 ORG4 ORG5 
   5    2    1    1    1 
organelleMarkers
   ORG1 unknown 
      3       7 
organelleMarkers
   ORG1 unknown 
      2       8 
[1] "markers"
[1] "xx"
[1] "markers"
[1] "xx"
[1] "markers"
[1] "xx"
[1] "markers"
# weights:  269
initial  value 666.839513 
iter  10 value 207.573433
iter  20 value 34.513121
iter  30 value 1.438035
iter  40 value 0.496168
iter  50 value 0.419018
iter  60 value 0.386372
iter  70 value 0.360129
iter  80 value 0.324298
iter  90 value 0.294123
iter 100 value 0.252996
final  value 0.252996 
stopped after 100 iterations
[1] "xx"
# weights:  269
initial  value 666.839513 
iter  10 value 207.573433
iter  20 value 34.513121
iter  30 value 1.438035
iter  40 value 0.496168
iter  50 value 0.419018
iter  60 value 0.386372
iter  70 value 0.360129
iter  80 value 0.324298
iter  90 value 0.294123
iter 100 value 0.252996
final  value 0.252996 
stopped after 100 iterations
[1] "markers"
[1] "xx"
[1] "pd.markers"
Common markers:  0 
Unique x markers:  49 
Unique y markers:  34 
Common unkowns:  11 
Unique x unknowns:  40 
Unique y unknowns:  66 
               my
mx              ER lumen ER membrane Golgi Mitochondrion  PM Plastid Ribosome
  ER lumen            14           0     0             0   0       0        0
  ER membrane          0          45     0             0   0       0        0
  Golgi                0           0    28             0   0       0        0
  Mitochondrion        0           0     0            55   0       0        0
  PM                   0           0     0             0  46       0        0
  Plastid              0           0     0             0   0      20        0
  Ribosome             0           0     0             0   0       0       19
  TGN                  0           0     0             0   0       0        0
  unknown              0           0     0             0   0       0        0
  vacuole              0           0     0             0   0       0        0
               my
mx              TGN unknown vacuole
  ER lumen        0       0       0
  ER membrane     0       0       0
  Golgi           0       0       0
  Mitochondrion   0       0       0
  PM              0       0       0
  Plastid         0       0       0
  Ribosome        0       0       0
  TGN            13       0       0
  unknown         0     428       0
  vacuole         0       0      21
[ FAIL 0 | WARN 7 | SKIP 0 | PASS 146 ]

[ FAIL 0 | WARN 7 | SKIP 0 | PASS 146 ]
> 
> proc.time()
   user  system elapsed 
196.269   5.701 209.484 

Example timings

pRoloc.Rcheck/pRoloc-Ex.timings

nameusersystemelapsed
AnnotationParams-class 1.526 0.07414.384
ClustDist-class 7.617 0.35410.376
ClustDistList-class7.4940.2139.056
GenRegRes-class0.0030.0020.005
QSep-class0.6460.0520.726
SpatProtVis-class10.888 0.28011.531
addGoAnnotations6.2250.2178.014
addMarkers0.3780.0150.400
checkFeatureNamesOverlap0.6810.0150.698
checkFvarOverlap0.0510.0070.059
chi2-methods0.0090.0020.011
classWeights0.2280.0130.241
clustDist7.0620.2738.480
empPvalues0.2130.0010.215
fDataToUnknown0.0840.0080.092
filterBinMSnSet0.3460.0040.351
filterZeroCols0.1470.0080.155
getGOFromFeatures0.6870.0480.741
getMarkerClasses0.0680.0070.075
getMarkers0.0760.0090.084
getPredictions0.5600.0280.597
getStockcol0.1700.0240.196
goIdToTerm3.0010.0803.143
highlightOnPlot0.5990.0310.632
knnClassification2.9480.1343.123
knntlClassification0.0000.0000.001
ksvmClassification11.260 0.26911.627
makeGoSet1.2860.0571.349
markerMSnSet0.5400.0100.552
markers0.1180.0080.127
minMarkers0.0860.0080.094
mixing_posterior_check0.0000.0010.001
move2Ds4.3080.2154.806
mrkConsProfiles0.4210.0150.437
mrkHClust0.1410.0070.149
nbClassification6.3440.0746.441
nicheMeans2D0.0010.0010.001
nndist-methods0.3640.0250.391
nnetClassification10.088 0.05610.351
orgQuants0.4280.0120.442
pRolocmarkers0.0500.0360.087
perTurboClassification28.614 0.24629.491
phenoDisco0.0010.0010.001
plot2D4.3920.1364.568
plot2Ds0.7810.1570.958
plotConsProfiles0.8940.0110.912
plotDist0.3230.0120.339
plsdaClassification0.0000.0010.000
rfClassification10.247 0.21010.661
sampleMSnSet0.1190.0070.126
showGOEvidenceCodes0.0020.0010.002
spatial2D0.0000.0010.001
svmClassification12.385 0.07612.533
testMSnSet0.6540.0090.665
testMarkers0.0520.0080.061
thetas0.0130.0020.016
zerosInBinMSnSet3.7820.2474.073