| Back to Multiple platform build/check report for BioC 3.21: simplified long |
|
This page was generated on 2025-10-09 11:41 -0400 (Thu, 09 Oct 2025).
| Hostname | OS | Arch (*) | R version | Installed pkgs |
|---|---|---|---|---|
| nebbiolo1 | Linux (Ubuntu 24.04.3 LTS) | x86_64 | 4.5.1 (2025-06-13) -- "Great Square Root" | 4832 |
| merida1 | macOS 12.7.5 Monterey | x86_64 | 4.5.1 RC (2025-06-05 r88288) -- "Great Square Root" | 4613 |
| kjohnson1 | macOS 13.6.6 Ventura | arm64 | 4.5.1 Patched (2025-06-14 r88325) -- "Great Square Root" | 4554 |
| kunpeng2 | Linux (openEuler 24.03 LTS) | aarch64 | R Under development (unstable) (2025-02-19 r87757) -- "Unsuffered Consequences" | 4585 |
| Click on any hostname to see more info about the system (e.g. compilers) (*) as reported by 'uname -p', except on Windows and Mac OS X | ||||
| Package 1478/2341 | Hostname | OS / Arch | INSTALL | BUILD | CHECK | BUILD BIN | ||||||||
| omicRexposome 1.30.0 (landing page) Xavier Escribà Montagut
| nebbiolo1 | Linux (Ubuntu 24.04.3 LTS) / x86_64 | OK | OK | OK | |||||||||
| merida1 | macOS 12.7.5 Monterey / x86_64 | OK | OK | OK | OK | |||||||||
| kjohnson1 | macOS 13.6.6 Ventura / arm64 | OK | OK | OK | OK | |||||||||
| kunpeng2 | Linux (openEuler 24.03 LTS) / aarch64 | OK | OK | OK | ||||||||||
|
To the developers/maintainers of the omicRexposome package: - Allow up to 24 hours (and sometimes 48 hours) for your latest push to git@git.bioconductor.org:packages/omicRexposome.git to reflect on this report. See Troubleshooting Build Report for more information. - Use the following Renviron settings to reproduce errors and warnings. - If 'R CMD check' started to fail recently on the Linux builder(s) over a missing dependency, add the missing dependency to 'Suggests:' in your DESCRIPTION file. See Renviron.bioc for more information. - See Martin Grigorov's blog post for how to debug Linux ARM64 related issues on a x86_64 host. |
| Package: omicRexposome |
| Version: 1.30.0 |
| Command: /home/biocbuild/R/R/bin/R CMD check --install=check:omicRexposome.install-out.txt --library=/home/biocbuild/R/R/site-library --no-vignettes --timings omicRexposome_1.30.0.tar.gz |
| StartedAt: 2025-10-07 12:30:25 -0000 (Tue, 07 Oct 2025) |
| EndedAt: 2025-10-07 12:37:04 -0000 (Tue, 07 Oct 2025) |
| EllapsedTime: 398.6 seconds |
| RetCode: 0 |
| Status: OK |
| CheckDir: omicRexposome.Rcheck |
| Warnings: 0 |
##############################################################################
##############################################################################
###
### Running command:
###
### /home/biocbuild/R/R/bin/R CMD check --install=check:omicRexposome.install-out.txt --library=/home/biocbuild/R/R/site-library --no-vignettes --timings omicRexposome_1.30.0.tar.gz
###
##############################################################################
##############################################################################
* using log directory ‘/home/biocbuild/bbs-3.21-bioc/meat/omicRexposome.Rcheck’
* using R Under development (unstable) (2025-02-19 r87757)
* using platform: aarch64-unknown-linux-gnu
* R was compiled by
aarch64-unknown-linux-gnu-gcc (GCC) 14.2.0
GNU Fortran (GCC) 14.2.0
* running under: openEuler 24.03 (LTS-SP1)
* using session charset: UTF-8
* using option ‘--no-vignettes’
* checking for file ‘omicRexposome/DESCRIPTION’ ... OK
* this is package ‘omicRexposome’ version ‘1.30.0’
* package encoding: UTF-8
* checking package namespace information ... OK
* checking package dependencies ... OK
* checking if this is a source package ... OK
* checking if there is a namespace ... OK
* checking for hidden files and directories ... OK
* checking for portable file names ... OK
* checking for sufficient/correct file permissions ... OK
* checking whether package ‘omicRexposome’ can be installed ... OK
* checking installed package size ... OK
* checking package directory ... OK
* checking ‘build’ directory ... OK
* checking DESCRIPTION meta-information ... NOTE
License stub is invalid DCF.
* checking top-level files ... OK
* checking for left-over files ... OK
* checking index information ... OK
* checking package subdirectories ... OK
* checking code files for non-ASCII characters ... OK
* checking R files for syntax errors ... OK
* checking whether the package can be loaded ... OK
* checking whether the package can be loaded with stated dependencies ... OK
* checking whether the package can be unloaded cleanly ... OK
* checking whether the namespace can be loaded with stated dependencies ... OK
* checking whether the namespace can be unloaded cleanly ... OK
* checking loading without being on the library search path ... OK
* checking dependencies in R code ... OK
* checking S3 generic/method consistency ... OK
* checking replacement functions ... OK
* checking foreign function calls ... OK
* checking R code for possible problems ... OK
* checking Rd files ... OK
* checking Rd metadata ... OK
* checking Rd cross-references ... NOTE
Found the following Rd file(s) with Rd \link{} targets missing package
anchors:
add_cls-methods.Rd: ExposomeClust, MultiDataSet, add_eset,
ExpressionSet
add_exp-methods.Rd: ExposomeSet, MultiDataSet, add_eset,
ExpressionSet
association-methods.Rd: sva, ResultSet
crossomics-methods.Rd: ResultSet
getIntegration-methods.Rd: ResultSet
plotAssociation-methods.Rd: ResultSet
plotHits-methods.Rd: ResultSet
plotIntegration-methods.Rd: ResultSet, mcia, MultiCCA, omicade4
plotLambda-methods.Rd: ResultSet
tableHits-methods.Rd: ResultSet
tableLambda-methods.Rd: ResultSet, lambdaClayton
Please provide package anchors for all Rd \link{} targets not in the
package itself and the base packages.
* checking for missing documentation entries ... OK
* checking for code/documentation mismatches ... OK
* checking Rd \usage sections ... OK
* checking Rd contents ... OK
* checking for unstated dependencies in examples ... OK
* checking contents of ‘data’ directory ... OK
* checking data for non-ASCII characters ... OK
* checking LazyData ... OK
* checking data for ASCII and uncompressed saves ... OK
* checking files in ‘vignettes’ ... OK
* checking examples ... OK
Examples with CPU (user + system) or elapsed time > 5s
user system elapsed
association-methods 13.918 0.048 17.438
* checking for unstated dependencies in vignettes ... OK
* checking package vignettes ... OK
* checking running R code from vignettes ... SKIPPED
* checking re-building of vignette outputs ... SKIPPED
* checking PDF version of manual ... OK
* DONE
Status: 2 NOTEs
See
‘/home/biocbuild/bbs-3.21-bioc/meat/omicRexposome.Rcheck/00check.log’
for details.
omicRexposome.Rcheck/00install.out
############################################################################## ############################################################################## ### ### Running command: ### ### /home/biocbuild/R/R/bin/R CMD INSTALL omicRexposome ### ############################################################################## ############################################################################## * installing to library ‘/home/biocbuild/R/R-devel_2025-02-19/site-library’ * installing *source* package ‘omicRexposome’ ... ** this is package ‘omicRexposome’ version ‘1.30.0’ ** using staged installation ** R ** data *** moving datasets to lazyload DB ** inst ** byte-compile and prepare package for lazy loading ** help *** installing help indices ** building package indices ** installing vignettes ** testing if installed package can be loaded from temporary location ** testing if installed package can be loaded from final location ** testing if installed package keeps a record of temporary installation path * DONE (omicRexposome)
omicRexposome.Rcheck/omicRexposome-Ex.timings
| name | user | system | elapsed | |
| add_cls-methods | 0.213 | 0.004 | 0.441 | |
| add_exp-methods | 0.172 | 0.000 | 0.356 | |
| asr | 0.021 | 0.000 | 0.045 | |
| association-methods | 13.918 | 0.048 | 17.438 | |
| crossomics-methods | 0.364 | 0.008 | 0.373 | |
| crs | 0.003 | 0.000 | 0.004 | |
| getIntegration-methods | 0.003 | 0.000 | 0.003 | |
| mds | 0.009 | 0.000 | 0.009 | |
| plotAssociation-methods | 0.569 | 0.044 | 0.614 | |
| plotHits-methods | 0.238 | 0.024 | 0.286 | |
| plotIntegration-methods | 0.929 | 0.059 | 1.042 | |
| plotLambda-methods | 0.254 | 0.004 | 0.261 | |
| tableHits-methods | 0.078 | 0.000 | 0.078 | |
| tableLambda-methods | 0.085 | 0.000 | 0.085 | |