| Back to Multiple platform build/check report for BioC 3.21: simplified long |
|
This page was generated on 2025-10-16 11:39 -0400 (Thu, 16 Oct 2025).
| Hostname | OS | Arch (*) | R version | Installed pkgs |
|---|---|---|---|---|
| nebbiolo1 | Linux (Ubuntu 24.04.3 LTS) | x86_64 | 4.5.1 (2025-06-13) -- "Great Square Root" | 4833 |
| merida1 | macOS 12.7.6 Monterey | x86_64 | 4.5.1 RC (2025-06-05 r88288) -- "Great Square Root" | 4614 |
| kjohnson1 | macOS 13.7.5 Ventura | arm64 | 4.5.1 Patched (2025-06-14 r88325) -- "Great Square Root" | 4555 |
| kunpeng2 | Linux (openEuler 24.03 LTS) | aarch64 | R Under development (unstable) (2025-02-19 r87757) -- "Unsuffered Consequences" | 4586 |
| Click on any hostname to see more info about the system (e.g. compilers) (*) as reported by 'uname -p', except on Windows and Mac OS X | ||||
| Package 1461/2341 | Hostname | OS / Arch | INSTALL | BUILD | CHECK | BUILD BIN | ||||||||
| nuCpos 1.26.0 (landing page) Hiroaki Kato
| nebbiolo1 | Linux (Ubuntu 24.04.3 LTS) / x86_64 | OK | OK | OK | |||||||||
| merida1 | macOS 12.7.6 Monterey / x86_64 | OK | OK | OK | OK | |||||||||
| kjohnson1 | macOS 13.7.5 Ventura / arm64 | OK | OK | OK | OK | |||||||||
| kunpeng2 | Linux (openEuler 24.03 LTS) / aarch64 | OK | OK | OK | ||||||||||
|
To the developers/maintainers of the nuCpos package: - Allow up to 24 hours (and sometimes 48 hours) for your latest push to git@git.bioconductor.org:packages/nuCpos.git to reflect on this report. See Troubleshooting Build Report for more information. - Use the following Renviron settings to reproduce errors and warnings. - If 'R CMD check' started to fail recently on the Linux builder(s) over a missing dependency, add the missing dependency to 'Suggests:' in your DESCRIPTION file. See Renviron.bioc for more information. |
| Package: nuCpos |
| Version: 1.26.0 |
| Command: /Library/Frameworks/R.framework/Resources/bin/R CMD check --install=check:nuCpos.install-out.txt --library=/Library/Frameworks/R.framework/Resources/library --no-vignettes --timings nuCpos_1.26.0.tar.gz |
| StartedAt: 2025-10-14 07:34:39 -0400 (Tue, 14 Oct 2025) |
| EndedAt: 2025-10-14 07:35:44 -0400 (Tue, 14 Oct 2025) |
| EllapsedTime: 65.4 seconds |
| RetCode: 0 |
| Status: OK |
| CheckDir: nuCpos.Rcheck |
| Warnings: 0 |
##############################################################################
##############################################################################
###
### Running command:
###
### /Library/Frameworks/R.framework/Resources/bin/R CMD check --install=check:nuCpos.install-out.txt --library=/Library/Frameworks/R.framework/Resources/library --no-vignettes --timings nuCpos_1.26.0.tar.gz
###
##############################################################################
##############################################################################
* using log directory ‘/Users/biocbuild/bbs-3.21-bioc/meat/nuCpos.Rcheck’
* using R version 4.5.1 RC (2025-06-05 r88288)
* using platform: x86_64-apple-darwin20
* R was compiled by
Apple clang version 14.0.0 (clang-1400.0.29.202)
GNU Fortran (GCC) 14.2.0
* running under: macOS Monterey 12.7.6
* using session charset: UTF-8
* using option ‘--no-vignettes’
* checking for file ‘nuCpos/DESCRIPTION’ ... OK
* this is package ‘nuCpos’ version ‘1.26.0’
* checking package namespace information ... OK
* checking package dependencies ... OK
* checking if this is a source package ... OK
* checking if there is a namespace ... OK
* checking for hidden files and directories ... OK
* checking for portable file names ... OK
* checking for sufficient/correct file permissions ... OK
* checking whether package ‘nuCpos’ can be installed ... OK
* checking installed package size ... OK
* checking package directory ... OK
* checking ‘build’ directory ... OK
* checking DESCRIPTION meta-information ... OK
* checking top-level files ... NOTE
File
LICENSE
is not mentioned in the DESCRIPTION file.
* checking for left-over files ... OK
* checking index information ... OK
* checking package subdirectories ... OK
* checking code files for non-ASCII characters ... OK
* checking R files for syntax errors ... OK
* checking whether the package can be loaded ... OK
* checking whether the package can be loaded with stated dependencies ... OK
* checking whether the package can be unloaded cleanly ... OK
* checking whether the namespace can be loaded with stated dependencies ... OK
* checking whether the namespace can be unloaded cleanly ... OK
* checking dependencies in R code ... OK
* checking S3 generic/method consistency ... OK
* checking replacement functions ... OK
* checking foreign function calls ... OK
* checking R code for possible problems ... OK
* checking Rd files ... OK
* checking Rd metadata ... OK
* checking Rd cross-references ... OK
* checking for missing documentation entries ... OK
* checking for code/documentation mismatches ... OK
* checking Rd \usage sections ... OK
* checking Rd contents ... OK
* checking for unstated dependencies in examples ... OK
* checking R/sysdata.rda ... NOTE
Note: significantly better compression could be obtained
by using R CMD build --resave-data
old_size new_size compress
sysdata.rda 2.2Mb 998Kb xz
* checking sizes of PDF files under ‘inst/doc’ ... OK
* checking files in ‘vignettes’ ... OK
* checking examples ... OK
Examples with CPU (user + system) or elapsed time > 5s
user system elapsed
HBA 4.843 0.237 5.092
* checking for unstated dependencies in ‘tests’ ... OK
* checking tests ...
Running ‘test_HBA.R’
Running ‘test_localHBA.R’
OK
* checking for unstated dependencies in vignettes ... OK
* checking package vignettes ... OK
* checking running R code from vignettes ... SKIPPED
* checking re-building of vignette outputs ... SKIPPED
* checking PDF version of manual ... OK
* DONE
Status: 2 NOTEs
See
‘/Users/biocbuild/bbs-3.21-bioc/meat/nuCpos.Rcheck/00check.log’
for details.
nuCpos.Rcheck/00install.out
############################################################################## ############################################################################## ### ### Running command: ### ### /Library/Frameworks/R.framework/Resources/bin/R CMD INSTALL nuCpos ### ############################################################################## ############################################################################## * installing to library ‘/Library/Frameworks/R.framework/Versions/4.5-x86_64/Resources/library’ * installing *source* package ‘nuCpos’ ... ** this is package ‘nuCpos’ version ‘1.26.0’ ** using staged installation ** R ** inst ** byte-compile and prepare package for lazy loading ** help *** installing help indices ** building package indices ** installing vignettes ** testing if installed package can be loaded from temporary location ** testing if installed package can be loaded from final location ** testing if installed package keeps a record of temporary installation path * DONE (nuCpos)
nuCpos.Rcheck/tests/test_HBA.Rout
R version 4.5.1 RC (2025-06-05 r88288) -- "Great Square Root"
Copyright (C) 2025 The R Foundation for Statistical Computing
Platform: x86_64-apple-darwin20
R is free software and comes with ABSOLUTELY NO WARRANTY.
You are welcome to redistribute it under certain conditions.
Type 'license()' or 'licence()' for distribution details.
R is a collaborative project with many contributors.
Type 'contributors()' for more information and
'citation()' on how to cite R or R packages in publications.
Type 'demo()' for some demos, 'help()' for on-line help, or
'help.start()' for an HTML browser interface to help.
Type 'q()' to quit R.
> test_HBA <- function(){
+ load(system.file("extdata","inseq.RData",package="nuCpos"))
+ load(system.file("extdata","INSEQ_DNAString.RData",package="nuCpos"))
+ inseq.N <- gsub(pattern = "A", replacement = "N", inseq)
+ mm.HBA <- -5.108546
+ sc.HBA <- -2.460025
+ sp.HBA <- -2.627370
+ expect_equal(unname(HBA(inseq, species = "mm", silent = TRUE)),
+ mm.HBA, tolerance = 1.0e-6)
+ expect_equal(unname(HBA(inseq, species = "sc", silent = TRUE)),
+ sc.HBA, tolerance = 1.0e-6)
+ expect_equal(unname(HBA(inseq, species = "sp", silent = TRUE)),
+ sp.HBA, tolerance = 1.0e-6)
+ expect_equal(unname(HBA(INSEQ, species = "mm", silent = TRUE)),
+ mm.HBA, tolerance = 1.0e-6)
+ expect_equal(unname(HBA(INSEQ, species = "sc", silent = TRUE)),
+ sc.HBA, tolerance = 1.0e-6)
+ expect_equal(unname(HBA(INSEQ, species = "sp", silent = TRUE)),
+ sp.HBA, tolerance = 1.0e-6)
+ expect_true(is.na(HBA("AAA", species = "mm", silent = TRUE)))
+ expect_true(is.na(HBA(123, species = "mm", silent = TRUE)))
+ expect_true(is.na(HBA(inseq.N, species = "mm", silent = TRUE)))
+ }
>
> proc.time()
user system elapsed
0.337 0.114 0.412
nuCpos.Rcheck/tests/test_localHBA.Rout
R version 4.5.1 RC (2025-06-05 r88288) -- "Great Square Root"
Copyright (C) 2025 The R Foundation for Statistical Computing
Platform: x86_64-apple-darwin20
R is free software and comes with ABSOLUTELY NO WARRANTY.
You are welcome to redistribute it under certain conditions.
Type 'license()' or 'licence()' for distribution details.
R is a collaborative project with many contributors.
Type 'contributors()' for more information and
'citation()' on how to cite R or R packages in publications.
Type 'demo()' for some demos, 'help()' for on-line help, or
'help.start()' for an HTML browser interface to help.
Type 'q()' to quit R.
> test_localHBA <- function(){
+ load(system.file("extdata","inseq.RData",package="nuCpos"))
+ load(system.file("extdata","INSEQ_DNAString.RData",package="nuCpos"))
+ inseq.N <- gsub(pattern = "A", replacement = "N", inseq)
+ mm.lHBA <- c(-1.26144039, -1.60878614, 0.04168163,
+ 0.67028283, 0.64609413, -2.04965343, -2.87359702,
+ -0.23010702, -0.45807823, -0.46043330, -0.45175477,
+ 0.02487367, -0.30991794)
+ sc.lHBA <- c(-1.56140949, -1.62502354, 0.48885990,
+ 2.37615568, 2.90458625, -1.35195919, -3.13228907,
+ -0.32208031, 0.27650871, 0.01922002, 0.49787625,
+ -0.17151500, -1.27186158)
+ sp.lHBA <- c(-1.566757163, -2.249651890, 1.188983606,
+ 1.808008192, 2.304915648, -0.290338951, -1.741081053,
+ -0.093952092, 0.119058916, -1.335654721, -0.001721381,
+ 0.244317796, -0.968842314)
+ expect_equal(unname(localHBA(inseq, species = "mm", silent = TRUE)),
+ mm.lHBA, tolerance = 1.0e-6)
+ expect_equal(unname(localHBA(inseq, species = "sc", silent = TRUE)),
+ sc.lHBA, tolerance = 1.0e-6)
+ expect_equal(unname(localHBA(inseq, species = "sp", silent = TRUE)),
+ sp.lHBA, tolerance = 1.0e-6)
+ expect_equal(unname(localHBA(INSEQ, species = "mm", silent = TRUE)),
+ mm.lHBA, tolerance = 1.0e-6)
+ expect_equal(unname(localHBA(INSEQ, species = "sc", silent = TRUE)),
+ sc.lHBA, tolerance = 1.0e-6)
+ expect_equal(unname(localHBA(INSEQ, species = "sp", silent = TRUE)),
+ sp.lHBA, tolerance = 1.0e-6)
+ expect_true(is.na(localHBA("AAA", species = "mm", silent = TRUE)))
+ expect_true(is.na(localHBA(123, species = "mm", silent = TRUE)))
+ expect_true(is.na(localHBA(inseq.N, species = "mm", silent = TRUE)))
+ }
>
> proc.time()
user system elapsed
0.340 0.117 0.417
nuCpos.Rcheck/nuCpos-Ex.timings
| name | user | system | elapsed | |
| HBA | 4.843 | 0.237 | 5.092 | |
| localHBA | 0.029 | 0.004 | 0.033 | |
| nuCpos-package | 0.012 | 0.002 | 0.014 | |